

BEGIN:VCALENDAR
VERSION:2.0
PRODID:-//Escuela Europea de Excelencia - ECPv6.15.20//NONSGML v1.0//EN
CALSCALE:GREGORIAN
METHOD:PUBLISH
X-WR-CALNAME:Escuela Europea de Excelencia
X-ORIGINAL-URL:https://www.escuelaeuropeaexcelencia.com
X-WR-CALDESC:Eventos para Escuela Europea de Excelencia
REFRESH-INTERVAL;VALUE=DURATION:PT1H
X-Robots-Tag:noindex
X-PUBLISHED-TTL:PT1H
BEGIN:VTIMEZONE
TZID:Europe/Madrid
BEGIN:DAYLIGHT
TZOFFSETFROM:+0100
TZOFFSETTO:+0200
TZNAME:CEST
DTSTART:20240331T010000
END:DAYLIGHT
BEGIN:STANDARD
TZOFFSETFROM:+0200
TZOFFSETTO:+0100
TZNAME:CET
DTSTART:20241027T010000
END:STANDARD
BEGIN:DAYLIGHT
TZOFFSETFROM:+0100
TZOFFSETTO:+0200
TZNAME:CEST
DTSTART:20250330T010000
END:DAYLIGHT
BEGIN:STANDARD
TZOFFSETFROM:+0200
TZOFFSETTO:+0100
TZNAME:CET
DTSTART:20251026T010000
END:STANDARD
BEGIN:DAYLIGHT
TZOFFSETFROM:+0100
TZOFFSETTO:+0200
TZNAME:CEST
DTSTART:20260329T010000
END:DAYLIGHT
BEGIN:STANDARD
TZOFFSETFROM:+0200
TZOFFSETTO:+0100
TZNAME:CET
DTSTART:20261025T010000
END:STANDARD
END:VTIMEZONE
BEGIN:VEVENT
DTSTART;TZID=Europe/Madrid:20250827T160000
DTEND;TZID=Europe/Madrid:20250827T173000
DTSTAMP:20260419T143055
CREATED:20250711T095056Z
LAST-MODIFIED:20250822T111413Z
UID:21149158-1756310400-1756315800@www.escuelaeuropeaexcelencia.com
SUMMARY:Workshop: ISO 45001: Control de Condiciones de Trabajo
DESCRIPTION:[vc_row row_content_position=»middle»][vc_column width=»2/12″][/vc_column][vc_column width=»8/12″ css=».vc_custom_1699538663174{background-color: #ffffff !important;}» el_class=»fecha-hora-evento»][vc_row_inner][vc_column_inner width=»1/12″][vc_column_text el_class=»fechaES-nueva»] \nFecha:\n[/vc_column_text][/vc_column_inner][vc_column_inner width=»4/12″][vc_acf field_group=»21099038″ field_from_21099038=»field_619b86bc5eb64″ field_from_99038=»field_6143b5884b940″ el_class=»fechaES-nueva»][/vc_column_inner][vc_column_inner width=»7/12″][vc_column_text css=»» el_class=»fecha-evento-nueva»]Hora:  Madrid\,España ⇨ 16:00-17:30h.[/vc_column_text][/vc_column_inner][/vc_row_inner][/vc_column][vc_column width=»2/12″ css=».vc_custom_1699531916970{background-color: #ffffff !important;}»][/vc_column][/vc_row][vc_section css_animation=»none» el_class=»puntos-y eventos» css=».vc_custom_1699544350413{margin-top: 30px !important;background-color: #f3f1f1 !important;}» el_id=»main-curso-eee»][vc_row el_class=»main-eventos»][vc_column width=»1/2″ el_class=»info-evento check»][vc_row_inner equal_height=»» content_placement=»» gap=»0″ is_sticky=»» sticky_container_selector=».vc_row» sticky_min_width=»767″ sticky_top=»110″ sticky_bottom=»0″ sticky_active_class=»sticky-active» animation_duration=»1000″ animation_delay=»0″ animation_type=»»][vc_column_inner][vc_column_text css=»»]La seguridad en el trabajo no puede dejarse al azar: debe medirse\, verificarse y mantenerse de forma constante. En este workshop abordaremos cómo controlar las condiciones de trabajo conforme a la norma ISO 45001\, garantizando que cada puesto\, equipo y espacio de trabajo cumpla con los estándares establecidos para proteger la salud y seguridad de los trabajadores. \nLas inspecciones periódicas\, la detección de desviaciones y el cumplimiento normativo son pilares fundamentales de un sistema de gestión SST eficaz. Sin una herramienta adecuada\, estos procesos resultan dispersos o poco trazables. Kantan centraliza y digitaliza estas tareas para mejorar la eficiencia\, la transparencia y la capacidad de respuesta ante riesgos identificados. \nDurante la sesión\, aprenderás a utilizar los checklists inteligentes de Kantan para evaluar las condiciones laborales en cada área de tu empresa\, registrar hallazgos\, automatizar notificaciones de no conformidades y dar seguimiento a las acciones correctivas. Así\, podrás convertir cada inspección en una oportunidad de mejora continua y prevención.[/vc_column_text][/vc_column_inner][/vc_row_inner][/vc_column][vc_column width=»1/2″][vc_custom_heading text=»Reserva tu plaza gratuita» font_container=»tag:h4|text_align:center|color:%23ffffff» google_fonts=»font_family:Source%20Sans%20Pro%3A200%2C200italic%2C300%2C300italic%2Cregular%2Citalic%2C600%2C600italic%2C700%2C700italic%2C900%2C900italic|font_style:400%20regular%3A400%3Anormal» el_class=»encabezado-form-evento»][vc_raw_html css=».vc_custom_1753698480862{padding-top: 30px !important;padding-right: 30px !important;padding-bottom: 30px !important;padding-left: 30px !important;background-color: #ffffff !important;}» el_class=»formulario-eventos»]JTNDc2NyaXB0JTIwY2hhcnNldCUzRCUyMnV0Zi04JTIyJTIwdHlwZSUzRCUyMnRleHQlMkZqYXZhc2NyaXB0JTIyJTIwc3JjJTNEJTIyJTJGJTJGanMuaHNmb3Jtcy5uZXQlMkZmb3JtcyUyRmVtYmVkJTJGdjIuanMlMjIlM0UlM0MlMkZzY3JpcHQlM0UlMEElM0NzY3JpcHQlM0UlMEElMjAlMjBoYnNwdC5mb3Jtcy5jcmVhdGUlMjglN0IlMEElMjAlMjAlMjAlMjBwb3J0YWxJZCUzQSUyMCUyMjQ1OTExNyUyMiUyQyUwQSUyMCUyMCUyMCUyMGZvcm1JZCUzQSUyMCUyMmQyYWEzODFiLWMzNjgtNGNmNy1hODhjLWJmZDMxMjcxMGQzOSUyMiUyQyUwQSUyMCUyMCUyMCUyMHJlZ2lvbiUzQSUyMCUyMm5hMSUyMiUwQSUyMCUyMCU3RCUyOSUzQiUwQSUzQyUyRnNjcmlwdCUzRQ==[/vc_raw_html][vc_row_inner css=».vc_custom_1699543777777{margin-top: 30px !important;}»][vc_column_inner el_class=»toggle-horario»]\n	\n			\n				Horario\n			\n		\n España ⇨ 16:00-17:30h.\n Ecuador ⇨ 9:00-10:30h.\n Colombia ⇨ 9:00-10:30h.\n Perú ⇨ 9:00-10:30h.\n Chile ⇨ 10:00-11:30h.\n México ⇨ 08:00-9:30h.\n Argentina ⇨ 11:00-12:30h.\n\n[/vc_column_inner][/vc_row_inner][/vc_column][/vc_row][vc_row el_class=»main-eventos» css=».vc_custom_1699529578560{margin-top: 50px !important;}»][vc_column][vc_separator color=»custom» css=».vc_custom_1699621499982{padding-bottom: 30px !important;}» accent_color=»#dddddd»][vc_row_inner column_inner_spacing=»60″ equal_height=»» content_placement=»» gap=»0″ is_sticky=»» sticky_container_selector=».vc_row» sticky_min_width=»767″ sticky_top=»110″ sticky_bottom=»0″ sticky_active_class=»sticky-active» animation_duration=»1000″ animation_delay=»0″ el_class=»info-evento» animation_type=»»][vc_column_inner el_class=»columna-objetivos» width=»1/2″][vc_column_text css=»» el_class=»mostrar-list»] \n \nObjetivos\nEste workshop tiene como finalidad capacitar a los participantes en el uso de Kantan para monitorear y auditar las condiciones laborales conforme a ISO 45001\, mediante checklists digitales que permiten controlar el cumplimiento normativo y gestionar acciones correctivas de forma estructurada y trazable.[/vc_column_text][/vc_column_inner][vc_column_inner width=»1/2″][vc_column_text css=»» el_class=»mostrar-list»] \n \nBeneficios de asistir a este evento\n\nAprenderás a implementar inspecciones de condiciones laborales con checklists personalizadas.\nAsegurarás el cumplimiento de los requisitos normativos en materia de SST mediante una herramienta práctica y digital.\nMejorarás la trazabilidad de las acciones correctivas y su seguimiento posterior.\nPodrás identificar condiciones peligrosas de manera anticipada y planificar mejoras concretas.\nRecibirás un certificado de participación que respalda tu participación en este evento de Kantan.\n\n[/vc_column_text][/vc_column_inner][/vc_row_inner][vc_separator color=»custom» css=».vc_custom_1699621499982{padding-bottom: 30px !important;}» accent_color=»#dddddd»][vc_column_text css=»» el_class=»mostrar-list»] \n \nDirigido a\n\nEste evento está diseñado para responsables de seguridad y salud laboral\, coordinadores HSE\, jefes de planta u operaciones\, consultores\, auditores internos y todo profesional implicado en la gestión de riesgos en el entorno laboral. Es ideal para organizaciones que quieren mejorar su desempeño en seguridad\, alinear sus prácticas con estándares como ISO 45001 y adoptar un enfoque más tecnológico\, eficiente y preventivo.\n\n[/vc_column_text][vc_separator color=»custom» css=».vc_custom_1699621523027{padding-top: 30px !important;padding-bottom: 30px !important;}» accent_color=»#dddddd»][/vc_column][/vc_row][vc_row el_class=»main-eventos» css=».vc_custom_1699529586676{margin-top: 50px !important;}»][vc_column][vc_row_inner equal_height=»» content_placement=»» gap=»0″ is_sticky=»» sticky_container_selector=».vc_row» sticky_min_width=»767″ sticky_top=»110″ sticky_bottom=»0″ sticky_active_class=»sticky-active» animation_duration=»1000″ animation_delay=»0″ el_id=»grid-docentes» animation_type=»» el_class=»slider-docentes info-evento»][vc_column_inner el_id=»docente»][vc_column_text] \nNuestros ponentes\n[/vc_column_text]\n        \n        \n            \n                 \n                \n                    \n            Julio Ardila\n          \nCONSULTOR EXPERTO DE ESG INNOVA COLOMBIA\n \n                \n                \n            \n        \n    \n        \n            \n                 \n                \n                    \n            Juan Pablo Gómez\n          \nCONSULTOR EXPERTO DE ESG INNOVA COLOMBIA\n \n                \n                \n            \n        \n    \n	[/vc_column_inner][/vc_row_inner][vc_row_inner equal_height=»» content_placement=»» gap=»0″ is_sticky=»» sticky_container_selector=».vc_row» sticky_min_width=»767″ sticky_top=»110″ sticky_bottom=»0″ sticky_active_class=»sticky-active» animation_duration=»1000″ animation_delay=»0″ el_class=»info-evento» animation_type=»»][vc_column_inner]\n	[vc_column_text] \nEmpresas colaboradoras\n[/vc_column_text][/vc_column_inner][/vc_row_inner][vc_row_inner equal_height=»» content_placement=»» gap=»0″ is_sticky=»» sticky_container_selector=».vc_row» sticky_min_width=»767″ sticky_top=»110″ sticky_bottom=»0″ sticky_active_class=»sticky-active» animation_duration=»1000″ animation_delay=»0″ animation_type=»» css=».vc_custom_1699527372388{margin-top: 10px !important;margin-bottom: 10px !important;}»][vc_column_inner width=»1/4″][vc_single_image image=»21099498″ css_animation=»fadeIn»][/vc_column_inner][vc_column_inner width=»1/4″][vc_single_image image=»21145227″ css_animation=»fadeIn»][/vc_column_inner][vc_column_inner width=»1/4″][/vc_column_inner][vc_column_inner width=»1/4″][/vc_column_inner][/vc_row_inner][/vc_column][/vc_row][/vc_section][vc_row][vc_column][vc_empty_space height=»160″][/vc_column][/vc_row]
URL:https://www.escuelaeuropeaexcelencia.com/evento/workshop-iso-45001-control-de-condiciones-de-trabajo/
CATEGORIES:Calidad,Eventos Club Alumni,Seguridad y Salud en el Trabajo
ATTACH;FMTTYPE=image/jpeg:https://www.escuelaeuropeaexcelencia.com/wp-content/uploads/2025/07/ISO-45001-Control-de-Condiciones-de-Trabajo.jpg
END:VEVENT
END:VCALENDAR