

BEGIN:VCALENDAR
VERSION:2.0
PRODID:-//Escuela Europea de Excelencia - ECPv6.15.20//NONSGML v1.0//EN
CALSCALE:GREGORIAN
METHOD:PUBLISH
X-WR-CALNAME:Escuela Europea de Excelencia
X-ORIGINAL-URL:https://www.escuelaeuropeaexcelencia.com
X-WR-CALDESC:Eventos para Escuela Europea de Excelencia
REFRESH-INTERVAL;VALUE=DURATION:PT1H
X-Robots-Tag:noindex
X-PUBLISHED-TTL:PT1H
BEGIN:VTIMEZONE
TZID:Europe/Madrid
BEGIN:DAYLIGHT
TZOFFSETFROM:+0100
TZOFFSETTO:+0200
TZNAME:CEST
DTSTART:20240331T010000
END:DAYLIGHT
BEGIN:STANDARD
TZOFFSETFROM:+0200
TZOFFSETTO:+0100
TZNAME:CET
DTSTART:20241027T010000
END:STANDARD
BEGIN:DAYLIGHT
TZOFFSETFROM:+0100
TZOFFSETTO:+0200
TZNAME:CEST
DTSTART:20250330T010000
END:DAYLIGHT
BEGIN:STANDARD
TZOFFSETFROM:+0200
TZOFFSETTO:+0100
TZNAME:CET
DTSTART:20251026T010000
END:STANDARD
BEGIN:DAYLIGHT
TZOFFSETFROM:+0100
TZOFFSETTO:+0200
TZNAME:CEST
DTSTART:20260329T010000
END:DAYLIGHT
BEGIN:STANDARD
TZOFFSETFROM:+0200
TZOFFSETTO:+0100
TZNAME:CET
DTSTART:20261025T010000
END:STANDARD
END:VTIMEZONE
BEGIN:VEVENT
DTSTART;TZID=Europe/Madrid:20250702T180000
DTEND;TZID=Europe/Madrid:20250702T190000
DTSTAMP:20260419T172515
CREATED:20250609T093740Z
LAST-MODIFIED:20250610T090732Z
UID:21148474-1751479200-1751482800@www.escuelaeuropeaexcelencia.com
SUMMARY:ISO 53001: Digitalización de la Gestión Sostenible con Inteligencia Artificial
DESCRIPTION:[vc_row row_content_position=»middle»][vc_column width=»2/12″][/vc_column][vc_column width=»8/12″ css=».vc_custom_1699538663174{background-color: #ffffff !important;}» el_class=»fecha-hora-evento»][vc_row_inner][vc_column_inner width=»1/12″][vc_column_text el_class=»fechaES-nueva»] \nFecha:\n[/vc_column_text][/vc_column_inner][vc_column_inner width=»4/12″][vc_acf field_group=»21099038″ field_from_21099038=»field_619b86bc5eb64″ field_from_99038=»field_6143b5884b940″ el_class=»fechaES-nueva»][/vc_column_inner][vc_column_inner width=»7/12″][vc_column_text el_class=»fecha-evento-nueva»]Hora:  Madrid\,España ⇨ 16:00-18:30h.[/vc_column_text][/vc_column_inner][/vc_row_inner][/vc_column][vc_column width=»2/12″ css=».vc_custom_1699531916970{background-color: #ffffff !important;}»][/vc_column][/vc_row][vc_section css_animation=»none» el_class=»puntos-y eventos» css=».vc_custom_1699544350413{margin-top: 30px !important;background-color: #f3f1f1 !important;}» el_id=»main-curso-eee»][vc_row el_class=»main-eventos»][vc_column width=»1/2″ el_class=»info-evento check»][vc_row_inner equal_height=»» content_placement=»» gap=»0″ is_sticky=»» sticky_container_selector=».vc_row» sticky_min_width=»767″ sticky_top=»110″ sticky_bottom=»0″ sticky_active_class=»sticky-active» animation_duration=»1000″ animation_delay=»0″ animation_type=»»][vc_column_inner][vc_column_text]La transformación digital y la sostenibilidad ya no son tendencias futuras\, sino realidades que marcan el presente de las organizaciones más competitivas. En este contexto\, te invitamos al Evento Especial de Kantan Software: “ISO 53001: Digitalización de la Gestión Sostenible con Inteligencia Artificial”\, una oportunidad única para anticiparte a los retos y oportunidades que trae consigo la futura norma ISO 53001.  \nEste encuentro reunirá a expertos en sostenibilidad\, transformación digital y gestión normativa para explorar cómo la inteligencia artificial y las soluciones tecnológicas de automatización están redefiniendo la forma de implementar sistemas de gestión alineados con los Objetivos de Desarrollo Sostenible (ODS).  \nDurante la jornada\, abordaremos los requisitos clave de la norma\, las ventajas de adoptar un enfoque digital y cómo Kantan Software se convierte en el aliado ideal para automatizar procesos\, optimizar recursos y garantizar un cumplimiento ágil y efectivo.  \nSi eres parte de un equipo que lidera la sostenibilidad\, la innovación o la excelencia operacional\, este evento es tu espacio para aprender\, conectar y protagonizar el cambio. ¡Prepárate para digitalizar el futuro de tu organización![/vc_column_text][/vc_column_inner][/vc_row_inner][/vc_column][vc_column width=»1/2″][vc_custom_heading text=»Reserva tu plaza gratuita» font_container=»tag:h4|text_align:center|color:%23ffffff» google_fonts=»font_family:Source%20Sans%20Pro%3A200%2C200italic%2C300%2C300italic%2Cregular%2Citalic%2C600%2C600italic%2C700%2C700italic%2C900%2C900italic|font_style:400%20regular%3A400%3Anormal» el_class=»encabezado-form-evento»][vc_raw_html css=».vc_custom_1749462181924{padding-top: 15px !important;padding-right: 15px !important;padding-bottom: 15px !important;padding-left: 25px !important;background-color: #ffffff !important;}» el_class=»formulario-eventos»]JTNDc2NyaXB0JTIwY2hhcnNldCUzRCUyMnV0Zi04JTIyJTIwdHlwZSUzRCUyMnRleHQlMkZqYXZhc2NyaXB0JTIyJTIwc3JjJTNEJTIyJTJGJTJGanMuaHNmb3Jtcy5uZXQlMkZmb3JtcyUyRmVtYmVkJTJGdjIuanMlMjIlM0UlM0MlMkZzY3JpcHQlM0UlMjAlMEElM0NzY3JpcHQlM0UlMjAlMEElMjAlMjAlMjBoYnNwdC5mb3Jtcy5jcmVhdGUlMjglN0IlMjAlMEElMjAlMjAlMjAlMjAlMjBwb3J0YWxJZCUzQSUyMCUyMjQ1OTExNyUyMiUyQyUyMCUwQSUyMCUyMCUyMCUyMCUyMGZvcm1JZCUzQSUyMCUyMmJhMmI4OTQyLTJjMmQtNGYyMi04N2EyLWE2MmQyYmRlNzJiOSUyMiUyQyUyMCUwQSUyMCUyMCUyMCUyMCUyMHJlZ2lvbiUzQSUyMCUyMm5hMSUyMiUyMCUwQSUyMCUyMCUyMCU3RCUyOSUzQiUyMCUwQSUzQyUyRnNjcmlwdCUzRQ==[/vc_raw_html][vc_row_inner css=».vc_custom_1699543777777{margin-top: 30px !important;}»][vc_column_inner el_class=»toggle-horario»]\n	\n			\n				Horario\n			\n		\n España ⇨ 16:00-18:30h.\n Ecuador ⇨ 10:00-12:30h.\n Colombia ⇨ 10:00-12:30h.\n Perú ⇨ 10:00-12:30h.\n Chile ⇨ 12:00-14:30h.\n México ⇨ 09:00-11:30h.\n Argentina ⇨ 12:00-14:30h.\n\n[/vc_column_inner][/vc_row_inner][/vc_column][/vc_row][vc_row el_class=»main-eventos» css=».vc_custom_1699529578560{margin-top: 50px !important;}»][vc_column][vc_separator color=»custom» css=».vc_custom_1699621499982{padding-bottom: 30px !important;}» accent_color=»#dddddd»][vc_row_inner column_inner_spacing=»60″ equal_height=»» content_placement=»» gap=»0″ is_sticky=»» sticky_container_selector=».vc_row» sticky_min_width=»767″ sticky_top=»110″ sticky_bottom=»0″ sticky_active_class=»sticky-active» animation_duration=»1000″ animation_delay=»0″ el_class=»info-evento» animation_type=»»][vc_column_inner width=»1/3″][vc_column_text el_class=»mostrar-list»] \nObjetivos\n\nEl objetivo de este evento es ofrecer a profesionales y organizaciones una visión estratégica sobre la futura norma ISO 53001\, destacando su relación con los Objetivos de Desarrollo Sostenible (ODS) y el papel clave de la digitalización en su implementación. A través de ponencias especializadas y una demostración en vivo con Kantan Software\, los asistentes comprenderán cómo la inteligencia artificial y la automatización de procesos pueden facilitar una gestión sostenible\, eficiente y alineada con los desafíos globales actuales.\n\n[/vc_column_text][/vc_column_inner][vc_column_inner width=»1/3″][vc_column_text el_class=»mostrar-list»] \nBeneficios de asistir a este evento\n\nConoce la nueva norma ISO 53001: Entiende los requisitos y beneficios de implementar un sistema de gestión orientado a los ODS. \nExplora soluciones digitales: Aprende cómo Kantan Software automatiza procesos clave para cumplir con la ISO 53001. \nEscucha a expertos en sostenibilidad: Participa en sesiones con líderes en gestión sostenible y transformación digital.\n\n[/vc_column_text][/vc_column_inner][vc_column_inner width=»1/3″][vc_column_text el_class=»mostrar-list»] \nDirigido a\n\nDirectores y gerentes de sostenibilidad\, responsabilidad social y cumplimiento normativo. \nProfesionales encargados de implementar y mantener sistemas de gestión alineados con los ODS. \nConsultores y auditores interesados en la nueva norma ISO 53001. \nEquipos de tecnología e innovación enfocados en soluciones para la sostenibilidad. \n\n[/vc_column_text][/vc_column_inner][/vc_row_inner][vc_separator color=»custom» css=».vc_custom_1699621523027{padding-top: 30px !important;padding-bottom: 30px !important;}» accent_color=»#dddddd»][/vc_column][/vc_row][vc_row el_class=»main-eventos» css=».vc_custom_1699529586676{margin-top: 50px !important;}»][vc_column][vc_row_inner equal_height=»» content_placement=»» gap=»0″ is_sticky=»» sticky_container_selector=».vc_row» sticky_min_width=»767″ sticky_top=»110″ sticky_bottom=»0″ sticky_active_class=»sticky-active» animation_duration=»1000″ animation_delay=»0″ el_id=»grid-docentes» animation_type=»» el_class=»slider-docentes info-evento»][vc_column_inner el_id=»docente»][vc_column_text] \nNuestros ponentes\n[/vc_column_text]\n        \n        \n            \n                 \n                \n                    \n            Johana Henao\n          \nEJECUTIVA COMERCIAL DE ESG INNOVA COLOMBIA\n \n                \n                \n            \n        \n    \n        \n            \n                 \n                \n                    \n            Natalia Petrelli\n          \nCOUNTRY MANAGER DE ESG INNOVA COLOMBIA\n \n                \n                \n            \n        \n    \n        \n            \n                 \n                \n                    \n            Juan Pablo Gómez\n          \nCONSULTOR EXPERTO DE ESG INNOVA COLOMBIA\n \n                \n                \n            \n        \n    \n	[/vc_column_inner][/vc_row_inner][vc_row_inner equal_height=»» content_placement=»» gap=»0″ is_sticky=»» sticky_container_selector=».vc_row» sticky_min_width=»767″ sticky_top=»110″ sticky_bottom=»0″ sticky_active_class=»sticky-active» animation_duration=»1000″ animation_delay=»0″ el_class=»info-evento» animation_type=»»][vc_column_inner]\n	[vc_column_text] \nEmpresas colaboradoras\n[/vc_column_text][/vc_column_inner][/vc_row_inner][vc_row_inner equal_height=»» content_placement=»» gap=»0″ is_sticky=»» sticky_container_selector=».vc_row» sticky_min_width=»767″ sticky_top=»110″ sticky_bottom=»0″ sticky_active_class=»sticky-active» animation_duration=»1000″ animation_delay=»0″ animation_type=»» css=».vc_custom_1699527372388{margin-top: 10px !important;margin-bottom: 10px !important;}»][vc_column_inner width=»1/4″][vc_single_image image=»21099498″ css_animation=»fadeIn»][/vc_column_inner][vc_column_inner width=»1/4″][vc_single_image image=»21145227″ css_animation=»fadeIn»][/vc_column_inner][vc_column_inner width=»1/4″][/vc_column_inner][vc_column_inner width=»1/4″][/vc_column_inner][/vc_row_inner][/vc_column][/vc_row][/vc_section][vc_row][vc_column][vc_empty_space height=»160″][/vc_column][/vc_row]
URL:https://www.escuelaeuropeaexcelencia.com/evento/iso-53001-digitalizacion-de-la-gestion-sostenible-con-inteligencia-artificial/
CATEGORIES:Calidad,Eventos Club Alumni
ATTACH;FMTTYPE=image/jpeg:https://www.escuelaeuropeaexcelencia.com/wp-content/uploads/2025/06/Especial-Digitalizacion-de-la-Gestion-Sostenible-con-Inteligencia-Artificial.jpg
END:VEVENT
END:VCALENDAR