

BEGIN:VCALENDAR
VERSION:2.0
PRODID:-//Escuela Europea de Excelencia - ECPv6.15.20//NONSGML v1.0//EN
CALSCALE:GREGORIAN
METHOD:PUBLISH
X-ORIGINAL-URL:https://www.escuelaeuropeaexcelencia.com
X-WR-CALDESC:Eventos para Escuela Europea de Excelencia
REFRESH-INTERVAL;VALUE=DURATION:PT1H
X-Robots-Tag:noindex
X-PUBLISHED-TTL:PT1H
BEGIN:VTIMEZONE
TZID:Europe/Madrid
BEGIN:DAYLIGHT
TZOFFSETFROM:+0100
TZOFFSETTO:+0200
TZNAME:CEST
DTSTART:20240331T010000
END:DAYLIGHT
BEGIN:STANDARD
TZOFFSETFROM:+0200
TZOFFSETTO:+0100
TZNAME:CET
DTSTART:20241027T010000
END:STANDARD
BEGIN:DAYLIGHT
TZOFFSETFROM:+0100
TZOFFSETTO:+0200
TZNAME:CEST
DTSTART:20250330T010000
END:DAYLIGHT
BEGIN:STANDARD
TZOFFSETFROM:+0200
TZOFFSETTO:+0100
TZNAME:CET
DTSTART:20251026T010000
END:STANDARD
BEGIN:DAYLIGHT
TZOFFSETFROM:+0100
TZOFFSETTO:+0200
TZNAME:CEST
DTSTART:20260329T010000
END:DAYLIGHT
BEGIN:STANDARD
TZOFFSETFROM:+0200
TZOFFSETTO:+0100
TZNAME:CET
DTSTART:20261025T010000
END:STANDARD
END:VTIMEZONE
BEGIN:VEVENT
DTSTART;TZID=Europe/Madrid:20250625T180000
DTEND;TZID=Europe/Madrid:20250625T190000
DTSTAMP:20260419T172724
CREATED:20250521T102310Z
LAST-MODIFIED:20250521T102700Z
UID:21148180-1750874400-1750878000@www.escuelaeuropeaexcelencia.com
SUMMARY:Workshop: Gestión de cambios en los procesos ambientales de ISO 14001
DESCRIPTION:[vc_row row_content_position=»middle»][vc_column width=»2/12″][/vc_column][vc_column width=»8/12″ css=».vc_custom_1699538663174{background-color: #ffffff !important;}» el_class=»fecha-hora-evento»][vc_row_inner][vc_column_inner width=»1/12″][vc_column_text el_class=»fechaES-nueva»] \nFecha:\n[/vc_column_text][/vc_column_inner][vc_column_inner width=»4/12″][vc_acf field_group=»21099038″ field_from_21099038=»field_619b86bc5eb64″ field_from_99038=»field_6143b5884b940″ el_class=»fechaES-nueva»][/vc_column_inner][vc_column_inner width=»7/12″][vc_column_text el_class=»fecha-evento-nueva»]Hora:  Madrid\,España ⇨ 16:00-18:30h.[/vc_column_text][/vc_column_inner][/vc_row_inner][/vc_column][vc_column width=»2/12″ css=».vc_custom_1699531916970{background-color: #ffffff !important;}»][/vc_column][/vc_row][vc_section css_animation=»none» el_class=»puntos-y eventos» css=».vc_custom_1699544350413{margin-top: 30px !important;background-color: #f3f1f1 !important;}» el_id=»main-curso-eee»][vc_row el_class=»main-eventos»][vc_column width=»1/2″ el_class=»info-evento check»][vc_row_inner equal_height=»» content_placement=»» gap=»0″ is_sticky=»» sticky_container_selector=».vc_row» sticky_min_width=»767″ sticky_top=»110″ sticky_bottom=»0″ sticky_active_class=»sticky-active» animation_duration=»1000″ animation_delay=»0″ animation_type=»»][vc_column_inner][vc_column_text]¿Tu organización enfrenta dificultades al gestionar cambios que afectan al medio ambiente? La falta de control en estos procesos puede generar impactos ambientales negativos\, no conformidades e incluso sanciones legales. \nEn este workshop descubrirás cómo aplicar correctamente la gestión del cambio exigida por la norma ISO 14001:2015\, integrándola al ciclo de mejora continua. Aprenderás a identificar\, evaluar y controlar los cambios que afectan a los aspectos ambientales de tu organización. Con ejemplos reales y herramientas prácticas\, podrás transformar tu SGA en un sistema preventivo y resiliente. \nInscríbete ahora y apuesta porque cada cambio sea una oportunidad para mejorar el desempeño ambiental y fortalecer tu compromiso con la sostenibilidad. ¡Súmate al cambio y haz de tu gestión ambiental un modelo de excelencia![/vc_column_text][/vc_column_inner][/vc_row_inner][/vc_column][vc_column width=»1/2″][vc_custom_heading text=»Reserva tu plaza gratuita» font_container=»tag:h4|text_align:center|color:%23ffffff» google_fonts=»font_family:Source%20Sans%20Pro%3A200%2C200italic%2C300%2C300italic%2Cregular%2Citalic%2C600%2C600italic%2C700%2C700italic%2C900%2C900italic|font_style:400%20regular%3A400%3Anormal» el_class=»encabezado-form-evento»][vc_raw_html el_class=»formulario-eventos» css=».vc_custom_1747823115420{padding-top: 30px !important;padding-right: 30px !important;padding-bottom: 30px !important;padding-left: 30px !important;background-color: #ffffff !important;}»]JTNDc2NyaXB0JTIwY2hhcnNldCUzRCUyMnV0Zi04JTIyJTIwdHlwZSUzRCUyMnRleHQlMkZqYXZhc2NyaXB0JTIyJTIwc3JjJTNEJTIyJTJGJTJGanMuaHNmb3Jtcy5uZXQlMkZmb3JtcyUyRmVtYmVkJTJGdjIuanMlMjIlM0UlM0MlMkZzY3JpcHQlM0UlMEElM0NzY3JpcHQlM0UlMEElMjAlMjBoYnNwdC5mb3Jtcy5jcmVhdGUlMjglN0IlMEElMDlwb3J0YWxJZCUzQSUyMCUyMjQ1OTExNyUyMiUyQyUwQSUwOWZvcm1JZCUzQSUyMCUyMjVkN2JkNDczLWYwZTQtNDg0OS1hNzRjLTg0NTZiNWI5OWU1YSUyMiUyQyUwQSUwOXJlZ2lvbiUzQSUyMCUyMm5hMSUyMiUwQSUyMCUyMCU3RCUyOSUzQiUwQSUzQyUyRnNjcmlwdCUzRQ==[/vc_raw_html][vc_row_inner css=».vc_custom_1699543777777{margin-top: 30px !important;}»][vc_column_inner el_class=»toggle-horario»]\n	\n			\n				Horario\n			\n		\n España ⇨ 16:00-18:30h.\n Ecuador ⇨ 9:00-11:30h.\n Colombia ⇨ 9:00-11:30h.\n Perú ⇨ 9:00-11:30h.\n Chile ⇨ 10:00-12:30h.\n México ⇨ 08:00-10:30h.\n Argentina ⇨ 11:00-13:30h.\n\n[/vc_column_inner][/vc_row_inner][/vc_column][/vc_row][vc_row el_class=»main-eventos» css=».vc_custom_1699529578560{margin-top: 50px !important;}»][vc_column][vc_separator color=»custom» accent_color=»#dddddd» css=».vc_custom_1699621499982{padding-bottom: 30px !important;}»][vc_row_inner column_inner_spacing=»60″ equal_height=»» content_placement=»» gap=»0″ is_sticky=»» sticky_container_selector=».vc_row» sticky_min_width=»767″ sticky_top=»110″ sticky_bottom=»0″ sticky_active_class=»sticky-active» animation_duration=»1000″ animation_delay=»0″ el_class=»info-evento» animation_type=»»][vc_column_inner el_class=»columna-objetivos» width=»1/2″][vc_column_text el_class=»mostrar-list»] \n \nObjetivos\n\nEl objetivo principal de este workshop es brindar a los participantes los conocimientos y herramientas clave para gestionar de forma eficaz los cambios dentro del Sistema de Gestión Ambiental (SGA)\, en cumplimiento con los requisitos de la norma ISO 14001:2015. La formación busca fortalecer la capacidad organizacional para anticiparse\, evaluar y controlar los impactos ambientales asociados a modificaciones en procesos\, tecnologías o estructuras. Promoviendo una cultura preventiva y de mejora continua\, este workshop ofrece un enfoque práctico que permitirá transformar cada cambio en una oportunidad para mejorar el desempeño ambiental y minimizar riesgos operativos.\n\n[/vc_column_text][/vc_column_inner][vc_column_inner width=»1/2″][vc_column_text el_class=»mostrar-list»] \n \nBeneficios de asistir a este evento\n\nAplicación práctica de la norma ISO 14001:2015: Aprenderás a interpretar y aplicar de forma operativa los requisitos relacionados con la gestión del cambio\, especialmente en los apartados 6.1.4 y 8.1. Esto te permitirá adaptar tu SGA a cambios reales con criterio técnico y cumplimiento normativo.\nReducción de riesgos e impactos ambientales: Desarrollarás la capacidad de evaluar y mitigar los efectos ambientales antes de implementar cambios\, lo que ayuda a prevenir no conformidades\, sanciones y daños reputacionales. \nMejora del desempeño ambiental organizacional: Incorporarás herramientas y buenas prácticas que te permitirán transformar cada cambio en una oportunidad de mejora\, reforzando los resultados del sistema ambiental y su integración con otros sistemas de gestión.\n\n[/vc_column_text][/vc_column_inner][/vc_row_inner][vc_separator color=»custom» accent_color=»#dddddd» css=».vc_custom_1699621499982{padding-bottom: 30px !important;}»][vc_column_text el_class=»mostrar-list»] \n \nDirigido a\n\nEste evento está dirigido a profesionales responsables de la gestión ambiental en organizaciones de cualquier sector\, incluyendo coordinadores de SGA\, responsables de medio ambiente\, auditores internos\, consultores y personal técnico involucrado en procesos de cambio. También es ideal para quienes participan en la planificación\, implementación o mejora de sistemas integrados de gestión. El workshop es especialmente útil para organizaciones que buscan alinearse con ISO 14001:2015 y fortalecer su capacidad para anticipar y controlar los impactos ambientales derivados de cambios operativos o estratégicos.\n\n[/vc_column_text][vc_separator color=»custom» accent_color=»#dddddd» css=».vc_custom_1699621523027{padding-top: 30px !important;padding-bottom: 30px !important;}»][/vc_column][/vc_row][vc_row el_class=»main-eventos» css=».vc_custom_1699529586676{margin-top: 50px !important;}»][vc_column][vc_row_inner equal_height=»» content_placement=»» gap=»0″ is_sticky=»» sticky_container_selector=».vc_row» sticky_min_width=»767″ sticky_top=»110″ sticky_bottom=»0″ sticky_active_class=»sticky-active» animation_duration=»1000″ animation_delay=»0″ el_id=»grid-docentes» animation_type=»» el_class=»slider-docentes info-evento»][vc_column_inner el_id=»docente»][vc_column_text] \nNuestros ponentes\n[/vc_column_text]\n        \n        \n            \n                 \n                \n                    \n            Julio Ardila\n          \nCONSULTOR EXPERTO DE ESG INNOVA COLOMBIA\n \n                \n                \n            \n        \n    \n        \n            \n                 \n                \n                    \n            Juan Pablo Gómez\n          \nCONSULTOR EXPERTO DE ESG INNOVA COLOMBIA\n \n                \n                \n            \n        \n    \n	[/vc_column_inner][/vc_row_inner][vc_row_inner equal_height=»» content_placement=»» gap=»0″ is_sticky=»» sticky_container_selector=».vc_row» sticky_min_width=»767″ sticky_top=»110″ sticky_bottom=»0″ sticky_active_class=»sticky-active» animation_duration=»1000″ animation_delay=»0″ el_class=»info-evento» animation_type=»»][vc_column_inner]\n	[vc_column_text] \nEmpresas colaboradoras\n[/vc_column_text][/vc_column_inner][/vc_row_inner][vc_row_inner equal_height=»» content_placement=»» gap=»0″ is_sticky=»» sticky_container_selector=».vc_row» sticky_min_width=»767″ sticky_top=»110″ sticky_bottom=»0″ sticky_active_class=»sticky-active» animation_duration=»1000″ animation_delay=»0″ animation_type=»» css=».vc_custom_1699527372388{margin-top: 10px !important;margin-bottom: 10px !important;}»][vc_column_inner width=»1/4″][vc_single_image image=»21099498″ css_animation=»fadeIn»][/vc_column_inner][vc_column_inner width=»1/4″][vc_single_image image=»21145227″ css_animation=»fadeIn»][/vc_column_inner][vc_column_inner width=»1/4″][/vc_column_inner][vc_column_inner width=»1/4″][/vc_column_inner][/vc_row_inner][/vc_column][/vc_row][/vc_section][vc_row][vc_column][vc_empty_space height=»160″][/vc_column][/vc_row]
URL:https://www.escuelaeuropeaexcelencia.com/evento/workshop-gestion-de-cambios-en-los-procesos-ambientales-de-iso-14001/
CATEGORIES:Calidad,Eventos Club Alumni
ATTACH;FMTTYPE=image/jpeg:https://www.escuelaeuropeaexcelencia.com/wp-content/uploads/2025/05/Planificacion-y-Control-Operacional-Ambiental-segun-la-ISO-14001.jpg
END:VEVENT
END:VCALENDAR