

BEGIN:VCALENDAR
VERSION:2.0
PRODID:-//Escuela Europea de Excelencia - ECPv6.15.20//NONSGML v1.0//EN
CALSCALE:GREGORIAN
METHOD:PUBLISH
X-ORIGINAL-URL:https://www.escuelaeuropeaexcelencia.com
X-WR-CALDESC:Eventos para Escuela Europea de Excelencia
REFRESH-INTERVAL;VALUE=DURATION:PT1H
X-Robots-Tag:noindex
X-PUBLISHED-TTL:PT1H
BEGIN:VTIMEZONE
TZID:Europe/Madrid
BEGIN:DAYLIGHT
TZOFFSETFROM:+0100
TZOFFSETTO:+0200
TZNAME:CEST
DTSTART:20240331T010000
END:DAYLIGHT
BEGIN:STANDARD
TZOFFSETFROM:+0200
TZOFFSETTO:+0100
TZNAME:CET
DTSTART:20241027T010000
END:STANDARD
BEGIN:DAYLIGHT
TZOFFSETFROM:+0100
TZOFFSETTO:+0200
TZNAME:CEST
DTSTART:20250330T010000
END:DAYLIGHT
BEGIN:STANDARD
TZOFFSETFROM:+0200
TZOFFSETTO:+0100
TZNAME:CET
DTSTART:20251026T010000
END:STANDARD
BEGIN:DAYLIGHT
TZOFFSETFROM:+0100
TZOFFSETTO:+0200
TZNAME:CEST
DTSTART:20260329T010000
END:DAYLIGHT
BEGIN:STANDARD
TZOFFSETFROM:+0200
TZOFFSETTO:+0100
TZNAME:CET
DTSTART:20261025T010000
END:STANDARD
END:VTIMEZONE
BEGIN:VEVENT
DTSTART;TZID=Europe/Madrid:20250611T180000
DTEND;TZID=Europe/Madrid:20250611T190000
DTSTAMP:20260419T172750
CREATED:20250520T064931Z
LAST-MODIFIED:20250520T065614Z
UID:21148156-1749664800-1749668400@www.escuelaeuropeaexcelencia.com
SUMMARY:Workshop: Cumple con los Requisitos Legales y Normativos de la ISO 14001:2015
DESCRIPTION:[vc_row row_content_position=»middle»][vc_column width=»2/12″][/vc_column][vc_column width=»8/12″ css=».vc_custom_1699538663174{background-color: #ffffff !important;}» el_class=»fecha-hora-evento»][vc_row_inner][vc_column_inner width=»1/12″][vc_column_text el_class=»fechaES-nueva»] \nFecha:\n[/vc_column_text][/vc_column_inner][vc_column_inner width=»4/12″][vc_acf field_group=»21099038″ field_from_21099038=»field_619b86bc5eb64″ field_from_99038=»field_6143b5884b940″ el_class=»fechaES-nueva»][/vc_column_inner][vc_column_inner width=»7/12″][vc_column_text el_class=»fecha-evento-nueva»]Hora:  Madrid\,España ⇨ 16:00-18:30h.[/vc_column_text][/vc_column_inner][/vc_row_inner][/vc_column][vc_column width=»2/12″ css=».vc_custom_1699531916970{background-color: #ffffff !important;}»][/vc_column][/vc_row][vc_section css_animation=»none» el_class=»puntos-y eventos» css=».vc_custom_1699544350413{margin-top: 30px !important;background-color: #f3f1f1 !important;}» el_id=»main-curso-eee»][vc_row el_class=»main-eventos»][vc_column width=»1/2″ el_class=»info-evento check»][vc_row_inner equal_height=»» content_placement=»» gap=»0″ is_sticky=»» sticky_container_selector=».vc_row» sticky_min_width=»767″ sticky_top=»110″ sticky_bottom=»0″ sticky_active_class=»sticky-active» animation_duration=»1000″ animation_delay=»0″ animation_type=»»][vc_column_inner][vc_column_text]En este workshop\, aprenderás a utilizar Kantan Software para asegurar que todas las operaciones de tu organización cumplan de manera integral con los requisitos legales y las normativas ambientales establecidas en la ISO 14001:2015. A lo largo del evento\, te guiaremos en la implementación y gestión de los checklists de cumplimiento dentro de la plataforma\, permitiéndote asegurar que cada fase de las actividades operacionales esté alineada con las leyes y regulaciones vigentes\, sin importar los cambios que puedan surgir en el entorno normativo.  \nTe mostraremos cómo personalizar y optimizar los procesos operacionales para cumplir con los requisitos legales en tiempo real. Además\, descubrirás cómo Kantan facilita la automatización de alertas y notificaciones\, avisándote automáticamente cuando se produzcan modificaciones en la legislación o cuando debas realizar ajustes en los procesos para seguir cumpliendo con las normativas ambientales.  \nEsto te permitirá mantener un control continuo y efectivo de las operaciones\, garantizando el cumplimiento normativo de manera proactiva y sin margen de error\, lo cual es clave para asegurar la sostenibilidad de la organización y mitigar riesgos asociados a incumplimientos.[/vc_column_text][/vc_column_inner][/vc_row_inner][/vc_column][vc_column width=»1/2″][vc_custom_heading text=»Reserva tu plaza gratuita» font_container=»tag:h4|text_align:center|color:%23ffffff» google_fonts=»font_family:Source%20Sans%20Pro%3A200%2C200italic%2C300%2C300italic%2Cregular%2Citalic%2C600%2C600italic%2C700%2C700italic%2C900%2C900italic|font_style:400%20regular%3A400%3Anormal» el_class=»encabezado-form-evento»][vc_raw_html el_class=»formulario-eventos» css=».vc_custom_1747723887886{padding-top: 30px !important;padding-right: 30px !important;padding-bottom: 30px !important;padding-left: 30px !important;background-color: #ffffff !important;}»]JTNDc2NyaXB0JTIwY2hhcnNldCUzRCUyMnV0Zi04JTIyJTIwdHlwZSUzRCUyMnRleHQlMkZqYXZhc2NyaXB0JTIyJTIwc3JjJTNEJTIyJTJGJTJGanMuaHNmb3Jtcy5uZXQlMkZmb3JtcyUyRmVtYmVkJTJGdjIuanMlMjIlM0UlM0MlMkZzY3JpcHQlM0UlMEElM0NzY3JpcHQlM0UlMEElMjAlMjBoYnNwdC5mb3Jtcy5jcmVhdGUlMjglN0IlMEElMDlwb3J0YWxJZCUzQSUyMCUyMjQ1OTExNyUyMiUyQyUwQSUwOWZvcm1JZCUzQSUyMCUyMmE3NmMwZDBkLTlhMTItNDI5Ny05OGE0LWZkMDU4YWYzYWVlOSUyMiUyQyUwQSUwOXJlZ2lvbiUzQSUyMCUyMm5hMSUyMiUwQSUyMCUyMCU3RCUyOSUzQiUwQSUzQyUyRnNjcmlwdCUzRQ==[/vc_raw_html][vc_row_inner css=».vc_custom_1699543777777{margin-top: 30px !important;}»][vc_column_inner el_class=»toggle-horario»]\n	\n			\n				Horario\n			\n		\n España ⇨ 16:00-18:30h.\n Ecuador ⇨ 9:00-11:30h.\n Colombia ⇨ 9:00-11:30h.\n Perú ⇨ 9:00-11:30h.\n Chile ⇨ 10:00-12:30h.\n México ⇨ 08:00-10:30h.\n Argentina ⇨ 11:00-13:30h.\n\n[/vc_column_inner][/vc_row_inner][/vc_column][/vc_row][vc_row el_class=»main-eventos» css=».vc_custom_1699529578560{margin-top: 50px !important;}»][vc_column][vc_separator color=»custom» accent_color=»#dddddd» css=».vc_custom_1699621499982{padding-bottom: 30px !important;}»][vc_row_inner column_inner_spacing=»60″ equal_height=»» content_placement=»» gap=»0″ is_sticky=»» sticky_container_selector=».vc_row» sticky_min_width=»767″ sticky_top=»110″ sticky_bottom=»0″ sticky_active_class=»sticky-active» animation_duration=»1000″ animation_delay=»0″ el_class=»info-evento» animation_type=»»][vc_column_inner el_class=»columna-objetivos» width=»1/2″][vc_column_text el_class=»mostrar-list»] \n \nObjetivos\n\nEl objetivo principal de este workshop es enseñar a los participantes cómo utilizar Kantan Software para gestionar y asegurar el cumplimiento de los requisitos legales y normativos ambientales establecidos por la ISO 14001:2015. Los asistentes aprenderán a crear y gestionar checklists de cumplimiento\, realizar un seguimiento continuo de las operaciones para garantizar su alineación con las leyes vigentes\, y cómo automatizar alertas ante posibles cambios legislativos\, facilitando el control y la actualización constante de los procesos operacionales.\n\n[/vc_column_text][/vc_column_inner][vc_column_inner width=»1/2″][vc_column_text el_class=»mostrar-list»] \n \nBeneficios de asistir a este evento\n\nCumplimiento normativo asegurado: Aprenderás a gestionar de manera efectiva los requisitos legales y normativos ambientales\, garantizando que todas las operaciones de tu empresa cumplan con las leyes vigentes\, reduciendo riesgos legales y operacionales.\nAutomatización de alertas: Descubrirás cómo Kantan puede automatizar la generación de alertas cuando haya cambios en la legislación o en las normativas ambientales\, lo que facilitará el seguimiento y la adaptación a nuevos requerimientos sin esfuerzo manual.\nMejora de la eficiencia operativa: Conocerás cómo crear y gestionar checklists de cumplimiento que optimicen el control de las actividades operacionales\, asegurando que los procesos estén siempre alineados con los estándares de calidad y ambientales\, lo que aumentará la eficiencia y reducirá posibles desviaciones.\n\n[/vc_column_text][/vc_column_inner][/vc_row_inner][vc_separator color=»custom» accent_color=»#dddddd» css=».vc_custom_1699621499982{padding-bottom: 30px !important;}»][vc_column_text el_class=»mostrar-list»] \n \nDirigido a\n\nEste workshop está dirigido a responsables de calidad\, medio ambiente\, gestión de riesgos y cumplimiento normativo dentro de organizaciones que buscan cumplir con los requisitos legales y normativos de la ISO 14001:2015. Está especialmente orientado a profesionales que gestionan procesos operacionales y desean integrar de manera eficiente las normativas ambientales en su sistema de gestión\, optimizando la toma de decisiones y asegurando el cumplimiento continuo de la legislación aplicable. También es adecuado para equipos encargados de la mejora continua y la adaptación a cambios regulatorios en empresas de cualquier sector que necesiten cumplir con estándares ambientales internacionales.\n\n[/vc_column_text][vc_separator color=»custom» accent_color=»#dddddd» css=».vc_custom_1699621523027{padding-top: 30px !important;padding-bottom: 30px !important;}»][/vc_column][/vc_row][vc_row el_class=»main-eventos» css=».vc_custom_1699529586676{margin-top: 50px !important;}»][vc_column][vc_row_inner equal_height=»» content_placement=»» gap=»0″ is_sticky=»» sticky_container_selector=».vc_row» sticky_min_width=»767″ sticky_top=»110″ sticky_bottom=»0″ sticky_active_class=»sticky-active» animation_duration=»1000″ animation_delay=»0″ el_id=»grid-docentes» animation_type=»» el_class=»slider-docentes info-evento»][vc_column_inner el_id=»docente»][vc_column_text] \nNuestros ponentes\n[/vc_column_text]\n        \n        \n            \n                 \n                \n                    \n            Julio Ardila\n          \nCONSULTOR EXPERTO DE ESG INNOVA COLOMBIA\n \n                \n                \n            \n        \n    \n        \n            \n                 \n                \n                    \n            Juan Pablo Gómez\n          \nCONSULTOR EXPERTO DE ESG INNOVA COLOMBIA\n \n                \n                \n            \n        \n    \n	[/vc_column_inner][/vc_row_inner][vc_row_inner equal_height=»» content_placement=»» gap=»0″ is_sticky=»» sticky_container_selector=».vc_row» sticky_min_width=»767″ sticky_top=»110″ sticky_bottom=»0″ sticky_active_class=»sticky-active» animation_duration=»1000″ animation_delay=»0″ el_class=»info-evento» animation_type=»»][vc_column_inner]\n	[vc_column_text] \nEmpresas colaboradoras\n[/vc_column_text][/vc_column_inner][/vc_row_inner][vc_row_inner equal_height=»» content_placement=»» gap=»0″ is_sticky=»» sticky_container_selector=».vc_row» sticky_min_width=»767″ sticky_top=»110″ sticky_bottom=»0″ sticky_active_class=»sticky-active» animation_duration=»1000″ animation_delay=»0″ animation_type=»» css=».vc_custom_1699527372388{margin-top: 10px !important;margin-bottom: 10px !important;}»][vc_column_inner width=»1/4″][vc_single_image image=»21099498″ css_animation=»fadeIn»][/vc_column_inner][vc_column_inner width=»1/4″][vc_single_image image=»21145227″ css_animation=»fadeIn»][/vc_column_inner][vc_column_inner width=»1/4″][/vc_column_inner][vc_column_inner width=»1/4″][/vc_column_inner][/vc_row_inner][/vc_column][/vc_row][/vc_section][vc_row][vc_column][vc_empty_space height=»160″][/vc_column][/vc_row]
URL:https://www.escuelaeuropeaexcelencia.com/evento/workshop-cumple-con-los-requisitos-legales-y-normativos-de-la-iso-140012015/
CATEGORIES:Calidad,Eventos Club Alumni
ATTACH;FMTTYPE=image/jpeg:https://www.escuelaeuropeaexcelencia.com/wp-content/uploads/2025/05/Cumple-con-los-Requisitos-Legales-y-Normativos-de-la-ISO-14001-2015.jpg
END:VEVENT
END:VCALENDAR