

BEGIN:VCALENDAR
VERSION:2.0
PRODID:-//Escuela Europea de Excelencia - ECPv6.15.20//NONSGML v1.0//EN
CALSCALE:GREGORIAN
METHOD:PUBLISH
X-ORIGINAL-URL:https://www.escuelaeuropeaexcelencia.com
X-WR-CALDESC:Eventos para Escuela Europea de Excelencia
REFRESH-INTERVAL;VALUE=DURATION:PT1H
X-Robots-Tag:noindex
X-PUBLISHED-TTL:PT1H
BEGIN:VTIMEZONE
TZID:Europe/Madrid
BEGIN:DAYLIGHT
TZOFFSETFROM:+0100
TZOFFSETTO:+0200
TZNAME:CEST
DTSTART:20240331T010000
END:DAYLIGHT
BEGIN:STANDARD
TZOFFSETFROM:+0200
TZOFFSETTO:+0100
TZNAME:CET
DTSTART:20241027T010000
END:STANDARD
BEGIN:DAYLIGHT
TZOFFSETFROM:+0100
TZOFFSETTO:+0200
TZNAME:CEST
DTSTART:20250330T010000
END:DAYLIGHT
BEGIN:STANDARD
TZOFFSETFROM:+0200
TZOFFSETTO:+0100
TZNAME:CET
DTSTART:20251026T010000
END:STANDARD
BEGIN:DAYLIGHT
TZOFFSETFROM:+0100
TZOFFSETTO:+0200
TZNAME:CEST
DTSTART:20260329T010000
END:DAYLIGHT
BEGIN:STANDARD
TZOFFSETFROM:+0200
TZOFFSETTO:+0100
TZNAME:CET
DTSTART:20261025T010000
END:STANDARD
END:VTIMEZONE
BEGIN:VEVENT
DTSTART;TZID=Europe/Madrid:20250514T180000
DTEND;TZID=Europe/Madrid:20250514T190000
DTSTAMP:20260419T190434
CREATED:20250303T162040Z
LAST-MODIFIED:20250513T101916Z
UID:21146444-1747245600-1747249200@www.escuelaeuropeaexcelencia.com
SUMMARY:Workshop: Planificación y Control con Kantan: Optimiza la Implementación de Normas ISO
DESCRIPTION:[vc_row row_content_position=»middle»][vc_column width=»2/12″][/vc_column][vc_column width=»8/12″ css=».vc_custom_1699538663174{background-color: #ffffff !important;}» el_class=»fecha-hora-evento»][vc_row_inner][vc_column_inner width=»1/12″][vc_column_text el_class=»fechaES-nueva»] \nFecha:\n[/vc_column_text][/vc_column_inner][vc_column_inner width=»4/12″][vc_acf field_group=»21099038″ field_from_21099038=»field_619b86bc5eb64″ field_from_99038=»field_6143b5884b940″ el_class=»fechaES-nueva»][/vc_column_inner][vc_column_inner width=»7/12″][vc_column_text el_class=»fecha-evento-nueva»]Hora:  Madrid\,España ⇨ 16:00-18:30h.[/vc_column_text][/vc_column_inner][/vc_row_inner][/vc_column][vc_column width=»2/12″ css=».vc_custom_1699531916970{background-color: #ffffff !important;}»][/vc_column][/vc_row][vc_section css_animation=»none» el_class=»puntos-y eventos» css=».vc_custom_1699544350413{margin-top: 30px !important;background-color: #f3f1f1 !important;}» el_id=»main-curso-eee»][vc_row el_class=»main-eventos»][vc_column width=»1/2″ el_class=»info-evento check»][vc_row_inner equal_height=»» content_placement=»» gap=»0″ is_sticky=»» sticky_container_selector=».vc_row» sticky_min_width=»767″ sticky_top=»110″ sticky_bottom=»0″ sticky_active_class=»sticky-active» animation_duration=»1000″ animation_delay=»0″ animation_type=»»][vc_column_inner][vc_column_text]En un entorno empresarial cada vez más regulado\, garantizar la correcta planificación y control de los procesos operacionales es clave para el éxito y cumplimiento de las normas ISO. En este workshop\, exploraremos cómo Kantan Software optimiza la gestión de actividades y control operacional a través de herramientas digitales avanzadas. \nLos participantes descubrirán cómo estructurar planes de trabajo personalizados para cada norma ISO\, diseñar checklists específicos que faciliten el cumplimiento normativo y utilizar registros digitales para documentar evidencias de manera eficiente. Además\, se mostrará cómo Kantan automatiza alertas y hallazgos ante posibles desviaciones\, asegurando un control continuo y eficaz. \nEste evento es ideal para profesionales que buscan mejorar su sistema de gestión con un enfoque digital y automatizado\, simplificando procesos y garantizando la conformidad con los estándares ISO. ¡Únete y lleva tu gestión al siguiente nivel con Kantan![/vc_column_text][/vc_column_inner][/vc_row_inner][/vc_column][vc_column width=»1/2″][vc_custom_heading text=»Reserva tu plaza gratuita» font_container=»tag:h4|text_align:center|color:%23ffffff» google_fonts=»font_family:Source%20Sans%20Pro%3A200%2C200italic%2C300%2C300italic%2Cregular%2Citalic%2C600%2C600italic%2C700%2C700italic%2C900%2C900italic|font_style:400%20regular%3A400%3Anormal» el_class=»encabezado-form-evento»][vc_raw_html el_class=»formulario-eventos» css=».vc_custom_1739455270123{padding-top: 30px !important;padding-right: 30px !important;padding-bottom: 30px !important;padding-left: 30px !important;background-color: #ffffff !important;}»]JTNDc2NyaXB0JTIwY2hhcnNldCUzRCUyMnV0Zi04JTIyJTIwdHlwZSUzRCUyMnRleHQlMkZqYXZhc2NyaXB0JTIyJTIwc3JjJTNEJTIyJTJGJTJGanMuaHNmb3Jtcy5uZXQlMkZmb3JtcyUyRmVtYmVkJTJGdjIuanMlMjIlM0UlM0MlMkZzY3JpcHQlM0UlMEElM0NzY3JpcHQlM0UlMEElMjAlMjBoYnNwdC5mb3Jtcy5jcmVhdGUlMjglN0IlMEElMjAlMjAlMjAlMjBwb3J0YWxJZCUzQSUyMCUyMjQ1OTExNyUyMiUyQyUwQSUyMCUyMCUyMCUyMGZvcm1JZCUzQSUyMCUyMmI3N2JlZmYxLTQ4ZmQtNDc4Mi1iYWNhLTBiNzlmZDMyZmMwZCUyMiUyQyUwQSUyMCUyMCUyMCUyMHJlZ2lvbiUzQSUyMCUyMm5hMSUyMiUwQSUyMCUyMCU3RCUyOSUzQiUwQSUzQyUyRnNjcmlwdCUzRQ==[/vc_raw_html][vc_row_inner css=».vc_custom_1699543777777{margin-top: 30px !important;}»][vc_column_inner el_class=»toggle-horario»]\n	\n			\n				Horario\n			\n		\n España ⇨ 16:00-18:30h.\n Ecuador ⇨ 9:00-11:30h.\n Colombia ⇨ 9:00-11:30h.\n Perú ⇨ 9:00-11:30h.\n Chile ⇨ 10:00-12:30h.\n México ⇨ 08:00-10:30h.\n Argentina ⇨ 11:00-13:30h.\n\n[/vc_column_inner][/vc_row_inner][/vc_column][/vc_row][vc_row el_class=»main-eventos» css=».vc_custom_1699529578560{margin-top: 50px !important;}»][vc_column][vc_separator color=»custom» accent_color=»#dddddd» css=».vc_custom_1699621499982{padding-bottom: 30px !important;}»][vc_row_inner column_inner_spacing=»60″ equal_height=»» content_placement=»» gap=»0″ is_sticky=»» sticky_container_selector=».vc_row» sticky_min_width=»767″ sticky_top=»110″ sticky_bottom=»0″ sticky_active_class=»sticky-active» animation_duration=»1000″ animation_delay=»0″ el_class=»info-evento» animation_type=»»][vc_column_inner el_class=»columna-objetivos» width=»1/2″][vc_column_text el_class=»mostrar-list»] \n \nObjetivos\n\nEn este workshop\, se abordará cómo Kantan optimiza la planificación y el control operacional de los procesos de gestión en las normas ISO 9001\, 14001\, 45001\, 27001\, y 37001\, a través de la creación de programas de actividades (planes de trabajo) y el uso de checklists para cada fase de las tareas. Los participantes aprenderán cómo crear planes de trabajo basados en los procesos de control operacional de cada norma y cómo Kantan automatiza la recopilación de evidencias a través de registros digitales (fotos\, registros de voz\, notas)\, asegurando el cumplimiento de los requisitos normativos en cada fase. Se mostrará cómo el ciclo PHVA se cubre con la funcionalidad de Kantan\, facilitando el plan y el hacer del ciclo\, y cómo el sistema automatiza la generación de hallazgos con alertas automáticas cuando los registros no cumplen con las especificaciones definidas en los checklists.\n\n[/vc_column_text][/vc_column_inner][vc_column_inner width=»1/2″][vc_column_text el_class=»mostrar-list»] \n \nBeneficios de asistir a este evento\n\nOptimización de la planificación y control: aprende a estructurar programas de actividades y planes de trabajo alineados con las normas ISO\, mejorando la eficiencia en la gestión de procesos operacionales.\nAutomatización del cumplimiento normativo: descubre cómo Kantan digitaliza el registro de evidencias\, genera alertas automáticas ante desviaciones y facilita el seguimiento en tiempo real para asegurar la conformidad con los estándares ISO.\nImplementación efectiva del ciclo PHVA: conoce cómo integrar la planificación\, ejecución\, verificación y acción dentro de Kantan\, asegurando una mejora continua en la gestión de calidad\, seguridad\, medio ambiente y cumplimiento normativo.\n\n[/vc_column_text][/vc_column_inner][/vc_row_inner][vc_separator color=»custom» accent_color=»#dddddd» css=».vc_custom_1699621523027{padding-top: 30px !important;padding-bottom: 30px !important;}»][vc_column_text el_class=»mostrar-list»] \n \nDirigido a\n\nEste workshop está dirigido a responsables de calidad\, medio ambiente\, seguridad y cumplimiento normativo\, así como a directores de operaciones y consultores especializados en la implementación de sistemas de gestión basados en normas ISO. También es ideal para profesionales que buscan optimizar sus procesos mediante herramientas digitales y automatización\, asegurando el cumplimiento normativo de manera eficiente. Empresas de cualquier sector que deseen mejorar su planificación\, control operacional y seguimiento de evidencias en tiempo real encontrarán en este evento una oportunidad clave para transformar su gestión con Kantan.\n\n[/vc_column_text][vc_separator color=»custom» accent_color=»#dddddd» css=».vc_custom_1699621523027{padding-top: 30px !important;padding-bottom: 30px !important;}»][/vc_column][/vc_row][vc_row el_class=»main-eventos» css=».vc_custom_1699529586676{margin-top: 50px !important;}»][vc_column][vc_row_inner equal_height=»» content_placement=»» gap=»0″ is_sticky=»» sticky_container_selector=».vc_row» sticky_min_width=»767″ sticky_top=»110″ sticky_bottom=»0″ sticky_active_class=»sticky-active» animation_duration=»1000″ animation_delay=»0″ el_id=»grid-docentes» animation_type=»» el_class=»slider-docentes info-evento»][vc_column_inner el_id=»docente»][vc_column_text] \nNuestros ponentes\n[/vc_column_text]\n        \n        \n            \n                 \n                \n                    \n            Julio Ardila\n          \nCONSULTOR EXPERTO DE ESG INNOVA COLOMBIA\n \n                \n                \n            \n        \n    \n        \n            \n                 \n                \n                    \n            Juan Pablo Gómez\n          \nCONSULTOR EXPERTO DE ESG INNOVA COLOMBIA\n \n                \n                \n            \n        \n    \n	[/vc_column_inner][/vc_row_inner][vc_row_inner equal_height=»» content_placement=»» gap=»0″ is_sticky=»» sticky_container_selector=».vc_row» sticky_min_width=»767″ sticky_top=»110″ sticky_bottom=»0″ sticky_active_class=»sticky-active» animation_duration=»1000″ animation_delay=»0″ el_class=»info-evento» animation_type=»»][vc_column_inner]\n	[vc_column_text] \nEmpresas colaboradoras\n[/vc_column_text][/vc_column_inner][/vc_row_inner][vc_row_inner equal_height=»» content_placement=»» gap=»0″ is_sticky=»» sticky_container_selector=».vc_row» sticky_min_width=»767″ sticky_top=»110″ sticky_bottom=»0″ sticky_active_class=»sticky-active» animation_duration=»1000″ animation_delay=»0″ animation_type=»» css=».vc_custom_1699527372388{margin-top: 10px !important;margin-bottom: 10px !important;}»][vc_column_inner width=»1/4″][vc_single_image image=»21099498″ css_animation=»fadeIn»][/vc_column_inner][vc_column_inner width=»1/4″][vc_single_image image=»21145227″ css_animation=»fadeIn»][/vc_column_inner][vc_column_inner width=»1/4″][/vc_column_inner][vc_column_inner width=»1/4″][/vc_column_inner][/vc_row_inner][/vc_column][/vc_row][/vc_section][vc_row][vc_column][vc_empty_space height=»160″][/vc_column][/vc_row]
URL:https://www.escuelaeuropeaexcelencia.com/evento/workshop-planificacion-y-control-con-kantan-optimiza-la-implementacion-de-normas-iso/
CATEGORIES:Calidad,Eventos Club Alumni
ATTACH;FMTTYPE=image/jpeg:https://www.escuelaeuropeaexcelencia.com/wp-content/uploads/2025/02/Optimiza-la-Implementacion-de-Normas-ISO.jpg
END:VEVENT
END:VCALENDAR