

BEGIN:VCALENDAR
VERSION:2.0
PRODID:-//Escuela Europea de Excelencia - ECPv6.15.20//NONSGML v1.0//EN
CALSCALE:GREGORIAN
METHOD:PUBLISH
X-WR-CALNAME:Escuela Europea de Excelencia
X-ORIGINAL-URL:https://www.escuelaeuropeaexcelencia.com
X-WR-CALDESC:Eventos para Escuela Europea de Excelencia
REFRESH-INTERVAL;VALUE=DURATION:PT1H
X-Robots-Tag:noindex
X-PUBLISHED-TTL:PT1H
BEGIN:VTIMEZONE
TZID:Europe/Madrid
BEGIN:DAYLIGHT
TZOFFSETFROM:+0100
TZOFFSETTO:+0200
TZNAME:CEST
DTSTART:20240331T010000
END:DAYLIGHT
BEGIN:STANDARD
TZOFFSETFROM:+0200
TZOFFSETTO:+0100
TZNAME:CET
DTSTART:20241027T010000
END:STANDARD
BEGIN:DAYLIGHT
TZOFFSETFROM:+0100
TZOFFSETTO:+0200
TZNAME:CEST
DTSTART:20250330T010000
END:DAYLIGHT
BEGIN:STANDARD
TZOFFSETFROM:+0200
TZOFFSETTO:+0100
TZNAME:CET
DTSTART:20251026T010000
END:STANDARD
BEGIN:DAYLIGHT
TZOFFSETFROM:+0100
TZOFFSETTO:+0200
TZNAME:CEST
DTSTART:20260329T010000
END:DAYLIGHT
BEGIN:STANDARD
TZOFFSETFROM:+0200
TZOFFSETTO:+0100
TZNAME:CET
DTSTART:20261025T010000
END:STANDARD
END:VTIMEZONE
BEGIN:VEVENT
DTSTART;TZID=Europe/Madrid:20250423T180000
DTEND;TZID=Europe/Madrid:20250423T190000
DTSTAMP:20260419T202803
CREATED:20250213T135139Z
LAST-MODIFIED:20250402T141035Z
UID:21147119-1745431200-1745434800@www.escuelaeuropeaexcelencia.com
SUMMARY:Workshop: Planificación y Control Operacional Ambiental según la ISO 14001
DESCRIPTION:[vc_row row_content_position=»middle»][vc_column width=»2/12″][/vc_column][vc_column width=»8/12″ css=».vc_custom_1699538663174{background-color: #ffffff !important;}» el_class=»fecha-hora-evento»][vc_row_inner][vc_column_inner width=»1/12″][vc_column_text el_class=»fechaES-nueva»] \nFecha:\n[/vc_column_text][/vc_column_inner][vc_column_inner width=»4/12″][vc_acf field_group=»21099038″ field_from_21099038=»field_619b86bc5eb64″ field_from_99038=»field_6143b5884b940″ el_class=»fechaES-nueva»][/vc_column_inner][vc_column_inner width=»7/12″][vc_column_text el_class=»fecha-evento-nueva»]Hora:  Madrid\,España ⇨ 16:00-18:30h.[/vc_column_text][/vc_column_inner][/vc_row_inner][/vc_column][vc_column width=»2/12″ css=».vc_custom_1699531916970{background-color: #ffffff !important;}»][/vc_column][/vc_row][vc_section css_animation=»none» el_class=»puntos-y eventos» css=».vc_custom_1699544350413{margin-top: 30px !important;background-color: #f3f1f1 !important;}» el_id=»main-curso-eee»][vc_row el_class=»main-eventos»][vc_column width=»1/2″ el_class=»info-evento check»][vc_row_inner equal_height=»» content_placement=»» gap=»0″ is_sticky=»» sticky_container_selector=».vc_row» sticky_min_width=»767″ sticky_top=»110″ sticky_bottom=»0″ sticky_active_class=»sticky-active» animation_duration=»1000″ animation_delay=»0″ animation_type=»»][vc_column_inner][vc_column_text]En este workshop de Kantan Software titulado «Planificación y Control Operacional Ambiental según la ISO 14001»\, los participantes aprenderán cómo gestionar de manera eficiente las actividades operacionales que puedan tener un impacto ambiental\, asegurando el cumplimiento de las normativas establecidas por la ISO 14001.  \nA través de la plataforma Kantan\, descubrirán cómo crear y gestionar planes de control con checklists Radar que permiten identificar los procesos clave que deben ser monitoreados y gestionados para minimizar los impactos ambientales.  \nAdemás\, verán cómo registrar y dar seguimiento a cada fase del proceso y cómo establecer alertas automáticas para detectar desviaciones\, garantizando así el cumplimiento de los requisitos ambientales en todo momento. Este workshop es una excelente oportunidad para entender cómo digitalizar y optimizar el control ambiental en tu organización con herramientas prácticas y efectivas.[/vc_column_text][/vc_column_inner][/vc_row_inner][/vc_column][vc_column width=»1/2″][vc_custom_heading text=»Reserva tu plaza gratuita» font_container=»tag:h4|text_align:center|color:%23ffffff» google_fonts=»font_family:Source%20Sans%20Pro%3A200%2C200italic%2C300%2C300italic%2Cregular%2Citalic%2C600%2C600italic%2C700%2C700italic%2C900%2C900italic|font_style:400%20regular%3A400%3Anormal» el_class=»encabezado-form-evento»][vc_raw_html el_class=»formulario-eventos» css=».vc_custom_1739529906043{padding-top: 15px !important;padding-right: 15px !important;padding-bottom: 15px !important;padding-left: 25px !important;background-color: #ffffff !important;}»]JTNDc2NyaXB0JTIwY2hhcnNldCUzRCUyMnV0Zi04JTIyJTIwdHlwZSUzRCUyMnRleHQlMkZqYXZhc2NyaXB0JTIyJTIwc3JjJTNEJTIyJTJGJTJGanMuaHNmb3Jtcy5uZXQlMkZmb3JtcyUyRmVtYmVkJTJGdjIuanMlMjIlM0UlM0MlMkZzY3JpcHQlM0UlMEElM0NzY3JpcHQlM0UlMEElMjAlMjBoYnNwdC5mb3Jtcy5jcmVhdGUlMjglN0IlMEElMDlwb3J0YWxJZCUzQSUyMCUyMjQ1OTExNyUyMiUyQyUwQSUwOWZvcm1JZCUzQSUyMCUyMjRmMWU4YWIyLWU5ZGYtNDJjNy05MTllLWE4MjA0MjU4ZWQxMiUyMiUyQyUwQSUwOXJlZ2lvbiUzQSUyMCUyMm5hMSUyMiUwQSUyMCUyMCU3RCUyOSUzQiUwQSUzQyUyRnNjcmlwdCUzRQ==[/vc_raw_html][vc_row_inner css=».vc_custom_1699543777777{margin-top: 30px !important;}»][vc_column_inner el_class=»toggle-horario»]\n	\n			\n				Horario\n			\n		\n España ⇨ 16:00-18:30h.\n Ecuador ⇨ 9:00-11:30h.\n Colombia ⇨ 9:00-11:30h.\n Perú ⇨ 9:00-11:30h.\n Chile ⇨ 10:00-12:30h.\n México ⇨ 08:00-10:30h.\n Argentina ⇨ 11:00-13:30h.\n\n[/vc_column_inner][/vc_row_inner][/vc_column][/vc_row][vc_row el_class=»main-eventos» css=».vc_custom_1699529578560{margin-top: 50px !important;}»][vc_column][vc_separator color=»custom» accent_color=»#dddddd» css=».vc_custom_1699621499982{padding-bottom: 30px !important;}»][vc_row_inner column_inner_spacing=»60″ equal_height=»» content_placement=»» gap=»0″ is_sticky=»» sticky_container_selector=».vc_row» sticky_min_width=»767″ sticky_top=»110″ sticky_bottom=»0″ sticky_active_class=»sticky-active» animation_duration=»1000″ animation_delay=»0″ el_class=»info-evento» animation_type=»»][vc_column_inner width=»1/3″][vc_column_text el_class=»mostrar-list»] \nObjetivos\n\nEl objetivo principal de este workshop es enseñar a los participantes cómo gestionar de manera eficiente las actividades operacionales que puedan tener un impacto ambiental\, asegurando que los procesos sean definidos\, controlados y monitoreados para minimizar dichos impactos\, todo ello utilizando la plataforma Kantan. A través del uso de checklists Radar\, el workshop buscará proporcionar herramientas prácticas para asegurar el cumplimiento de las normativas ambientales y facilitar un seguimiento continuo de los procesos\, registrando evidencias y generando alertas automáticas en caso de desviaciones.\n\n[/vc_column_text][/vc_column_inner][vc_column_inner width=»1/3″][vc_column_text el_class=»mostrar-list»] \nBeneficios de asistir a este evento\n\nOptimización de la Gestión Ambiental: aprenderás a gestionar y controlar las actividades operacionales que pueden impactar el medio ambiente\, utilizando herramientas como los checklists Radar de Kantan\, asegurando el cumplimiento de la ISO 14001 de manera eficiente.\nCumplimiento Normativo Automático: conocerás cómo automatizar el seguimiento de las normativas ambientales mediante alertas automáticas\, lo que te permitirá detectar desviaciones y no conformidades de manera inmediata\, asegurando la continuidad del cumplimiento normativo.\nMejora en la Toma de Decisiones: utilizando los registros y datos en tiempo real proporcionados por Kantan\, podrás tomar decisiones informadas y oportunas\, optimizando el control de los procesos operacionales y reduciendo riesgos ambientales a largo plazo.\n\n[/vc_column_text][/vc_column_inner][vc_column_inner width=»1/3″][vc_column_text el_class=»mostrar-list»] \nDirigido a\n\nEste workshop está dirigido a profesionales y responsables de gestión ambiental\, calidad y sostenibilidad que buscan mejorar la eficiencia de sus procesos operacionales bajo la norma ISO 14001. También es relevante para aquellos que desean optimizar la planificación y el control de actividades que impactan el medio ambiente\, asegurando el cumplimiento normativo y reduciendo riesgos. El workshop es ideal para empresas que están implementando o ya cuentan con un sistema de gestión ambiental y desean integrar herramientas digitales para facilitar la auditoría y el seguimiento en tiempo real.\n\n[/vc_column_text][/vc_column_inner][/vc_row_inner][vc_separator color=»custom» accent_color=»#dddddd» css=».vc_custom_1699621523027{padding-top: 30px !important;padding-bottom: 30px !important;}»][/vc_column][/vc_row][vc_row el_class=»main-eventos» css=».vc_custom_1699529586676{margin-top: 50px !important;}»][vc_column][vc_row_inner equal_height=»» content_placement=»» gap=»0″ is_sticky=»» sticky_container_selector=».vc_row» sticky_min_width=»767″ sticky_top=»110″ sticky_bottom=»0″ sticky_active_class=»sticky-active» animation_duration=»1000″ animation_delay=»0″ el_id=»grid-docentes» animation_type=»» el_class=»slider-docentes info-evento»][vc_column_inner el_id=»docente»][vc_column_text] \nNuestros ponentes\n[/vc_column_text]\n        \n        \n            \n                 \n                \n                    \n            Julio Ardila\n          \nCONSULTOR EXPERTO DE ESG INNOVA COLOMBIA\n \n                \n                \n            \n        \n    \n        \n            \n                 \n                \n                    \n            Juan Pablo Gómez\n          \nCONSULTOR EXPERTO DE ESG INNOVA COLOMBIA\n \n                \n                \n            \n        \n    \n	[/vc_column_inner][/vc_row_inner][vc_row_inner equal_height=»» content_placement=»» gap=»0″ is_sticky=»» sticky_container_selector=».vc_row» sticky_min_width=»767″ sticky_top=»110″ sticky_bottom=»0″ sticky_active_class=»sticky-active» animation_duration=»1000″ animation_delay=»0″ el_class=»info-evento» animation_type=»»][vc_column_inner]\n	[vc_column_text] \nEmpresas colaboradoras\n[/vc_column_text][/vc_column_inner][/vc_row_inner][vc_row_inner equal_height=»» content_placement=»» gap=»0″ is_sticky=»» sticky_container_selector=».vc_row» sticky_min_width=»767″ sticky_top=»110″ sticky_bottom=»0″ sticky_active_class=»sticky-active» animation_duration=»1000″ animation_delay=»0″ animation_type=»» css=».vc_custom_1699527372388{margin-top: 10px !important;margin-bottom: 10px !important;}»][vc_column_inner width=»1/4″][vc_single_image image=»21099498″ css_animation=»fadeIn»][/vc_column_inner][vc_column_inner width=»1/4″][vc_single_image image=»21145227″ css_animation=»fadeIn»][/vc_column_inner][vc_column_inner width=»1/4″][/vc_column_inner][vc_column_inner width=»1/4″][/vc_column_inner][/vc_row_inner][/vc_column][/vc_row][/vc_section][vc_row][vc_column][vc_empty_space height=»160″][/vc_column][/vc_row]
URL:https://www.escuelaeuropeaexcelencia.com/evento/workshop-planificacion-y-control-operacional-ambiental-segun-la-iso-14001/
CATEGORIES:Calidad,Eventos Club Alumni
ATTACH;FMTTYPE=image/jpeg:https://www.escuelaeuropeaexcelencia.com/wp-content/uploads/2025/02/Planificacion-y-Control-Operacional-Ambiental-segun-la-ISO-14001.jpg
END:VEVENT
END:VCALENDAR