

BEGIN:VCALENDAR
VERSION:2.0
PRODID:-//Escuela Europea de Excelencia - ECPv6.15.20//NONSGML v1.0//EN
CALSCALE:GREGORIAN
METHOD:PUBLISH
X-WR-CALNAME:Escuela Europea de Excelencia
X-ORIGINAL-URL:https://www.escuelaeuropeaexcelencia.com
X-WR-CALDESC:Eventos para Escuela Europea de Excelencia
REFRESH-INTERVAL;VALUE=DURATION:PT1H
X-Robots-Tag:noindex
X-PUBLISHED-TTL:PT1H
BEGIN:VTIMEZONE
TZID:Europe/Madrid
BEGIN:DAYLIGHT
TZOFFSETFROM:+0100
TZOFFSETTO:+0200
TZNAME:CEST
DTSTART:20240331T010000
END:DAYLIGHT
BEGIN:STANDARD
TZOFFSETFROM:+0200
TZOFFSETTO:+0100
TZNAME:CET
DTSTART:20241027T010000
END:STANDARD
BEGIN:DAYLIGHT
TZOFFSETFROM:+0100
TZOFFSETTO:+0200
TZNAME:CEST
DTSTART:20250330T010000
END:DAYLIGHT
BEGIN:STANDARD
TZOFFSETFROM:+0200
TZOFFSETTO:+0100
TZNAME:CET
DTSTART:20251026T010000
END:STANDARD
BEGIN:DAYLIGHT
TZOFFSETFROM:+0100
TZOFFSETTO:+0200
TZNAME:CEST
DTSTART:20260329T010000
END:DAYLIGHT
BEGIN:STANDARD
TZOFFSETFROM:+0200
TZOFFSETTO:+0100
TZNAME:CET
DTSTART:20261025T010000
END:STANDARD
END:VTIMEZONE
BEGIN:VEVENT
DTSTART;TZID=Europe/Madrid:20250416T180000
DTEND;TZID=Europe/Madrid:20250416T190000
DTSTAMP:20260419T202806
CREATED:20250213T135035Z
LAST-MODIFIED:20250402T140817Z
UID:21146440-1744826400-1744830000@www.escuelaeuropeaexcelencia.com
SUMMARY:Workshop: La norma ISO 9001 para el Control de Proveedores Externos
DESCRIPTION:[vc_row row_content_position=»middle»][vc_column width=»2/12″][/vc_column][vc_column width=»8/12″ css=».vc_custom_1699538663174{background-color: #ffffff !important;}» el_class=»fecha-hora-evento»][vc_row_inner][vc_column_inner width=»1/12″][vc_column_text el_class=»fechaES-nueva»] \nFecha:\n[/vc_column_text][/vc_column_inner][vc_column_inner width=»4/12″][vc_acf field_group=»21099038″ field_from_21099038=»field_619b86bc5eb64″ field_from_99038=»field_6143b5884b940″ el_class=»fechaES-nueva»][/vc_column_inner][vc_column_inner width=»7/12″][vc_column_text el_class=»fecha-evento-nueva»]Hora:  Madrid\,España ⇨ 16:00-18:30h.[/vc_column_text][/vc_column_inner][/vc_row_inner][/vc_column][vc_column width=»2/12″ css=».vc_custom_1699531916970{background-color: #ffffff !important;}»][/vc_column][/vc_row][vc_section css_animation=»none» el_class=»puntos-y eventos» css=».vc_custom_1699544350413{margin-top: 30px !important;background-color: #f3f1f1 !important;}» el_id=»main-curso-eee»][vc_row el_class=»main-eventos»][vc_column width=»1/2″ el_class=»info-evento check»][vc_row_inner equal_height=»» content_placement=»» gap=»0″ is_sticky=»» sticky_container_selector=».vc_row» sticky_min_width=»767″ sticky_top=»110″ sticky_bottom=»0″ sticky_active_class=»sticky-active» animation_duration=»1000″ animation_delay=»0″ animation_type=»»][vc_column_inner][vc_column_text]En este workshop\, profundizaremos en cómo la norma ISO 9001 establece los controles necesarios para asegurar que los productos\, servicios y procesos proporcionados por proveedores externos cumplan con los requisitos establecidos por la organización. Los participantes aprenderán cómo gestionar de manera eficiente este aspecto crucial del sistema de calidad mediante la plataforma Kantan.  \nA través de la herramienta\, podrán crear planes de control específicos para cada proveedor utilizando checklists Radar\, lo que permitirá establecer auditorías periódicas y registros detallados de cada inspección realizada. Además\, se enseñará cómo automatizar las alertas para detectar desviaciones de los estándares de calidad y cómo optimizar el proceso de monitoreo de proveedores. Con Kantan\, el seguimiento de los proveedores se vuelve más eficiente\, asegurando que todos los requisitos estén cubiertos y que se mantenga la conformidad con las normativas ISO\, mejorando la gestión de la cadena de suministro de manera continua.[/vc_column_text][/vc_column_inner][/vc_row_inner][/vc_column][vc_column width=»1/2″][vc_custom_heading text=»Reserva tu plaza gratuita» font_container=»tag:h4|text_align:center|color:%23ffffff» google_fonts=»font_family:Source%20Sans%20Pro%3A200%2C200italic%2C300%2C300italic%2Cregular%2Citalic%2C600%2C600italic%2C700%2C700italic%2C900%2C900italic|font_style:400%20regular%3A400%3Anormal» el_class=»encabezado-form-evento»][vc_raw_html el_class=»formulario-eventos» css=».vc_custom_1739529906043{padding-top: 15px !important;padding-right: 15px !important;padding-bottom: 15px !important;padding-left: 25px !important;background-color: #ffffff !important;}»]JTNDc2NyaXB0JTIwY2hhcnNldCUzRCUyMnV0Zi04JTIyJTIwdHlwZSUzRCUyMnRleHQlMkZqYXZhc2NyaXB0JTIyJTIwc3JjJTNEJTIyJTJGJTJGanMuaHNmb3Jtcy5uZXQlMkZmb3JtcyUyRmVtYmVkJTJGdjIuanMlMjIlM0UlM0MlMkZzY3JpcHQlM0UlMEElM0NzY3JpcHQlM0UlMEElMjAlMjBoYnNwdC5mb3Jtcy5jcmVhdGUlMjglN0IlMEElMDlwb3J0YWxJZCUzQSUyMCUyMjQ1OTExNyUyMiUyQyUwQSUwOWZvcm1JZCUzQSUyMCUyMjRmMWU4YWIyLWU5ZGYtNDJjNy05MTllLWE4MjA0MjU4ZWQxMiUyMiUyQyUwQSUwOXJlZ2lvbiUzQSUyMCUyMm5hMSUyMiUwQSUyMCUyMCU3RCUyOSUzQiUwQSUzQyUyRnNjcmlwdCUzRQ==[/vc_raw_html][vc_row_inner css=».vc_custom_1699543777777{margin-top: 30px !important;}»][vc_column_inner el_class=»toggle-horario»]\n	\n			\n				Horario\n			\n		\n España ⇨ 16:00-18:30h.\n Ecuador ⇨ 9:00-11:30h.\n Colombia ⇨ 9:00-11:30h.\n Perú ⇨ 9:00-11:30h.\n Chile ⇨ 10:00-12:30h.\n México ⇨ 08:00-10:30h.\n Argentina ⇨ 11:00-13:30h.\n\n[/vc_column_inner][/vc_row_inner][/vc_column][/vc_row][vc_row el_class=»main-eventos» css=».vc_custom_1699529578560{margin-top: 50px !important;}»][vc_column][vc_separator color=»custom» accent_color=»#dddddd» css=».vc_custom_1699621499982{padding-bottom: 30px !important;}»][vc_row_inner column_inner_spacing=»60″ equal_height=»» content_placement=»» gap=»0″ is_sticky=»» sticky_container_selector=».vc_row» sticky_min_width=»767″ sticky_top=»110″ sticky_bottom=»0″ sticky_active_class=»sticky-active» animation_duration=»1000″ animation_delay=»0″ el_class=»info-evento» animation_type=»»][vc_column_inner width=»1/3″][vc_column_text el_class=»mostrar-list»] \nObjetivos\n\nEl objetivo principal del workshop es enseñar a los participantes cómo establecer y gestionar un control efectivo sobre los proveedores externos\, asegurando que los productos\, servicios y procesos proporcionados cumplan con los requisitos establecidos por la organización. A través del uso de la plataforma Kantan\, los asistentes aprenderán a crear planes de control personalizados\, realizar auditorías periódicas y registrar inspecciones de forma eficiente\, garantizando el cumplimiento de los estándares de calidad de manera continua.\n\n[/vc_column_text][/vc_column_inner][vc_column_inner width=»1/3″][vc_column_text el_class=»mostrar-list»] \nBeneficios de asistir a este evento\n\nOptimización del control de proveedores: aprenderás a gestionar de manera eficiente los procesos y productos proporcionados por terceros\, asegurando que cumplan con los estándares de calidad establecidos por la organización.\nAutomatización de auditorías: descubrirás cómo utilizar Kantan para automatizar las auditorías y hacer un seguimiento efectivo de las inspecciones a través de registros digitales\, lo que facilita el cumplimiento normativo.\nGestión simplificada de riesgos: a través del uso de checklists y alertas automáticas\, mejorarás la identificación y mitigación de riesgos relacionados con proveedores externos\, contribuyendo a una cadena de suministro más segura y confiable.\n\n[/vc_column_text][/vc_column_inner][vc_column_inner width=»1/3″][vc_column_text el_class=»mostrar-list»] \nDirigido a\n\nEste workshop está dirigido a profesionales de calidad\, compras\, logística\, y gestión de proveedores que buscan optimizar el control de los proveedores externos en su organización. También es relevante para responsables de implementación de normas ISO 9001\, auditores internos\, y cualquier persona involucrada en la gestión de la cadena de suministro y en asegurar el cumplimiento de los requisitos normativos establecidos para los productos y servicios proporcionados por terceros.\n\n[/vc_column_text][/vc_column_inner][/vc_row_inner][vc_separator color=»custom» accent_color=»#dddddd» css=».vc_custom_1699621523027{padding-top: 30px !important;padding-bottom: 30px !important;}»][/vc_column][/vc_row][vc_row el_class=»main-eventos» css=».vc_custom_1699529586676{margin-top: 50px !important;}»][vc_column][vc_row_inner equal_height=»» content_placement=»» gap=»0″ is_sticky=»» sticky_container_selector=».vc_row» sticky_min_width=»767″ sticky_top=»110″ sticky_bottom=»0″ sticky_active_class=»sticky-active» animation_duration=»1000″ animation_delay=»0″ el_id=»grid-docentes» animation_type=»» el_class=»slider-docentes info-evento»][vc_column_inner el_id=»docente»][vc_column_text] \nNuestros ponentes\n[/vc_column_text]\n        \n        \n            \n                 \n                \n                    \n            Julio Ardila\n          \nCONSULTOR EXPERTO DE ESG INNOVA COLOMBIA\n \n                \n                \n            \n        \n    \n        \n            \n                 \n                \n                    \n            Juan Pablo Gómez\n          \nCONSULTOR EXPERTO DE ESG INNOVA COLOMBIA\n \n                \n                \n            \n        \n    \n	[/vc_column_inner][/vc_row_inner][vc_row_inner equal_height=»» content_placement=»» gap=»0″ is_sticky=»» sticky_container_selector=».vc_row» sticky_min_width=»767″ sticky_top=»110″ sticky_bottom=»0″ sticky_active_class=»sticky-active» animation_duration=»1000″ animation_delay=»0″ el_class=»info-evento» animation_type=»»][vc_column_inner]\n	[vc_column_text] \nEmpresas colaboradoras\n[/vc_column_text][/vc_column_inner][/vc_row_inner][vc_row_inner equal_height=»» content_placement=»» gap=»0″ is_sticky=»» sticky_container_selector=».vc_row» sticky_min_width=»767″ sticky_top=»110″ sticky_bottom=»0″ sticky_active_class=»sticky-active» animation_duration=»1000″ animation_delay=»0″ animation_type=»» css=».vc_custom_1699527372388{margin-top: 10px !important;margin-bottom: 10px !important;}»][vc_column_inner width=»1/4″][vc_single_image image=»21099498″ css_animation=»fadeIn»][/vc_column_inner][vc_column_inner width=»1/4″][vc_single_image image=»21145227″ css_animation=»fadeIn»][/vc_column_inner][vc_column_inner width=»1/4″][/vc_column_inner][vc_column_inner width=»1/4″][/vc_column_inner][/vc_row_inner][/vc_column][/vc_row][/vc_section][vc_row][vc_column][vc_empty_space height=»160″][/vc_column][/vc_row]
URL:https://www.escuelaeuropeaexcelencia.com/evento/workshop-la-norma-iso-9001-para-el-control-de-proveedores-externos/
CATEGORIES:Calidad,Eventos Club Alumni
ATTACH;FMTTYPE=image/jpeg:https://www.escuelaeuropeaexcelencia.com/wp-content/uploads/2025/02/La-norma-ISO-9001-para-el-Control-de-Proveedores-Externos.jpg
END:VEVENT
END:VCALENDAR