

BEGIN:VCALENDAR
VERSION:2.0
PRODID:-//Escuela Europea de Excelencia - ECPv6.15.20//NONSGML v1.0//EN
CALSCALE:GREGORIAN
METHOD:PUBLISH
X-ORIGINAL-URL:https://www.escuelaeuropeaexcelencia.com
X-WR-CALDESC:Eventos para Escuela Europea de Excelencia
REFRESH-INTERVAL;VALUE=DURATION:PT1H
X-Robots-Tag:noindex
X-PUBLISHED-TTL:PT1H
BEGIN:VTIMEZONE
TZID:Europe/Madrid
BEGIN:DAYLIGHT
TZOFFSETFROM:+0100
TZOFFSETTO:+0200
TZNAME:CEST
DTSTART:20240331T010000
END:DAYLIGHT
BEGIN:STANDARD
TZOFFSETFROM:+0200
TZOFFSETTO:+0100
TZNAME:CET
DTSTART:20241027T010000
END:STANDARD
BEGIN:DAYLIGHT
TZOFFSETFROM:+0100
TZOFFSETTO:+0200
TZNAME:CEST
DTSTART:20250330T010000
END:DAYLIGHT
BEGIN:STANDARD
TZOFFSETFROM:+0200
TZOFFSETTO:+0100
TZNAME:CET
DTSTART:20251026T010000
END:STANDARD
BEGIN:DAYLIGHT
TZOFFSETFROM:+0100
TZOFFSETTO:+0200
TZNAME:CEST
DTSTART:20260329T010000
END:DAYLIGHT
BEGIN:STANDARD
TZOFFSETFROM:+0200
TZOFFSETTO:+0100
TZNAME:CET
DTSTART:20261025T010000
END:STANDARD
END:VTIMEZONE
BEGIN:VEVENT
DTSTART;TZID=Europe/Madrid:20250326T180000
DTEND;TZID=Europe/Madrid:20250326T190000
DTSTAMP:20260419T220140
CREATED:20250213T122932Z
LAST-MODIFIED:20250213T123447Z
UID:21146428-1743012000-1743015600@www.escuelaeuropeaexcelencia.com
SUMMARY:Workshop: Planificación y Control Operacional según la norma ISO 9001
DESCRIPTION:[vc_row row_content_position=»middle»][vc_column width=»2/12″][/vc_column][vc_column width=»8/12″ css=».vc_custom_1699538663174{background-color: #ffffff !important;}» el_class=»fecha-hora-evento»][vc_row_inner][vc_column_inner width=»1/12″][vc_column_text el_class=»fechaES-nueva»] \nFecha:\n[/vc_column_text][/vc_column_inner][vc_column_inner width=»4/12″][vc_acf field_group=»21099038″ field_from_21099038=»field_619b86bc5eb64″ field_from_99038=»field_6143b5884b940″ el_class=»fechaES-nueva»][/vc_column_inner][vc_column_inner width=»7/12″][vc_column_text el_class=»fecha-evento-nueva»]Hora:  Madrid\,España ⇨ 16:00-18:30h.[/vc_column_text][/vc_column_inner][/vc_row_inner][/vc_column][vc_column width=»2/12″ css=».vc_custom_1699531916970{background-color: #ffffff !important;}»][/vc_column][/vc_row][vc_section css_animation=»none» el_class=»puntos-y eventos» css=».vc_custom_1699544350413{margin-top: 30px !important;background-color: #f3f1f1 !important;}» el_id=»main-curso-eee»][vc_row el_class=»main-eventos»][vc_column width=»1/2″ el_class=»info-evento check»][vc_row_inner equal_height=»» content_placement=»» gap=»0″ is_sticky=»» sticky_container_selector=».vc_row» sticky_min_width=»767″ sticky_top=»110″ sticky_bottom=»0″ sticky_active_class=»sticky-active» animation_duration=»1000″ animation_delay=»0″ animation_type=»»][vc_column_inner][vc_column_text]En este workshop\, exploraremos cómo la planificación y el control operacional son fundamentales para garantizar que los productos y servicios cumplan con los requisitos de la norma ISO 9001. A lo largo de la sesión\, se abordará la importancia de estructurar\, monitorear y optimizar cada proceso operativo clave\, asegurando su conformidad con los estándares de calidad establecidos. \nAdemás\, conocerás cómo Kantan Software facilita esta gestión a través de herramientas digitales avanzadas. Aprenderás a definir y gestionar procesos operativos\, crear planes de trabajo estructurados y asignar tareas mediante checklists Radar. También veremos cómo la plataforma permite registrar resultados en tiempo real y generar alertas automáticas ante cualquier desviación\, asegurando una gestión eficiente y proactiva del control operacional.[/vc_column_text][/vc_column_inner][/vc_row_inner][/vc_column][vc_column width=»1/2″][vc_custom_heading text=»Reserva tu plaza gratuita» font_container=»tag:h4|text_align:center|color:%23ffffff» google_fonts=»font_family:Source%20Sans%20Pro%3A200%2C200italic%2C300%2C300italic%2Cregular%2Citalic%2C600%2C600italic%2C700%2C700italic%2C900%2C900italic|font_style:400%20regular%3A400%3Anormal» el_class=»encabezado-form-evento»][vc_raw_html el_class=»formulario-eventos» css=».vc_custom_1739449977121{padding-top: 30px !important;padding-right: 30px !important;padding-bottom: 30px !important;padding-left: 30px !important;background-color: #ffffff !important;}»]JTNDc2NyaXB0JTIwY2hhcnNldCUzRCUyMnV0Zi04JTIyJTIwdHlwZSUzRCUyMnRleHQlMkZqYXZhc2NyaXB0JTIyJTIwc3JjJTNEJTIyJTJGJTJGanMuaHNmb3Jtcy5uZXQlMkZmb3JtcyUyRmVtYmVkJTJGdjIuanMlMjIlM0UlM0MlMkZzY3JpcHQlM0UlMEElM0NzY3JpcHQlM0UlMEElMjAlMjBoYnNwdC5mb3Jtcy5jcmVhdGUlMjglN0IlMEElMDlwb3J0YWxJZCUzQSUyMCUyMjQ1OTExNyUyMiUyQyUwQSUwOWZvcm1JZCUzQSUyMCUyMmQxMTkyM2YzLWY3ZDAtNGJhMC1iZmI4LWUxNGUyNDhmNWI0ZiUyMiUyQyUwQSUwOXJlZ2lvbiUzQSUyMCUyMm5hMSUyMiUwQSUyMCUyMCU3RCUyOSUzQiUwQSUzQyUyRnNjcmlwdCUzRQ==[/vc_raw_html][vc_row_inner css=».vc_custom_1699543777777{margin-top: 30px !important;}»][vc_column_inner el_class=»toggle-horario»]\n	\n			\n				Horario\n			\n		\n España ⇨ 16:00-18:30h.\n Ecuador ⇨ 10:00-12:30h.\n Colombia ⇨ 10:00-12:30h.\n Perú ⇨ 10:00-12:30h.\n Chile ⇨ 12:00-14:30h.\n México ⇨ 09:00-11:30h.\n Argentina ⇨ 12:00-14:30h.\n\n[/vc_column_inner][/vc_row_inner][/vc_column][/vc_row][vc_row el_class=»main-eventos» css=».vc_custom_1699529578560{margin-top: 50px !important;}»][vc_column][vc_separator color=»custom» accent_color=»#dddddd» css=».vc_custom_1699621499982{padding-bottom: 30px !important;}»][vc_row_inner column_inner_spacing=»60″ equal_height=»» content_placement=»» gap=»0″ is_sticky=»» sticky_container_selector=».vc_row» sticky_min_width=»767″ sticky_top=»110″ sticky_bottom=»0″ sticky_active_class=»sticky-active» animation_duration=»1000″ animation_delay=»0″ el_class=»info-evento» animation_type=»»][vc_column_inner width=»1/3″][vc_column_text el_class=»mostrar-list»] \nObjetivos\n\nEste webinar enseñará a los participantes cómo gestionar de manera eficiente los procesos operacionales clave según la norma ISO 9001\, utilizando Kantan Software. El taller se centrará en la planificación\, ejecución y control de las operaciones para asegurar que los productos y servicios cumplan con los requisitos establecidos\, mientras se aprovechan las funcionalidades de la plataforma para crear planes de trabajo\, asignar tareas mediante checklists y gestionar alertas automáticas ante desviaciones\, todo en tiempo real.\n\n[/vc_column_text][/vc_column_inner][vc_column_inner width=»1/3″][vc_column_text el_class=»mostrar-list»] \nBeneficios de asistir a este evento\n\nOptimización de Procesos Operacionales: aprenderás cómo gestionar de manera eficiente los procesos operacionales clave para garantizar que los productos y servicios cumplan con los requisitos establecidos de la norma ISO 9001.\nUso de Herramientas Digitales para el Control: descubrirás cómo usar Kantan para crear planes de trabajo\, asignar tareas mediante checklists y registrar resultados en tiempo real\, lo que facilita la supervisión y el control continuo de la calidad.\nDetección Temprana de Desviaciones: verás cómo la automatización de alertas y la gestión de desviaciones te permitirá identificar problemas a tiempo\, asegurando que cualquier desviación de los estándares establecidos sea corregida rápidamente para mantener la conformidad.\n\n[/vc_column_text][/vc_column_inner][vc_column_inner width=»1/3″][vc_column_text el_class=»mostrar-list»] \nDirigido a\n\nEste workshop está dirigido a profesionales y responsables de calidad\, gestión de procesos\, y cumplimiento normativo en empresas de cualquier sector que buscan optimizar la planificación y control operacional según los estándares de la norma ISO 9001. Está especialmente enfocado en quienes desean mejorar la eficiencia en la implementación y seguimiento de procesos clave\, utilizando herramientas digitales para asegurar la conformidad y el cumplimiento continuo de los requisitos establecidos\, todo dentro de un entorno de mejora continua.\n\n[/vc_column_text][/vc_column_inner][/vc_row_inner][vc_separator color=»custom» accent_color=»#dddddd» css=».vc_custom_1699621523027{padding-top: 30px !important;padding-bottom: 30px !important;}»][/vc_column][/vc_row][vc_row el_class=»main-eventos» css=».vc_custom_1699529586676{margin-top: 50px !important;}»][vc_column][vc_row_inner equal_height=»» content_placement=»» gap=»0″ is_sticky=»» sticky_container_selector=».vc_row» sticky_min_width=»767″ sticky_top=»110″ sticky_bottom=»0″ sticky_active_class=»sticky-active» animation_duration=»1000″ animation_delay=»0″ el_id=»grid-docentes» animation_type=»» el_class=»slider-docentes info-evento»][vc_column_inner el_id=»docente»][vc_column_text] \nNuestros ponentes\n[/vc_column_text]\n        \n        \n            \n                 \n                \n                    \n            Julio Ardila\n          \nCONSULTOR EXPERTO DE ESG INNOVA COLOMBIA\n \n                \n                \n            \n        \n    \n        \n            \n                 \n                \n                    \n            Juan Pablo Gómez\n          \nCONSULTOR EXPERTO DE ESG INNOVA COLOMBIA\n \n                \n                \n            \n        \n    \n	[/vc_column_inner][/vc_row_inner][vc_row_inner equal_height=»» content_placement=»» gap=»0″ is_sticky=»» sticky_container_selector=».vc_row» sticky_min_width=»767″ sticky_top=»110″ sticky_bottom=»0″ sticky_active_class=»sticky-active» animation_duration=»1000″ animation_delay=»0″ el_class=»info-evento» animation_type=»»][vc_column_inner]\n	[vc_column_text] \nEmpresas colaboradoras\n[/vc_column_text][/vc_column_inner][/vc_row_inner][vc_row_inner equal_height=»» content_placement=»» gap=»0″ is_sticky=»» sticky_container_selector=».vc_row» sticky_min_width=»767″ sticky_top=»110″ sticky_bottom=»0″ sticky_active_class=»sticky-active» animation_duration=»1000″ animation_delay=»0″ animation_type=»» css=».vc_custom_1699527372388{margin-top: 10px !important;margin-bottom: 10px !important;}»][vc_column_inner width=»1/4″][vc_single_image image=»21099498″ css_animation=»fadeIn»][/vc_column_inner][vc_column_inner width=»1/4″][vc_single_image image=»21145227″ css_animation=»fadeIn»][/vc_column_inner][vc_column_inner width=»1/4″][/vc_column_inner][vc_column_inner width=»1/4″][/vc_column_inner][/vc_row_inner][/vc_column][/vc_row][/vc_section][vc_row][vc_column][vc_empty_space height=»160″][/vc_column][/vc_row]
URL:https://www.escuelaeuropeaexcelencia.com/evento/workshop-planificacion-y-control-operacional-segun-la-norma-iso-9001/
CATEGORIES:Calidad,Eventos Club Alumni
ATTACH;FMTTYPE=image/jpeg:https://www.escuelaeuropeaexcelencia.com/wp-content/uploads/2025/02/Planificacion-y-Control-Operacional-segun-la-norma-ISO-9001-1024x410-1.jpg
END:VEVENT
END:VCALENDAR