

BEGIN:VCALENDAR
VERSION:2.0
PRODID:-//Escuela Europea de Excelencia - ECPv6.15.20//NONSGML v1.0//EN
CALSCALE:GREGORIAN
METHOD:PUBLISH
X-WR-CALNAME:Escuela Europea de Excelencia
X-ORIGINAL-URL:https://www.escuelaeuropeaexcelencia.com
X-WR-CALDESC:Eventos para Escuela Europea de Excelencia
REFRESH-INTERVAL;VALUE=DURATION:PT1H
X-Robots-Tag:noindex
X-PUBLISHED-TTL:PT1H
BEGIN:VTIMEZONE
TZID:Europe/Madrid
BEGIN:DAYLIGHT
TZOFFSETFROM:+0100
TZOFFSETTO:+0200
TZNAME:CEST
DTSTART:20240331T010000
END:DAYLIGHT
BEGIN:STANDARD
TZOFFSETFROM:+0200
TZOFFSETTO:+0100
TZNAME:CET
DTSTART:20241027T010000
END:STANDARD
BEGIN:DAYLIGHT
TZOFFSETFROM:+0100
TZOFFSETTO:+0200
TZNAME:CEST
DTSTART:20250330T010000
END:DAYLIGHT
BEGIN:STANDARD
TZOFFSETFROM:+0200
TZOFFSETTO:+0100
TZNAME:CET
DTSTART:20251026T010000
END:STANDARD
BEGIN:DAYLIGHT
TZOFFSETFROM:+0100
TZOFFSETTO:+0200
TZNAME:CEST
DTSTART:20260329T010000
END:DAYLIGHT
BEGIN:STANDARD
TZOFFSETFROM:+0200
TZOFFSETTO:+0100
TZNAME:CET
DTSTART:20261025T010000
END:STANDARD
END:VTIMEZONE
BEGIN:VEVENT
DTSTART;TZID=Europe/Madrid:20250219T160000
DTEND;TZID=Europe/Madrid:20250219T183000
DTSTAMP:20260419T232858
CREATED:20250113T122019Z
LAST-MODIFIED:20250214T104223Z
UID:21145727-1739980800-1739989800@www.escuelaeuropeaexcelencia.com
SUMMARY:Workshop: Liderazgo y Planificación Estratégica con Kantan: Impulsa el Cumplimiento\, Establece Objetivos e Identifica los Riesgos
DESCRIPTION:[vc_row row_content_position=»middle»][vc_column width=»2/12″][/vc_column][vc_column width=»8/12″ css=».vc_custom_1699538663174{background-color: #ffffff !important;}» el_class=»fecha-hora-evento»][vc_row_inner][vc_column_inner width=»1/12″][vc_column_text el_class=»fechaES-nueva»] \nFecha:\n[/vc_column_text][/vc_column_inner][vc_column_inner width=»4/12″][vc_acf field_group=»21099038″ field_from_21099038=»field_619b86bc5eb64″ field_from_99038=»field_6143b5884b940″ el_class=»fechaES-nueva»][/vc_column_inner][vc_column_inner width=»7/12″][vc_column_text el_class=»fecha-evento-nueva»]Hora:  Madrid\,España ⇨ 16:00-18:30h.[/vc_column_text][/vc_column_inner][/vc_row_inner][/vc_column][vc_column width=»2/12″ css=».vc_custom_1699531916970{background-color: #ffffff !important;}»][/vc_column][/vc_row][vc_section css_animation=»none» el_class=»puntos-y eventos» css=».vc_custom_1699544350413{margin-top: 30px !important;background-color: #f3f1f1 !important;}» el_id=»main-curso-eee»][vc_row el_class=»main-eventos»][vc_column width=»1/2″ el_class=»info-evento check»][vc_row_inner equal_height=»» content_placement=»» gap=»0″ is_sticky=»» sticky_container_selector=».vc_row» sticky_min_width=»767″ sticky_top=»110″ sticky_bottom=»0″ sticky_active_class=»sticky-active» animation_duration=»1000″ animation_delay=»0″ animation_type=»»][vc_column_inner][vc_column_text]Descubre cómo fortalecer el liderazgo y la planificación estratégica en tu organización con el workshop «Liderazgo y Planificación Estratégica con Kantan: Impulsa el Cumplimiento Normativo\, Establece Objetivos e Identifica los Riesgos para Dar Cumplimiento». Este evento está diseñado para profundizar en los capítulos 5 y 6 de las normas ISO\, destacando el papel fundamental de la alta dirección en la definición de políticas\, objetivos y estrategias. \nDurante el workshop\, se explorará cómo la plataforma Kantan digitaliza y simplifica estas tareas\, permitiendo gestionar de manera eficiente la planificación estratégica\, la identificación de riesgos y oportunidades\, y el seguimiento de objetivos. Aprende a alinear tus esfuerzos con los requisitos normativos\, garantizando la mejora continua y una gestión más efectiva de tu sistema. Un espacio único para integrar liderazgo\, tecnología y normatividad en un modelo de gestión eficiente.[/vc_column_text][/vc_column_inner][/vc_row_inner][/vc_column][vc_column width=»1/2″][vc_custom_heading text=»Reserva tu plaza gratuita» font_container=»tag:h4|text_align:center|color:%23ffffff» google_fonts=»font_family:Source%20Sans%20Pro%3A200%2C200italic%2C300%2C300italic%2Cregular%2Citalic%2C600%2C600italic%2C700%2C700italic%2C900%2C900italic|font_style:400%20regular%3A400%3Anormal» el_class=»encabezado-form-evento»][vc_raw_html el_class=»formulario-eventos» css=».vc_custom_1739529740403{padding-top: 15px !important;padding-right: 15px !important;padding-bottom: 15px !important;padding-left: 25px !important;background-color: #ffffff !important;}»]JTNDc2NyaXB0JTIwY2hhcnNldCUzRCUyMnV0Zi04JTIyJTIwdHlwZSUzRCUyMnRleHQlMkZqYXZhc2NyaXB0JTIyJTIwc3JjJTNEJTIyJTJGJTJGanMuaHNmb3Jtcy5uZXQlMkZmb3JtcyUyRmVtYmVkJTJGdjIuanMlMjIlM0UlM0MlMkZzY3JpcHQlM0UlMEElM0NzY3JpcHQlM0UlMEElMjAlMjBoYnNwdC5mb3Jtcy5jcmVhdGUlMjglN0IlMEElMjAlMjAlMjAlMjBwb3J0YWxJZCUzQSUyMCUyMjQ1OTExNyUyMiUyQyUwQSUyMCUyMCUyMCUyMGZvcm1JZCUzQSUyMCUyMjE2ODZiYWMzLTMzYzktNDZjNi04N2ExLWRmNDgwYTc3NzQ2ZiUyMiUwQSUyMCUyMCU3RCUyOSUzQiUwQSUzQyUyRnNjcmlwdCUzRQ==[/vc_raw_html][vc_row_inner css=».vc_custom_1699543777777{margin-top: 30px !important;}»][vc_column_inner el_class=»toggle-horario»]\n	\n			\n				Horario\n			\n		\n España ⇨ 16:00-18:30h.\n Ecuador ⇨ 10:00-12:30h.\n Colombia ⇨ 10:00-12:30h.\n Perú ⇨ 10:00-12:30h.\n Chile ⇨ 12:00-14:30h.\n México ⇨ 09:00-11:30h.\n Argentina ⇨ 12:00-14:30h.\n\n[/vc_column_inner][/vc_row_inner][/vc_column][/vc_row][vc_row el_class=»main-eventos» css=».vc_custom_1699529578560{margin-top: 50px !important;}»][vc_column][vc_separator color=»custom» accent_color=»#dddddd» css=».vc_custom_1699621499982{padding-bottom: 30px !important;}»][vc_row_inner column_inner_spacing=»60″ equal_height=»» content_placement=»» gap=»0″ is_sticky=»» sticky_container_selector=».vc_row» sticky_min_width=»767″ sticky_top=»110″ sticky_bottom=»0″ sticky_active_class=»sticky-active» animation_duration=»1000″ animation_delay=»0″ el_class=»info-evento» animation_type=»»][vc_column_inner width=»1/3″][vc_column_text el_class=»mostrar-list»] \nObjetivos\n\nEn este webinar\, se cubrirán los capítulos 5 y 6\, donde se destaca el papel del liderazgo y la planificación estratégica. Los participantes aprenderán cómo la alta dirección debe involucrarse activamente en definir políticas y objetivos\, y cómo la plataforma Kantan facilita esta tarea de forma digital. Se enseñará a gestionar la planificación de objetivos\, identificar riesgos y oportunidades\, y cómo Kantan permite un seguimiento continuo para asegurar que estos estén alineados con los requisitos normativos\, mejorando la efectividad del sistema de gestión.\n\n[/vc_column_text][/vc_column_inner][vc_column_inner width=»1/3″][vc_column_text el_class=»mostrar-list»] \nBeneficios de asistir a este evento\n\nFortalecimiento del liderazgo estratégico: Aprende cómo la alta dirección puede liderar de manera efectiva el cumplimiento normativo\, definiendo políticas y objetivos claros alineados con las normas ISO.\nGestión eficiente de riesgos y oportunidades: Descubre cómo identificar y abordar riesgos y oportunidades estratégicos mediante herramientas digitales que simplifican la planificación y aseguran el cumplimiento normativo.\nOptimización a través de la digitalización: Explora cómo la plataforma Kantan facilita la planificación\, el seguimiento de objetivos y la evaluación continua\, ahorrando tiempo y mejorando la efectividad de los sistemas de gestión.\n\n[/vc_column_text][/vc_column_inner][vc_column_inner width=»1/3″][vc_column_text el_class=»mostrar-list»] \nDirigido a\n\nEste workshop está dirigido a líderes empresariales\, gerentes de sistemas de gestión\, responsables de calidad\, seguridad\, medio ambiente y cumplimiento normativo\, así como a profesionales involucrados en la planificación estratégica y la gestión de riesgos. Es ideal para aquellos que buscan fortalecer su liderazgo\, mejorar la planificación de objetivos estratégicos y adoptar herramientas digitales\, como Kantan\, para optimizar la gestión y asegurar el cumplimiento de las normas ISO en sus organizaciones.\n\n[/vc_column_text][/vc_column_inner][/vc_row_inner][vc_separator color=»custom» accent_color=»#dddddd» css=».vc_custom_1699621523027{padding-top: 30px !important;padding-bottom: 30px !important;}»][/vc_column][/vc_row][vc_row el_class=»main-eventos» css=».vc_custom_1699529586676{margin-top: 50px !important;}»][vc_column][vc_row_inner equal_height=»» content_placement=»» gap=»0″ is_sticky=»» sticky_container_selector=».vc_row» sticky_min_width=»767″ sticky_top=»110″ sticky_bottom=»0″ sticky_active_class=»sticky-active» animation_duration=»1000″ animation_delay=»0″ el_id=»grid-docentes» animation_type=»» el_class=»slider-docentes info-evento»][vc_column_inner el_id=»docente»][vc_column_text] \nNuestros ponentes\n[/vc_column_text]\n        \n        \n            \n                 \n                \n                    \n            Julio Ardila\n          \nCONSULTOR EXPERTO DE ESG INNOVA COLOMBIA\n \n                \n                \n            \n        \n    \n        \n            \n                 \n                \n                    \n            Juan Pablo Gómez\n          \nCONSULTOR EXPERTO DE ESG INNOVA COLOMBIA\n \n                \n                \n            \n        \n    \n	[/vc_column_inner][/vc_row_inner][vc_row_inner equal_height=»» content_placement=»» gap=»0″ is_sticky=»» sticky_container_selector=».vc_row» sticky_min_width=»767″ sticky_top=»110″ sticky_bottom=»0″ sticky_active_class=»sticky-active» animation_duration=»1000″ animation_delay=»0″ el_class=»info-evento» animation_type=»»][vc_column_inner]\n	[vc_column_text] \nEmpresas colaboradoras\n[/vc_column_text][/vc_column_inner][/vc_row_inner][vc_row_inner equal_height=»» content_placement=»» gap=»0″ is_sticky=»» sticky_container_selector=».vc_row» sticky_min_width=»767″ sticky_top=»110″ sticky_bottom=»0″ sticky_active_class=»sticky-active» animation_duration=»1000″ animation_delay=»0″ animation_type=»» css=».vc_custom_1699527372388{margin-top: 10px !important;margin-bottom: 10px !important;}»][vc_column_inner width=»1/4″][vc_single_image image=»21099498″ css_animation=»fadeIn»][/vc_column_inner][vc_column_inner width=»1/4″][vc_single_image image=»21145227″ css_animation=»fadeIn»][/vc_column_inner][vc_column_inner width=»1/4″][/vc_column_inner][vc_column_inner width=»1/4″][/vc_column_inner][/vc_row_inner][/vc_column][/vc_row][/vc_section][vc_row][vc_column][vc_empty_space height=»160″][/vc_column][/vc_row]
URL:https://www.escuelaeuropeaexcelencia.com/evento/workshop-liderazgo-y-planificacion-estrategica-con-kantan-impulsa-el-cumplimiento-establece-objetivos-e-identifica-los-riesgos/
CATEGORIES:Calidad,Eventos Club Alumni
ATTACH;FMTTYPE=image/jpeg:https://www.escuelaeuropeaexcelencia.com/wp-content/uploads/2025/01/Liderazgo-y-Planificacion-Estrategica-con-Kantan-Impulsa-el-Cumplimiento-Establece-Objetivos-e-Identifica-los-Riesgos.jpg
END:VEVENT
END:VCALENDAR