

BEGIN:VCALENDAR
VERSION:2.0
PRODID:-//Escuela Europea de Excelencia - ECPv6.15.20//NONSGML v1.0//EN
CALSCALE:GREGORIAN
METHOD:PUBLISH
X-ORIGINAL-URL:https://www.escuelaeuropeaexcelencia.com
X-WR-CALDESC:Eventos para Escuela Europea de Excelencia
REFRESH-INTERVAL;VALUE=DURATION:PT1H
X-Robots-Tag:noindex
X-PUBLISHED-TTL:PT1H
BEGIN:VTIMEZONE
TZID:Europe/Madrid
BEGIN:DAYLIGHT
TZOFFSETFROM:+0100
TZOFFSETTO:+0200
TZNAME:CEST
DTSTART:20240331T010000
END:DAYLIGHT
BEGIN:STANDARD
TZOFFSETFROM:+0200
TZOFFSETTO:+0100
TZNAME:CET
DTSTART:20241027T010000
END:STANDARD
BEGIN:DAYLIGHT
TZOFFSETFROM:+0100
TZOFFSETTO:+0200
TZNAME:CEST
DTSTART:20250330T010000
END:DAYLIGHT
BEGIN:STANDARD
TZOFFSETFROM:+0200
TZOFFSETTO:+0100
TZNAME:CET
DTSTART:20251026T010000
END:STANDARD
BEGIN:DAYLIGHT
TZOFFSETFROM:+0100
TZOFFSETTO:+0200
TZNAME:CEST
DTSTART:20260329T010000
END:DAYLIGHT
BEGIN:STANDARD
TZOFFSETFROM:+0200
TZOFFSETTO:+0100
TZNAME:CET
DTSTART:20261025T010000
END:STANDARD
END:VTIMEZONE
BEGIN:VEVENT
DTSTART;TZID=Europe/Madrid:20250212T160000
DTEND;TZID=Europe/Madrid:20250212T183000
DTSTAMP:20260419T232422
CREATED:20250113T121046Z
LAST-MODIFIED:20250212T155438Z
UID:21145720-1739376000-1739385000@www.escuelaeuropeaexcelencia.com
SUMMARY:Workshop: Contexto Organizacional para el Cumplimiento de Normas ISO con IA y Digitalización de KANTAN
DESCRIPTION:[vc_row row_content_position=»middle»][vc_column width=»2/12″][/vc_column][vc_column width=»8/12″ css=».vc_custom_1699538663174{background-color: #ffffff !important;}» el_class=»fecha-hora-evento»][vc_row_inner][vc_column_inner width=»1/12″][vc_column_text el_class=»fechaES-nueva»] \nFecha:\n[/vc_column_text][/vc_column_inner][vc_column_inner width=»4/12″][vc_acf field_group=»21099038″ field_from_21099038=»field_619b86bc5eb64″ field_from_99038=»field_6143b5884b940″ el_class=»fechaES-nueva»][/vc_column_inner][vc_column_inner width=»7/12″][vc_column_text el_class=»fecha-evento-nueva»]Hora:  Madrid\,España ⇨ 16:00-18:30h.[/vc_column_text][/vc_column_inner][/vc_row_inner][/vc_column][vc_column width=»2/12″ css=».vc_custom_1699531916970{background-color: #ffffff !important;}»][/vc_column][/vc_row][vc_section css_animation=»none» el_class=»puntos-y eventos» css=».vc_custom_1699544350413{margin-top: 30px !important;background-color: #f3f1f1 !important;}» el_id=»main-curso-eee»][vc_row el_class=»main-eventos»][vc_column width=»1/2″ el_class=»info-evento check»][vc_row_inner equal_height=»» content_placement=»» gap=»0″ is_sticky=»» sticky_container_selector=».vc_row» sticky_min_width=»767″ sticky_top=»110″ sticky_bottom=»0″ sticky_active_class=»sticky-active» animation_duration=»1000″ animation_delay=»0″ animation_type=»»][vc_column_inner][vc_column_text]Este workshop se centrará en cómo identificar y mapear el contexto organizacional de acuerdo con las exigencias del capítulo 4 de la estructura de alto nivel de las normas ISO\, utilizando las funcionalidades avanzadas de Kantan Software. Aprenderás a gestionar eficazmente las partes interesadas\, comprendiendo sus necesidades y expectativas\, y a utilizar inteligencia artificial para tomar decisiones estratégicas informadas.  \nAdemás\, exploraremos cómo la digitalización simplifica y optimiza estos procesos\, garantizando no solo el cumplimiento normativo\, sino también una mejora en la eficiencia operativa y en la capacidad de respuesta de la organización. Este evento es una oportunidad única para descubrir herramientas prácticas que transformarán tu enfoque de gestión y te posicionarán como líder en tu sector.[/vc_column_text][/vc_column_inner][/vc_row_inner][/vc_column][vc_column width=»1/2″][vc_custom_heading text=»Reserva tu plaza gratuita» font_container=»tag:h4|text_align:center|color:%23ffffff» google_fonts=»font_family:Source%20Sans%20Pro%3A200%2C200italic%2C300%2C300italic%2Cregular%2Citalic%2C600%2C600italic%2C700%2C700italic%2C900%2C900italic|font_style:400%20regular%3A400%3Anormal» el_class=»encabezado-form-evento»][vc_raw_html el_class=»formulario-eventos» css=».vc_custom_1739375421395{padding-top: 30px !important;padding-right: 30px !important;padding-bottom: 30px !important;padding-left: 30px !important;background-color: #ffffff !important;}»]JTNDc2NyaXB0JTIwY2hhcnNldCUzRCUyMnV0Zi04JTIyJTIwdHlwZSUzRCUyMnRleHQlMkZqYXZhc2NyaXB0JTIyJTIwc3JjJTNEJTIyJTJGJTJGanMuaHNmb3Jtcy5uZXQlMkZmb3JtcyUyRmVtYmVkJTJGdjIuanMlMjIlM0UlM0MlMkZzY3JpcHQlM0UlMEElM0NzY3JpcHQlM0UlMEElMjAlMjBoYnNwdC5mb3Jtcy5jcmVhdGUlMjglN0IlMEElMjAlMjAlMjAlMjBwb3J0YWxJZCUzQSUyMCUyMjQ1OTExNyUyMiUyQyUwQSUyMCUyMCUyMCUyMGZvcm1JZCUzQSUyMCUyMmYzZmFjMWM3LTdjZmQtNGExNC05MDM0LTBhOTNiMGIzYjVlYyUyMiUwQSUyMCUyMCU3RCUyOSUzQiUwQSUzQyUyRnNjcmlwdCUzRQ==[/vc_raw_html][vc_row_inner css=».vc_custom_1699543777777{margin-top: 30px !important;}»][vc_column_inner el_class=»toggle-horario»]\n	\n			\n				Horario\n			\n		\n España ⇨ 16:00-18:30h.\n Ecuador ⇨ 10:00-12:30h.\n Colombia ⇨ 10:00-12:30h.\n Perú ⇨ 10:00-12:30h.\n Chile ⇨ 12:00-14:30h.\n México ⇨ 09:00-11:30h.\n Argentina ⇨ 12:00-14:30h.\n\n[/vc_column_inner][/vc_row_inner][/vc_column][/vc_row][vc_row el_class=»main-eventos» css=».vc_custom_1699529578560{margin-top: 50px !important;}»][vc_column][vc_separator color=»custom» accent_color=»#dddddd» css=».vc_custom_1699621499982{padding-bottom: 30px !important;}»][vc_row_inner column_inner_spacing=»60″ equal_height=»» content_placement=»» gap=»0″ is_sticky=»» sticky_container_selector=».vc_row» sticky_min_width=»767″ sticky_top=»110″ sticky_bottom=»0″ sticky_active_class=»sticky-active» animation_duration=»1000″ animation_delay=»0″ el_class=»info-evento» animation_type=»»][vc_column_inner width=»1/3″][vc_column_text el_class=»mostrar-list»] \nObjetivos\n\nEn este workshop\, se explicará cómo identificar el contexto organizacional según el capítulo 4 de la estructura de alto nivel de las normas ISO de sistemas de gestión. Se destacarán algunas metodologías en Kantan\, como la integración de IA para mapear el contexto organizacional y gestionar las partes interesadas\, sus necesidades y expectativas. Los participantes aprenderán cómo estas funcionalidades permiten la toma de decisiones estratégicas\, garantizando el alineamiento con los requisitos normativos de manera eficiente\, optimizando el proceso mediante la digitalización.\n\n[/vc_column_text][/vc_column_inner][vc_column_inner width=»1/3″][vc_column_text el_class=»mostrar-list»] \nBeneficios de asistir a este evento\n\nOptimización de procesos mediante digitalización: Aprende cómo implementar tecnologías avanzadas\, como la inteligencia artificial\, para simplificar y automatizar la gestión del contexto organizacional y de las partes interesadas\, ahorrando tiempo y recursos.\nToma de decisiones estratégicas fundamentadas: Descubre cómo mapear las necesidades y expectativas de las partes interesadas de manera precisa\, asegurando decisiones alineadas con los requisitos normativos y objetivos organizacionales.\nCumplimiento normativo eficiente: Conoce herramientas prácticas para garantizar el alineamiento con las normas ISO\, mejorando la preparación de tu organización y fortaleciendo su capacidad para cumplir con los estándares internacionales.\n\n[/vc_column_text][/vc_column_inner][vc_column_inner width=»1/3″][vc_column_text el_class=»mostrar-list»] \nDirigido a\n\nEste workshop está dirigido a profesionales responsables de sistemas de gestión\, como gerentes de calidad\, medio ambiente\, seguridad y salud ocupacional\, así como a consultores\, auditores y equipos técnicos encargados de implementar normas ISO en sus organizaciones. También es ideal para líderes empresariales y responsables de estrategia que buscan optimizar la toma de decisiones estratégicas a través del uso de herramientas digitales y la inteligencia artificial\, garantizando el cumplimiento normativo y una gestión más eficiente del contexto organizacional y las partes interesadas.\n\n[/vc_column_text][/vc_column_inner][/vc_row_inner][vc_separator color=»custom» accent_color=»#dddddd» css=».vc_custom_1699621523027{padding-top: 30px !important;padding-bottom: 30px !important;}»][/vc_column][/vc_row][vc_row el_class=»main-eventos» css=».vc_custom_1699529586676{margin-top: 50px !important;}»][vc_column][vc_row_inner equal_height=»» content_placement=»» gap=»0″ is_sticky=»» sticky_container_selector=».vc_row» sticky_min_width=»767″ sticky_top=»110″ sticky_bottom=»0″ sticky_active_class=»sticky-active» animation_duration=»1000″ animation_delay=»0″ el_id=»grid-docentes» animation_type=»» el_class=»slider-docentes info-evento»][vc_column_inner el_id=»docente»][vc_column_text] \nNuestros ponentes\n[/vc_column_text]\n        \n        \n            \n                 \n                \n                    \n            Julio Ardila\n          \nCONSULTOR EXPERTO DE ESG INNOVA COLOMBIA\n \n                \n                \n            \n        \n    \n        \n            \n                 \n                \n                    \n            Juan Pablo Gómez\n          \nCONSULTOR EXPERTO DE ESG INNOVA COLOMBIA\n \n                \n                \n            \n        \n    \n	[/vc_column_inner][/vc_row_inner][vc_row_inner equal_height=»» content_placement=»» gap=»0″ is_sticky=»» sticky_container_selector=».vc_row» sticky_min_width=»767″ sticky_top=»110″ sticky_bottom=»0″ sticky_active_class=»sticky-active» animation_duration=»1000″ animation_delay=»0″ el_class=»info-evento» animation_type=»»][vc_column_inner]\n	[vc_column_text] \nEmpresas colaboradoras\n[/vc_column_text][/vc_column_inner][/vc_row_inner][vc_row_inner equal_height=»» content_placement=»» gap=»0″ is_sticky=»» sticky_container_selector=».vc_row» sticky_min_width=»767″ sticky_top=»110″ sticky_bottom=»0″ sticky_active_class=»sticky-active» animation_duration=»1000″ animation_delay=»0″ animation_type=»» css=».vc_custom_1699527372388{margin-top: 10px !important;margin-bottom: 10px !important;}»][vc_column_inner width=»1/4″][vc_single_image image=»21099498″ css_animation=»fadeIn»][/vc_column_inner][vc_column_inner width=»1/4″][vc_single_image image=»21145227″ css_animation=»fadeIn»][/vc_column_inner][vc_column_inner width=»1/4″][/vc_column_inner][vc_column_inner width=»1/4″][/vc_column_inner][/vc_row_inner][/vc_column][/vc_row][/vc_section][vc_row][vc_column][vc_empty_space height=»160″][/vc_column][/vc_row]
URL:https://www.escuelaeuropeaexcelencia.com/evento/workshop-contexto-organizacional-para-el-cumplimiento-de-normas-iso-con-ia-y-digitalizacion-de-kantan/
CATEGORIES:Calidad,Eventos Club Alumni
ATTACH;FMTTYPE=image/jpeg:https://www.escuelaeuropeaexcelencia.com/wp-content/uploads/2025/01/Contexto-Organizacional-para-el-Cumplimiento-de-Normas-ISO-con-IA-y-Digitalizacion-de-KANTAN.jpg
END:VEVENT
END:VCALENDAR