

BEGIN:VCALENDAR
VERSION:2.0
PRODID:-//Escuela Europea de Excelencia - ECPv6.15.20//NONSGML v1.0//EN
CALSCALE:GREGORIAN
METHOD:PUBLISH
X-ORIGINAL-URL:https://www.escuelaeuropeaexcelencia.com
X-WR-CALDESC:Eventos para Escuela Europea de Excelencia
REFRESH-INTERVAL;VALUE=DURATION:PT1H
X-Robots-Tag:noindex
X-PUBLISHED-TTL:PT1H
BEGIN:VTIMEZONE
TZID:Europe/Madrid
BEGIN:DAYLIGHT
TZOFFSETFROM:+0100
TZOFFSETTO:+0200
TZNAME:CEST
DTSTART:20230326T010000
END:DAYLIGHT
BEGIN:STANDARD
TZOFFSETFROM:+0200
TZOFFSETTO:+0100
TZNAME:CET
DTSTART:20231029T010000
END:STANDARD
BEGIN:DAYLIGHT
TZOFFSETFROM:+0100
TZOFFSETTO:+0200
TZNAME:CEST
DTSTART:20240331T010000
END:DAYLIGHT
BEGIN:STANDARD
TZOFFSETFROM:+0200
TZOFFSETTO:+0100
TZNAME:CET
DTSTART:20241027T010000
END:STANDARD
BEGIN:DAYLIGHT
TZOFFSETFROM:+0100
TZOFFSETTO:+0200
TZNAME:CEST
DTSTART:20250330T010000
END:DAYLIGHT
BEGIN:STANDARD
TZOFFSETFROM:+0200
TZOFFSETTO:+0100
TZNAME:CET
DTSTART:20251026T010000
END:STANDARD
END:VTIMEZONE
BEGIN:VEVENT
DTSTART;TZID=Europe/Madrid:20241203T180000
DTEND;TZID=Europe/Madrid:20241203T190000
DTSTAMP:20260420T022836
CREATED:20241106T125845Z
LAST-MODIFIED:20241204T124742Z
UID:21144302-1733248800-1733252400@www.escuelaeuropeaexcelencia.com
SUMMARY:Transformación Digital de Sistemas de Gestión: Potenciando Decisiones con Inteligencia Artificial
DESCRIPTION:[vc_section css_animation=»none» el_class=»puntos-y eventos» css=».vc_custom_1631751554371{background-color: #f3f1f1 !important;}» el_id=»main-curso-eee»][vc_row el_class=»sticky-eee sticky-cursos»][vc_column el_class=»info-evento» offset=»vc_col-lg-9 vc_col-md-8 vc_hidden-sm vc_hidden-xs»][/vc_column][vc_column el_class=»wpb_animate_when_almost_visible wpb_bottom-to-top bottom-to-top wpb_start_animation animated» offset=»vc_col-lg-3 vc_col-md-4″][vc_row_inner el_id=»sidebar-ficha-eee» el_class=»wpb_animate_when_almost_visible wpb_bottom-to-top bottom-to-top wpb_start_animation animated»][vc_column_inner el_class=»box-sidebar-ficha evento»]\n		¡QUIERO INSCRIBIRME! \n	[vc_column_text el_class=»fecha-evento»] \nFecha:\n[/vc_column_text][vc_acf field_group=»21099038″ field_from_21099038=»field_619b86bc5eb64″ field_from_99038=»field_6143b5884b940″ el_class=»fechaES»][vc_column_text el_class=»country-evento»]Horario \n\n España ⇨ 16:00 h.\n Ecuador ⇨ 9:00 h.\n Colombia ⇨ 9:00 h.\n Perú ⇨ 9:00 h.\n Chile ⇨ 10:00 h.\n México ⇨ 8:00 h.\n Argentina ⇨ 11:00 h.\n\n[/vc_column_text][/vc_column_inner][/vc_row_inner][/vc_column][/vc_row][vc_row el_class=»main-info-curso main-eventos»][vc_column el_class=»info-evento check» offset=»vc_col-lg-8 vc_col-md-8″][vc_row_inner el_class=»info-evento»][vc_column_inner][vc_column_text]Descubre cómo llevar tu Sistema de Gestión al siguiente nivel con la integración de Inteligencia Artificial (IA). En este evento especial\, exploraremos cómo Kantan Software revoluciona la gestión organizacional\, permitiéndote transformar datos en decisiones inteligentes\, optimizar procesos y mejorar el cumplimiento de normativas. \nA lo largo de la sesión\, te mostraremos cómo la IA puede automatizar tareas críticas\, facilitar análisis predictivos y potenciar el rendimiento de tu sistema de gestión. Además\, conocerás casos prácticos de empresas que ya están utilizando Kantan para alcanzar niveles superiores de eficiencia y adaptabilidad en un entorno cada vez más digital. \nEste evento es ideal para responsables de calidad\, gestores de sistemas\, directivos y profesionales de transformación digital que buscan herramientas innovadoras para optimizar su gestión y mantenerse a la vanguardia tecnológica. ¡No te pierdas esta oportunidad de descubrir cómo Kantan puede transformar tu organización![/vc_column_text][/vc_column_inner][/vc_row_inner][vc_row_inner el_class=»info-evento»][vc_column_inner]\n				 \n			[vc_column_text] \nObjetivo\n\nEl objetivo principal del evento es mostrar a los participantes cómo integrar la inteligencia artificial (IA) en sus sistemas de gestión a través de Kantan Software\, transformando datos en información accionable para tomar decisiones más inteligentes\, optimizar procesos clave y mejorar el cumplimiento de normativas en un entorno empresarial digitalizado.\n\n[/vc_column_text]\n				 \n			[vc_column_text] \nBeneficios de asistir a este evento\n\nDescubre el potencial de la inteligencia artificial en la gestión empresarial: Aprende cómo Kantan Software utiliza IA para transformar datos complejos en decisiones estratégicas\, mejorando la eficiencia y efectividad de tu sistema de gestión.\nOptimiza procesos y ahorra tiempo: Conoce herramientas prácticas para automatizar tareas clave en la gestión organizacional\, reduciendo la carga administrativa y permitiéndote centrarte en actividades de mayor valor. \nInspírate con casos reales de éxito: Explora ejemplos concretos de empresas que han implementado Kantan con IA\, logrando una transformación digital que mejora su adaptabilidad\, cumplimiento y rendimiento general.\n\n[/vc_column_text]\n				 \n			[vc_column_text] \nDirigido a\n\n\n\nResponsables de calidad\, gestores de sistemas integrados\, directores de operaciones\, profesionales de transformación digital y líderes empresariales interesados en aprovechar el poder de la inteligencia artificial para optimizar sus sistemas de gestión.\nEs ideal para quienes buscan herramientas innovadoras que les permitan automatizar procesos\, mejorar la toma de decisiones y garantizar el cumplimiento normativo en un entorno empresarial digitalizado.\nTambién es relevante para aquellos que desean mantenerse a la vanguardia tecnológica y explorar soluciones prácticas que impulsen la eficiencia y la sostenibilidad en sus organizaciones.\n\n\n\n[/vc_column_text][/vc_column_inner][/vc_row_inner][vc_row_inner el_class=»slider-docentes info-evento» el_id=»grid-docentes»][vc_column_inner el_id=»docente»]\n				 \n			[vc_column_text] \nNuestros ponentes\n[/vc_column_text]\n        \n        \n            \n                 \n                \n                    \n            Natalia Petrelli\n          \nCOUNTRY MANAGER DE ESG INNOVA COLOMBIA\n \n                \n                \n            \n        \n    \n        \n            \n                 \n                \n                    \n            Julio Ardila\n          \nCONSULTOR EXPERTO ESG INNOVA COLOMBIA\n \n                \n                \n            \n        \n    \n        \n            \n                 \n                \n                    \n            Juan Pablo Gómez\n          \nCONSULTOR EXPERTO ESG INNOVA COLOMBIA\n \n                \n                \n            \n        \n    \n	[/vc_column_inner][/vc_row_inner][vc_row_inner el_class=»info-evento»][vc_column_inner]\n	\n				 \n			[vc_column_text] \nEmpresas colaboradoras\n[/vc_column_text][/vc_column_inner][/vc_row_inner][vc_row_inner css=».vc_custom_1633527720072{margin-top: 10px !important;margin-bottom: 10px !important;}»][vc_column_inner width=»1/3″][vc_single_image image=»21099498″ alignment=»center» css_animation=»fadeIn»][/vc_column_inner][vc_column_inner width=»1/3″][vc_single_image image=»21106299″ css_animation=»fadeIn»][/vc_column_inner][vc_column_inner width=»1/3″][/vc_column_inner][/vc_row_inner]\n	[/vc_column][vc_column offset=»vc_col-lg-4 vc_col-md-4″][/vc_column][/vc_row][/vc_section]
URL:https://www.escuelaeuropeaexcelencia.com/evento/transformacion-digital-de-sistemas-de-gestion-potenciando-decisiones-con-inteligencia-artificial/
CATEGORIES:Calidad,Eventos Club Alumni
ATTACH;FMTTYPE=image/jpeg:https://www.escuelaeuropeaexcelencia.com/wp-content/uploads/2024/11/12DKantan.jpg
END:VEVENT
END:VCALENDAR