

BEGIN:VCALENDAR
VERSION:2.0
PRODID:-//Escuela Europea de Excelencia - ECPv6.15.20//NONSGML v1.0//EN
CALSCALE:GREGORIAN
METHOD:PUBLISH
X-WR-CALNAME:Escuela Europea de Excelencia
X-ORIGINAL-URL:https://www.escuelaeuropeaexcelencia.com
X-WR-CALDESC:Eventos para Escuela Europea de Excelencia
REFRESH-INTERVAL;VALUE=DURATION:PT1H
X-Robots-Tag:noindex
X-PUBLISHED-TTL:PT1H
BEGIN:VTIMEZONE
TZID:Europe/Madrid
BEGIN:DAYLIGHT
TZOFFSETFROM:+0100
TZOFFSETTO:+0200
TZNAME:CEST
DTSTART:20230326T010000
END:DAYLIGHT
BEGIN:STANDARD
TZOFFSETFROM:+0200
TZOFFSETTO:+0100
TZNAME:CET
DTSTART:20231029T010000
END:STANDARD
BEGIN:DAYLIGHT
TZOFFSETFROM:+0100
TZOFFSETTO:+0200
TZNAME:CEST
DTSTART:20240331T010000
END:DAYLIGHT
BEGIN:STANDARD
TZOFFSETFROM:+0200
TZOFFSETTO:+0100
TZNAME:CET
DTSTART:20241027T010000
END:STANDARD
BEGIN:DAYLIGHT
TZOFFSETFROM:+0100
TZOFFSETTO:+0200
TZNAME:CEST
DTSTART:20250330T010000
END:DAYLIGHT
BEGIN:STANDARD
TZOFFSETFROM:+0200
TZOFFSETTO:+0100
TZNAME:CET
DTSTART:20251026T010000
END:STANDARD
END:VTIMEZONE
BEGIN:VEVENT
DTSTART;TZID=Europe/Madrid:20241121T180000
DTEND;TZID=Europe/Madrid:20241121T190000
DTSTAMP:20260420T035147
CREATED:20241025T101532Z
LAST-MODIFIED:20241113T142822Z
UID:21143870-1732212000-1732215600@www.escuelaeuropeaexcelencia.com
SUMMARY:Workshop: Optimización de Recursos\, Gestión de Competencias y Documentación en Kantan
DESCRIPTION:[vc_section css_animation=»none» el_class=»puntos-y eventos» css=».vc_custom_1631751554371{background-color: #f3f1f1 !important;}» el_id=»main-curso-eee»][vc_row el_class=»sticky-eee sticky-cursos»][vc_column el_class=»info-evento» offset=»vc_col-lg-9 vc_col-md-8 vc_hidden-sm vc_hidden-xs»][/vc_column][vc_column el_class=»wpb_animate_when_almost_visible wpb_bottom-to-top bottom-to-top wpb_start_animation animated» offset=»vc_col-lg-3 vc_col-md-4″][vc_row_inner el_id=»sidebar-ficha-eee» el_class=»wpb_animate_when_almost_visible wpb_bottom-to-top bottom-to-top wpb_start_animation animated»][vc_column_inner el_class=»box-sidebar-ficha evento»]\n		¡QUIERO INSCRIBIRME! \n	[vc_column_text el_class=»fecha-evento»] \nFecha:\n[/vc_column_text][vc_acf field_group=»21099038″ field_from_21099038=»field_619b86bc5eb64″ field_from_99038=»field_6143b5884b940″ el_class=»fechaES»][vc_column_text el_class=»country-evento»]Horario \n\n España ⇨ 18:00-19:00h.\n Ecuador ⇨ 12:00-13:00h.\n Colombia ⇨ 12:00-13:00h.\n Perú ⇨ 12:00-13:00h.\n Chile ⇨ 14:00-15:00h.\n México ⇨ 11:00-12:00h.\n Argentina ⇨ 14:00-15:00h.\n\n[/vc_column_text][/vc_column_inner][/vc_row_inner][/vc_column][/vc_row][vc_row el_class=»main-info-curso main-eventos»][vc_column el_class=»info-evento check» offset=»vc_col-lg-8 vc_col-md-8″][vc_row_inner el_class=»info-evento»][vc_column_inner][vc_column_text]¿Quieres llevar la gestión de tu equipo y recursos al siguiente nivel? Este workshop te enseñará cómo utilizar Kantan para optimizar la asignación de recursos\, gestionar competencias del equipo y organizar la documentación clave de manera eficiente\, asegurando que tu organización cumpla con todos los requisitos legales y normativos. \nDurante este evento online\, exploraremos cómo Kantan facilita la planificación y distribución de recursos\, el seguimiento de las competencias y habilidades de los miembros del equipo\, y la administración de la documentación para que esté siempre actualizada y alineada con los estándares regulatorios. De la mano de expertos\, aprenderás a configurar Kantan para que se convierta en una herramienta central de apoyo en la gestión integral de tu equipo y procesos. \nEste workshop es ideal para gestores de proyectos\, responsables de recursos humanos y profesionales que deseen mejorar la eficiencia\, cumplimiento y control documental en sus equipos. ¡Únete y descubre cómo Kantan puede transformar la gestión de tus recursos y competencias![/vc_column_text][/vc_column_inner][/vc_row_inner][vc_row_inner el_class=»info-evento»][vc_column_inner]\n				 \n			[vc_column_text] \nObjetivos\n\nEl objetivo principal del workshop es capacitar a los participantes en el uso de Kantan para gestionar eficientemente los recursos y competencias de su equipo\, y organizar la documentación necesaria para cumplir con requisitos legales y normativos. A través de este evento\, los asistentes aprenderán a maximizar el uso de esta plataforma para mejorar la asignación de recursos\, mantener actualizadas las competencias del personal y asegurar un control documental efectivo\, impulsando así el cumplimiento y la eficiencia organizacional.\n\n[/vc_column_text]\n				 \n			[vc_column_text] \nBeneficios de asistir a este evento\n\nOptimización en la asignación de recursos: Los participantes aprenderán a utilizar Kantan para distribuir los recursos de forma eficiente\, asegurando que cada proyecto cuente con los medios necesarios y minimizando desperdicios.\nGestión eficaz de competencias del equipo: Aprenderán a monitorear y actualizar las competencias y habilidades del personal\, facilitando la asignación de tareas a personas con los conocimientos adecuados y promoviendo el desarrollo profesional dentro del equipo.\nAdministración de la documentación en cumplimiento normativo: Los asistentes descubrirán cómo organizar y mantener la documentación conforme a los estándares legales y regulatorios\, mejorando la trazabilidad y asegurando el cumplimiento de requisitos en todo momento.\n\n[/vc_column_text]\n				 \n			[vc_column_text] \nDirigido a\n\n\nEste workshop está dirigido a responsables de proyectos\, gestores de recursos humanos\, administradores de operaciones y profesionales de cumplimiento normativo que buscan mejorar la eficiencia en la gestión de recursos\, competencias y documentación dentro de sus equipos. Es ideal para aquellos que desean aprovechar las funcionalidades de Kantan para organizar sus recursos de manera óptima\, asegurar que el equipo cuente con las habilidades necesarias y mantener la documentación actualizada y en línea con los requisitos legales. Este evento proporcionará herramientas prácticas para quienes desean fortalecer el control y la productividad en sus procesos\, garantizando así una gestión más ágil y efectiva. \n\n\n[/vc_column_text][/vc_column_inner][/vc_row_inner][vc_row_inner el_class=»slider-docentes info-evento» el_id=»grid-docentes»][vc_column_inner el_id=»docente»]\n				 \n			[vc_column_text] \nNuestros ponentes\n[/vc_column_text]\n        \n        \n            \n                 \n                \n                    \n            Julio Ardila\n          \nCONSULTOR EXPERTO ESG INNOVA\n \n                \n                \n            \n        \n    \n	[/vc_column_inner][/vc_row_inner][vc_row_inner el_class=»info-evento»][vc_column_inner]\n	\n				 \n			[vc_column_text] \nEmpresas colaboradoras\n[/vc_column_text][/vc_column_inner][/vc_row_inner][vc_row_inner css=».vc_custom_1633527720072{margin-top: 10px !important;margin-bottom: 10px !important;}»][vc_column_inner width=»1/3″][vc_single_image image=»21099498″ alignment=»center» css_animation=»fadeIn»][/vc_column_inner][vc_column_inner width=»1/3″][vc_single_image image=»21106299″ css_animation=»fadeIn»][/vc_column_inner][vc_column_inner width=»1/3″][/vc_column_inner][/vc_row_inner]\n	[/vc_column][vc_column offset=»vc_col-lg-4 vc_col-md-4″][/vc_column][/vc_row][/vc_section]
URL:https://www.escuelaeuropeaexcelencia.com/evento/optimizacion-de-recursos-gestion-de-competencias-y-documentacion-en-kantan/
CATEGORIES:Calidad,Eventos Club Alumni
ATTACH;FMTTYPE=image/png:https://www.escuelaeuropeaexcelencia.com/wp-content/uploads/2024/11/caso-practico-kantan-3.png
END:VEVENT
END:VCALENDAR