

BEGIN:VCALENDAR
VERSION:2.0
PRODID:-//Escuela Europea de Excelencia - ECPv6.15.20//NONSGML v1.0//EN
CALSCALE:GREGORIAN
METHOD:PUBLISH
X-ORIGINAL-URL:https://www.escuelaeuropeaexcelencia.com
X-WR-CALDESC:Eventos para Escuela Europea de Excelencia
REFRESH-INTERVAL;VALUE=DURATION:PT1H
X-Robots-Tag:noindex
X-PUBLISHED-TTL:PT1H
BEGIN:VTIMEZONE
TZID:Europe/Madrid
BEGIN:DAYLIGHT
TZOFFSETFROM:+0100
TZOFFSETTO:+0200
TZNAME:CEST
DTSTART:20230326T010000
END:DAYLIGHT
BEGIN:STANDARD
TZOFFSETFROM:+0200
TZOFFSETTO:+0100
TZNAME:CET
DTSTART:20231029T010000
END:STANDARD
BEGIN:DAYLIGHT
TZOFFSETFROM:+0100
TZOFFSETTO:+0200
TZNAME:CEST
DTSTART:20240331T010000
END:DAYLIGHT
BEGIN:STANDARD
TZOFFSETFROM:+0200
TZOFFSETTO:+0100
TZNAME:CET
DTSTART:20241027T010000
END:STANDARD
BEGIN:DAYLIGHT
TZOFFSETFROM:+0100
TZOFFSETTO:+0200
TZNAME:CEST
DTSTART:20250330T010000
END:DAYLIGHT
BEGIN:STANDARD
TZOFFSETFROM:+0200
TZOFFSETTO:+0100
TZNAME:CET
DTSTART:20251026T010000
END:STANDARD
END:VTIMEZONE
BEGIN:VEVENT
DTSTART;TZID=Europe/Madrid:20241114T180000
DTEND;TZID=Europe/Madrid:20241114T190000
DTSTAMP:20260420T035327
CREATED:20241025T100405Z
LAST-MODIFIED:20241106T141152Z
UID:21143866-1731607200-1731610800@www.escuelaeuropeaexcelencia.com
SUMMARY:Workshop: Fundamentos de la Planificación del Sistema Integrado de Gestión (SIG)
DESCRIPTION:[vc_section css_animation=»none» el_class=»puntos-y eventos» css=».vc_custom_1631751554371{background-color: #f3f1f1 !important;}» el_id=»main-curso-eee»][vc_row el_class=»sticky-eee sticky-cursos»][vc_column el_class=»info-evento» offset=»vc_col-lg-9 vc_col-md-8 vc_hidden-sm vc_hidden-xs»][/vc_column][vc_column el_class=»wpb_animate_when_almost_visible wpb_bottom-to-top bottom-to-top wpb_start_animation animated» offset=»vc_col-lg-3 vc_col-md-4″][vc_row_inner el_id=»sidebar-ficha-eee» el_class=»wpb_animate_when_almost_visible wpb_bottom-to-top bottom-to-top wpb_start_animation animated»][vc_column_inner el_class=»box-sidebar-ficha evento»]\n		¡QUIERO INSCRIBIRME! \n	[vc_column_text el_class=»fecha-evento»] \nFecha:\n[/vc_column_text][vc_acf field_group=»21099038″ field_from_21099038=»field_619b86bc5eb64″ field_from_99038=»field_6143b5884b940″ el_class=»fechaES»][vc_column_text el_class=»country-evento»]Horario \n\n España ⇨ 18:00-19:00h.\n Ecuador ⇨ 12:00-13:00h.\n Colombia ⇨ 12:00-13:00h.\n Perú ⇨ 12:00-13:00h.\n Chile ⇨ 14:00-15:00h.\n México ⇨ 11:00-12:00h.\n Argentina ⇨ 14:00-15:00h.\n\n[/vc_column_text][/vc_column_inner][/vc_row_inner][/vc_column][/vc_row][vc_row el_class=»main-info-curso main-eventos»][vc_column el_class=»info-evento check» offset=»vc_col-lg-8 vc_col-md-8″][vc_row_inner el_class=»info-evento»][vc_column_inner][vc_column_text]¿Quieres aprender a estructurar un Sistema Integrado de Gestión (SIG) sólido y eficiente desde su base? Este workshop es una introducción esencial a los fundamentos de la planificación del SIG\, donde te guiaremos paso a paso para que puedas diseñar un sistema alineado con las necesidades de tu organización. \nEn este evento online\, descubrirás cómo analizar el contexto organizacional para establecer una base estratégica\, definir objetivos claros y estructurar el SIG de forma coherente y funcional. Con el apoyo de expertos en gestión integrada\, aprenderás a identificar los factores clave que afectan a tu organización y a traducirlos en un plan de acción orientado al cumplimiento de objetivos en calidad\, medio ambiente\, seguridad y otros ámbitos esenciales. \nEste workshop es ideal para profesionales de calidad\, medio ambiente y seguridad que deseen implementar un SIG efectivo y alineado con las estrategias de su organización. ¡Únete y da el primer paso para optimizar la gestión integrada en tu empresa![/vc_column_text][/vc_column_inner][/vc_row_inner][vc_row_inner el_class=»info-evento»][vc_column_inner]\n				 \n			[vc_column_text] \nObjetivos\n\nEl objetivo principal del workshop es capacitar a los participantes en la estructuración y planificación efectiva de un Sistema Integrado de Gestión (SIG)\, partiendo del análisis del contexto organizacional y la definición de objetivos estratégicos claros. A través de este evento\, se busca que los asistentes comprendan cómo construir un SIG alineado con las necesidades específicas de su organización\, integrando de manera coherente aspectos de calidad\, medio ambiente\, seguridad y otros componentes clave para mejorar el desempeño organizacional.\n\n[/vc_column_text]\n				 \n			[vc_column_text] \nBeneficios de asistir a este evento\n\nComprensión integral de la planificación del SIG: Los asistentes aprenderán a estructurar y planificar un Sistema Integrado de Gestión desde cero\, lo que les permitirá crear una base sólida y alineada con los objetivos de su organización.\nIdentificación de factores clave del contexto organizacional: Aprenderán a analizar el contexto interno y externo de su organización\, identificando los factores críticos que deben considerarse para diseñar un SIG efectivo y estratégico.\nDefinición de objetivos claros y alcanzables: Los participantes obtendrán herramientas prácticas para establecer objetivos bien definidos y medibles en áreas como calidad\, medio ambiente y seguridad\, mejorando la coordinación y eficiencia en el cumplimiento de estándares integrados.\n\n[/vc_column_text]\n				 \n			[vc_column_text] \nDirigido a\n\n\nEste workshop está dirigido a profesionales de gestión de calidad\, medio ambiente\, y SST\, así como a responsables de sistemas integrados y líderes de proyectos que desean implementar o mejorar un Sistema Integrado de Gestión (SIG) en sus organizaciones. También es ideal para consultores y gerentes que buscan fortalecer su conocimiento en la planificación estratégica del SIG\, asegurando que esté alineado con los objetivos organizacionales y adaptado al contexto específico de la empresa. Es una oportunidad perfecta para aquellos que desean optimizar los procesos de su organización y lograr un desempeño integral y eficiente en áreas clave. \n\n\n[/vc_column_text][/vc_column_inner][/vc_row_inner][vc_row_inner el_class=»slider-docentes info-evento» el_id=»grid-docentes»][vc_column_inner el_id=»docente»]\n				 \n			[vc_column_text] \nNuestros ponentes\n[/vc_column_text]\n        \n        \n            \n                 \n                \n                    \n            Julio Ardila\n          \nCONSULTOR EXPERTO ESG INNOVA\n \n                \n                \n            \n        \n    \n	[/vc_column_inner][/vc_row_inner][vc_row_inner el_class=»info-evento»][vc_column_inner]\n	\n				 \n			[vc_column_text] \nEmpresas colaboradoras\n[/vc_column_text][/vc_column_inner][/vc_row_inner][vc_row_inner css=».vc_custom_1633527720072{margin-top: 10px !important;margin-bottom: 10px !important;}»][vc_column_inner width=»1/3″][vc_single_image image=»21099498″ alignment=»center» css_animation=»fadeIn»][/vc_column_inner][vc_column_inner width=»1/3″][vc_single_image image=»21106299″ css_animation=»fadeIn»][/vc_column_inner][vc_column_inner width=»1/3″][/vc_column_inner][/vc_row_inner]\n	[/vc_column][vc_column offset=»vc_col-lg-4 vc_col-md-4″][/vc_column][/vc_row][/vc_section]
URL:https://www.escuelaeuropeaexcelencia.com/evento/workshop-fundamentos-de-la-planificacion-del-sistema-integrado-de-gestion-sig/
CATEGORIES:Calidad,Eventos Club Alumni
ATTACH;FMTTYPE=image/png:https://www.escuelaeuropeaexcelencia.com/wp-content/uploads/2024/11/workshop-kantan-2.png
END:VEVENT
END:VCALENDAR