

BEGIN:VCALENDAR
VERSION:2.0
PRODID:-//Escuela Europea de Excelencia - ECPv6.15.20//NONSGML v1.0//EN
CALSCALE:GREGORIAN
METHOD:PUBLISH
X-WR-CALNAME:Escuela Europea de Excelencia
X-ORIGINAL-URL:https://www.escuelaeuropeaexcelencia.com
X-WR-CALDESC:Eventos para Escuela Europea de Excelencia
REFRESH-INTERVAL;VALUE=DURATION:PT1H
X-Robots-Tag:noindex
X-PUBLISHED-TTL:PT1H
BEGIN:VTIMEZONE
TZID:Europe/Madrid
BEGIN:DAYLIGHT
TZOFFSETFROM:+0100
TZOFFSETTO:+0200
TZNAME:CEST
DTSTART:20230326T010000
END:DAYLIGHT
BEGIN:STANDARD
TZOFFSETFROM:+0200
TZOFFSETTO:+0100
TZNAME:CET
DTSTART:20231029T010000
END:STANDARD
BEGIN:DAYLIGHT
TZOFFSETFROM:+0100
TZOFFSETTO:+0200
TZNAME:CEST
DTSTART:20240331T010000
END:DAYLIGHT
BEGIN:STANDARD
TZOFFSETFROM:+0200
TZOFFSETTO:+0100
TZNAME:CET
DTSTART:20241027T010000
END:STANDARD
BEGIN:DAYLIGHT
TZOFFSETFROM:+0100
TZOFFSETTO:+0200
TZNAME:CEST
DTSTART:20250330T010000
END:DAYLIGHT
BEGIN:STANDARD
TZOFFSETFROM:+0200
TZOFFSETTO:+0100
TZNAME:CET
DTSTART:20251026T010000
END:STANDARD
END:VTIMEZONE
BEGIN:VEVENT
DTSTART;TZID=Europe/Madrid:20241017T180000
DTEND;TZID=Europe/Madrid:20241017T190000
DTSTAMP:20260420T052416
CREATED:20240902T085616Z
LAST-MODIFIED:20240910T140549Z
UID:21142435-1729188000-1729191600@www.escuelaeuropeaexcelencia.com
SUMMARY:Workshop: Mejora Continua y Gestión de Acciones Correctivas: Enfoque Multinorma en KANTAN
DESCRIPTION:[vc_section css_animation=»none» el_class=»puntos-y eventos» css=».vc_custom_1631751554371{background-color: #f3f1f1 !important;}» el_id=»main-curso-eee»][vc_row el_class=»sticky-eee sticky-cursos»][vc_column el_class=»info-evento» offset=»vc_col-lg-9 vc_col-md-8 vc_hidden-sm vc_hidden-xs»][/vc_column][vc_column el_class=»wpb_animate_when_almost_visible wpb_bottom-to-top bottom-to-top wpb_start_animation animated» offset=»vc_col-lg-3 vc_col-md-4″][vc_row_inner el_id=»sidebar-ficha-eee» el_class=»wpb_animate_when_almost_visible wpb_bottom-to-top bottom-to-top wpb_start_animation animated»][vc_column_inner el_class=»box-sidebar-ficha evento»]\n		¡QUIERO INSCRIBIRME! \n	[vc_column_text el_class=»fecha-evento»] \nFecha:\n[/vc_column_text][vc_acf field_group=»21099038″ field_from_21099038=»field_619b86bc5eb64″ field_from_99038=»field_6143b5884b940″ el_class=»fechaES»][vc_column_text el_class=»country-evento»]Horario \n\n España ⇨ 18:00-19:00h.\n Ecuador ⇨ 12:00-13:00h.\n Colombia ⇨ 12:00-13:00h.\n Perú ⇨ 11:00-12:00h.\n Chile ⇨ 13:00-14:00h.\n México ⇨ 11:00-12:00h.\n Argentina ⇨ 14:00-15:00h.\n\n[/vc_column_text][/vc_column_inner][/vc_row_inner][/vc_column][/vc_row][vc_row el_class=»main-info-curso main-eventos»][vc_column el_class=»info-evento check» offset=»vc_col-lg-8 vc_col-md-8″][vc_row_inner el_class=»info-evento»][vc_column_inner][vc_column_text]En KANTAN\, la mejora continua y la gestión de acciones correctivas se abordan de manera integrada para cumplir con los requisitos de múltiples normas ISO\, como ISO 9001\, ISO 14001\, ISO 45001\, e ISO 27001. La plataforma facilita la identificación de no conformidades durante auditorías e inspecciones\, centralizando la información y permitiendo una gestión eficiente de las acciones correctivas necesarias. \nKANTAN permite la asignación y seguimiento de acciones correctivas\, asegurando que cada problema se aborde de manera efectiva y dentro de los plazos establecidos. Además\, su enfoque multinorma permite que una sola acción correctiva cubra los requisitos de varias normas simultáneamente\, optimizando el proceso y evitando la duplicación de esfuerzos. \nFinalmente\, KANTAN apoya la implementación de la mejora continua mediante el análisis de causa raíz\, el monitoreo de la efectividad de las acciones correctivas\, y la generación de reportes detallados. Esto asegura que las mejoras se mantengan a largo plazo y que el sistema de gestión evolucione constantemente\, fortaleciendo la capacidad de la organización para cumplir con los estándares internacionales.[/vc_column_text][/vc_column_inner][/vc_row_inner][vc_row_inner el_class=»info-evento»][vc_column_inner]\n				 \n			[vc_column_text] \nObjetivos\n\nAprender a gestionar acciones correctivas de manera integrada para cumplir con los requisitos de múltiples normas ISO (calidad\, ambiente\, SST y seguridad de la información)\, optimizando los procesos y evitando la duplicación de esfuerzos.\nDesarrollar habilidades en el análisis de causa raíz y en la implementación de estrategias efectivas para la mejora continua\, utilizando las herramientas de KANTAN para identificar y abordar problemas subyacentes en los sistemas de gestión.\nCapacitarse en la generación y seguimiento de reportes sobre la efectividad de las acciones correctivas\, mejorando la comunicación con la alta dirección y demostrando el cumplimiento normativo a través de la documentación y reportes centralizados en KANTAN.\n\n[/vc_column_text]\n				 \n			[vc_column_text] \nBeneficios de asistir a este evento\n\nOptimizar la identificación y documentación de no conformidades\, aprendiendo a utilizar KANTAN para centralizar y gestionar eficientemente la información\, lo que facilita un seguimiento más preciso y oportuno de las acciones correctivas.\nMejorar la coordinación entre equipos y áreas de gestión\, utilizando KANTAN para asignar responsabilidades y plazos\, asegurando que todos los involucrados en el proceso de mejora continua trabajen de manera alineada y efectiva.\nFortalecer la capacidad de respuesta ante auditorías internas y externas\, adquiriendo competencias para preparar y presentar reportes detallados sobre acciones correctivas y mejoras implementadas\, demostrando el cumplimiento normativo y la efectividad de los sistemas de gestión integrados.\n\n[/vc_column_text]\n				 \n			[vc_column_text] \nDirigido a\n\n\nEste evento está dirigido a responsables de sistemas de gestión\, coordinadores de calidad\, auditores internos\, y gerentes de cumplimiento que buscan optimizar la gestión de acciones correctivas y la mejora continua en un entorno multinorma. También es ideal para consultores en normas ISO\, especialistas en gestión ambiental\, seguridad y salud en el trabajo\, y seguridad de la información que desean adquirir competencias avanzadas en el uso de KANTAN para gestionar eficientemente los procesos de mejora en múltiples áreas. Además\, es relevante para cualquier profesional involucrado en la gestión integrada de sistemas\, que quiera asegurar el cumplimiento normativo y la evolución constante de los sistemas de gestión de su organización. \n\n\n[/vc_column_text][/vc_column_inner][/vc_row_inner][vc_row_inner el_class=»slider-docentes info-evento» el_id=»grid-docentes»][vc_column_inner el_id=»docente»]\n				 \n			[vc_column_text] \nNuestros ponentes\n[/vc_column_text]\n        \n        \n            \n                 \n                \n                    \n            Julio Ardila\n          \nCONSULTOR EXPERTO ESG INNOVA\n \n            VER DOCENTE\n        \n                \n                \n            \n        \n    \n	[/vc_column_inner][/vc_row_inner][vc_row_inner el_class=»info-evento»][vc_column_inner]\n	\n				 \n			[vc_column_text] \nEmpresas colaboradoras\n[/vc_column_text][/vc_column_inner][/vc_row_inner][vc_row_inner css=».vc_custom_1633527720072{margin-top: 10px !important;margin-bottom: 10px !important;}»][vc_column_inner width=»1/3″][vc_single_image image=»21099498″ alignment=»center» css_animation=»fadeIn»][/vc_column_inner][vc_column_inner width=»1/3″][vc_single_image image=»21106299″ css_animation=»fadeIn»][/vc_column_inner][vc_column_inner width=»1/3″][/vc_column_inner][/vc_row_inner]\n	[/vc_column][vc_column offset=»vc_col-lg-4 vc_col-md-4″][/vc_column][/vc_row][/vc_section]
URL:https://www.escuelaeuropeaexcelencia.com/evento/workshop-mejora-continua-y-gestion-de-acciones-correctivas-enfoque-multinorma-en-kantan/
CATEGORIES:Calidad,Eventos Club Alumni
ATTACH;FMTTYPE=image/jpeg:https://www.escuelaeuropeaexcelencia.com/wp-content/uploads/2024/09/Mejora-Continua-y-Gestion-de-Acciones-Correctivas-Enfoque-Multinorma-en-KANTAN.jpg
END:VEVENT
END:VCALENDAR