

BEGIN:VCALENDAR
VERSION:2.0
PRODID:-//Escuela Europea de Excelencia - ECPv6.15.20//NONSGML v1.0//EN
CALSCALE:GREGORIAN
METHOD:PUBLISH
X-ORIGINAL-URL:https://www.escuelaeuropeaexcelencia.com
X-WR-CALDESC:Eventos para Escuela Europea de Excelencia
REFRESH-INTERVAL;VALUE=DURATION:PT1H
X-Robots-Tag:noindex
X-PUBLISHED-TTL:PT1H
BEGIN:VTIMEZONE
TZID:Europe/Madrid
BEGIN:DAYLIGHT
TZOFFSETFROM:+0100
TZOFFSETTO:+0200
TZNAME:CEST
DTSTART:20230326T010000
END:DAYLIGHT
BEGIN:STANDARD
TZOFFSETFROM:+0200
TZOFFSETTO:+0100
TZNAME:CET
DTSTART:20231029T010000
END:STANDARD
BEGIN:DAYLIGHT
TZOFFSETFROM:+0100
TZOFFSETTO:+0200
TZNAME:CEST
DTSTART:20240331T010000
END:DAYLIGHT
BEGIN:STANDARD
TZOFFSETFROM:+0200
TZOFFSETTO:+0100
TZNAME:CET
DTSTART:20241027T010000
END:STANDARD
BEGIN:DAYLIGHT
TZOFFSETFROM:+0100
TZOFFSETTO:+0200
TZNAME:CEST
DTSTART:20250330T010000
END:DAYLIGHT
BEGIN:STANDARD
TZOFFSETFROM:+0200
TZOFFSETTO:+0100
TZNAME:CET
DTSTART:20251026T010000
END:STANDARD
END:VTIMEZONE
BEGIN:VEVENT
DTSTART;TZID=Europe/Madrid:20241010T180000
DTEND;TZID=Europe/Madrid:20241010T190000
DTSTAMP:20260420T053423
CREATED:20240828T084342Z
LAST-MODIFIED:20240910T140419Z
UID:21142323-1728583200-1728586800@www.escuelaeuropeaexcelencia.com
SUMMARY:Workshop: Monitoreo y Evaluación del Desempeño: Indicadores y KPIs Integrados en KANTAN
DESCRIPTION:[vc_section css_animation=»none» el_class=»puntos-y eventos» css=».vc_custom_1631751554371{background-color: #f3f1f1 !important;}» el_id=»main-curso-eee»][vc_row el_class=»sticky-eee sticky-cursos»][vc_column el_class=»info-evento» offset=»vc_col-lg-9 vc_col-md-8 vc_hidden-sm vc_hidden-xs»][/vc_column][vc_column el_class=»wpb_animate_when_almost_visible wpb_bottom-to-top bottom-to-top wpb_start_animation animated» offset=»vc_col-lg-3 vc_col-md-4″][vc_row_inner el_id=»sidebar-ficha-eee» el_class=»wpb_animate_when_almost_visible wpb_bottom-to-top bottom-to-top wpb_start_animation animated»][vc_column_inner el_class=»box-sidebar-ficha evento»]\n		¡QUIERO INSCRIBIRME! \n	[vc_column_text el_class=»fecha-evento»] \nFecha:\n[/vc_column_text][vc_acf field_group=»21099038″ field_from_21099038=»field_619b86bc5eb64″ field_from_99038=»field_6143b5884b940″ el_class=»fechaES»][vc_column_text el_class=»country-evento»]Horario \n\n España ⇨ 18:00-19:00h.\n Ecuador ⇨ 12:00-13:00h.\n Colombia ⇨ 12:00-13:00h.\n Perú ⇨ 11:00-12:00h.\n Chile ⇨ 13:00-14:00h.\n México ⇨ 11:00-12:00h.\n Argentina ⇨ 14:00-15:00h.\n\n[/vc_column_text][/vc_column_inner][/vc_row_inner][/vc_column][/vc_row][vc_row el_class=»main-info-curso main-eventos»][vc_column el_class=»info-evento check» offset=»vc_col-lg-8 vc_col-md-8″][vc_row_inner el_class=»info-evento»][vc_column_inner][vc_column_text]En KANTAN\, el monitoreo y evaluación del desempeño se centra en la configuración y seguimiento de indicadores clave de desempeño (KPIs) para diversas áreas como calidad (ISO 9001)\, gestión ambiental (ISO 14001)\, seguridad y salud en el trabajo (ISO 45001)\, y seguridad de la información (ISO 27001). La plataforma permite definir y personalizar KPIs específicos para cada norma\, establecer límites de tolerancia\, y configurar la frecuencia de monitoreo. \nKANTAN facilita el monitoreo en tiempo real de los KPIs\, proporcionando visualizaciones gráficas y dashboards interactivos que permiten una evaluación continua del desempeño. Además\, la plataforma genera informes detallados y puede configurar alertas y notificaciones automáticas cuando los indicadores alcanzan umbrales críticos\, facilitando una respuesta rápida a posibles problemas. \nLa capacidad de revisar y ajustar KPIs en función de los resultados y cambios en los objetivos es crucial para asegurar la mejora continua. KANTAN ofrece herramientas integradas para la recopilación de datos\, el análisis de resultados y la toma de decisiones informadas\, optimizando la gestión del desempeño en múltiples áreas.[/vc_column_text][/vc_column_inner][/vc_row_inner][vc_row_inner el_class=»info-evento»][vc_column_inner]\n				 \n			[vc_column_text] \nObjetivos\n\nAprender a configurar y personalizar KPIs en KANTAN para medir el desempeño en áreas clave como calidad\, ambiente\, seguridad y salud en el trabajo\, y seguridad de la información\, asegurando que cada indicador esté alineado con los objetivos y requisitos normativos de tu organización.\nDesarrollar habilidades para el análisis de datos y la generación de informes\, utilizando las herramientas de KANTAN para crear dashboards interactivos y reportes detallados que faciliten la toma de decisiones y la mejora continua en los sistemas de gestión.\nOptimizar el monitoreo en tiempo real y la gestión de alertas\, aprendiendo a utilizar las funcionalidades de KANTAN para configurar notificaciones automáticas y establecer umbrales críticos que permitan una respuesta ágil a cualquier desviación en el desempeño.\n\n[/vc_column_text]\n				 \n			[vc_column_text] \nBeneficios de asistir a este evento\n\nCapacitación en integración de sistemas: Adquirirás conocimientos sobre cómo integrar KPIs de diferentes áreas de gestión (calidad\, ambiente\, seguridad y salud\, y seguridad de la información) en una sola plataforma\, facilitando una visión holística del desempeño organizacional.\nMejora en la capacidad de previsión y planificación: Aprenderás a utilizar los datos recopilados para identificar tendencias emergentes y anticipar problemas potenciales\, lo que te permitirá planificar mejor las acciones correctivas y preventivas.\nOptimización del uso de recursos: El workshop te mostrará cómo aprovechar al máximo las funcionalidades de KANTAN para reducir el tiempo y esfuerzo en la recopilación y análisis de datos\, lo que te ayudará a optimizar el uso de recursos y a aumentar la eficiencia operativa.\n\n[/vc_column_text]\n				 \n			[vc_column_text] \nDirigido a\n\n\nEste evento está dirigido a profesionales de la gestión de calidad\, analistas de desempeño\, y responsables de sistemas de gestión que buscan optimizar el monitoreo y evaluación de KPIs en sus organizaciones. También es ideal para gerentes de seguridad y salud en el trabajo\, responsables de gestión ambiental\, y especialistas en seguridad de la información que desean mejorar sus habilidades en la configuración y seguimiento de indicadores clave. Además\, consultores en normas ISO y responsables de implementación de herramientas de gestión encontrarán valiosa esta formación para integrar eficazmente los KPIs en la plataforma KANTAN y mejorar la toma de decisiones basada en datos. \n\n\n[/vc_column_text][/vc_column_inner][/vc_row_inner][vc_row_inner el_class=»slider-docentes info-evento» el_id=»grid-docentes»][vc_column_inner el_id=»docente»]\n				 \n			[vc_column_text] \nNuestros ponentes\n[/vc_column_text]\n        \n        \n            \n                 \n                \n                    \n            Julio Ardila\n          \nCONSULTOR EXPERTO ESG INNOVA\n \n            VER DOCENTE\n        \n                \n                \n            \n        \n    \n	[/vc_column_inner][/vc_row_inner][vc_row_inner el_class=»info-evento»][vc_column_inner]\n	\n				 \n			[vc_column_text] \nEmpresas colaboradoras\n[/vc_column_text][/vc_column_inner][/vc_row_inner][vc_row_inner css=».vc_custom_1633527720072{margin-top: 10px !important;margin-bottom: 10px !important;}»][vc_column_inner width=»1/3″][vc_single_image image=»21099498″ alignment=»center» css_animation=»fadeIn»][/vc_column_inner][vc_column_inner width=»1/3″][vc_single_image image=»21106299″ css_animation=»fadeIn»][/vc_column_inner][vc_column_inner width=»1/3″][/vc_column_inner][/vc_row_inner]\n	[/vc_column][vc_column offset=»vc_col-lg-4 vc_col-md-4″][/vc_column][/vc_row][/vc_section]
URL:https://www.escuelaeuropeaexcelencia.com/evento/workshop-monitoreo-y-evaluacion-del-desempeno-indicadores-y-kpis-integrados-en-kantan/
CATEGORIES:Calidad,Eventos Club Alumni
ATTACH;FMTTYPE=image/jpeg:https://www.escuelaeuropeaexcelencia.com/wp-content/uploads/2024/08/Monitoreo-y-Evaluacion-del-Desempeno-Indicadores-y-KPIs-Integrados-en-KANTAN.jpg
END:VEVENT
END:VCALENDAR