

BEGIN:VCALENDAR
VERSION:2.0
PRODID:-//Escuela Europea de Excelencia - ECPv6.15.20//NONSGML v1.0//EN
CALSCALE:GREGORIAN
METHOD:PUBLISH
X-WR-CALNAME:Escuela Europea de Excelencia
X-ORIGINAL-URL:https://www.escuelaeuropeaexcelencia.com
X-WR-CALDESC:Eventos para Escuela Europea de Excelencia
REFRESH-INTERVAL;VALUE=DURATION:PT1H
X-Robots-Tag:noindex
X-PUBLISHED-TTL:PT1H
BEGIN:VTIMEZONE
TZID:Europe/Madrid
BEGIN:DAYLIGHT
TZOFFSETFROM:+0100
TZOFFSETTO:+0200
TZNAME:CEST
DTSTART:20230326T010000
END:DAYLIGHT
BEGIN:STANDARD
TZOFFSETFROM:+0200
TZOFFSETTO:+0100
TZNAME:CET
DTSTART:20231029T010000
END:STANDARD
BEGIN:DAYLIGHT
TZOFFSETFROM:+0100
TZOFFSETTO:+0200
TZNAME:CEST
DTSTART:20240331T010000
END:DAYLIGHT
BEGIN:STANDARD
TZOFFSETFROM:+0200
TZOFFSETTO:+0100
TZNAME:CET
DTSTART:20241027T010000
END:STANDARD
BEGIN:DAYLIGHT
TZOFFSETFROM:+0100
TZOFFSETTO:+0200
TZNAME:CEST
DTSTART:20250330T010000
END:DAYLIGHT
BEGIN:STANDARD
TZOFFSETFROM:+0200
TZOFFSETTO:+0100
TZNAME:CET
DTSTART:20251026T010000
END:STANDARD
END:VTIMEZONE
BEGIN:VEVENT
DTSTART;TZID=Europe/Madrid:20241003T180000
DTEND;TZID=Europe/Madrid:20241003T190000
DTSTAMP:20260420T064951
CREATED:20240828T064440Z
LAST-MODIFIED:20240910T140341Z
UID:21142311-1727978400-1727982000@www.escuelaeuropeaexcelencia.com
SUMMARY:Workshop: Planificación y Ejecución de Auditorías Internas Multinorma en KANTAN
DESCRIPTION:[vc_section css_animation=»none» el_class=»puntos-y eventos» css=».vc_custom_1631751554371{background-color: #f3f1f1 !important;}» el_id=»main-curso-eee»][vc_row el_class=»sticky-eee sticky-cursos»][vc_column el_class=»info-evento» offset=»vc_col-lg-9 vc_col-md-8 vc_hidden-sm vc_hidden-xs»][/vc_column][vc_column el_class=»wpb_animate_when_almost_visible wpb_bottom-to-top bottom-to-top wpb_start_animation animated» offset=»vc_col-lg-3 vc_col-md-4″][vc_row_inner el_id=»sidebar-ficha-eee» el_class=»wpb_animate_when_almost_visible wpb_bottom-to-top bottom-to-top wpb_start_animation animated»][vc_column_inner el_class=»box-sidebar-ficha evento»]\n		¡QUIERO INSCRIBIRME! \n	[vc_column_text el_class=»fecha-evento»] \nFecha:\n[/vc_column_text][vc_acf field_group=»21099038″ field_from_21099038=»field_619b86bc5eb64″ field_from_99038=»field_6143b5884b940″ el_class=»fechaES»][vc_column_text el_class=»country-evento»]Horario \n\n España ⇨ 18:00-19:00h.\n Ecuador ⇨ 12:00-13:00h.\n Colombia ⇨ 12:00-13:00h.\n Perú ⇨ 11:00-12:00h.\n Chile ⇨ 13:00-14:00h.\n México ⇨ 11:00-12:00h.\n Argentina ⇨ 14:00-15:00h.\n\n[/vc_column_text][/vc_column_inner][/vc_row_inner][/vc_column][/vc_row][vc_row el_class=»main-info-curso main-eventos»][vc_column el_class=»info-evento check» offset=»vc_col-lg-8 vc_col-md-8″][vc_row_inner el_class=»info-evento»][vc_column_inner][vc_column_text]La planificación de auditorías internas multinorma en KANTAN comienza con la definición del alcance\, asignación de recursos\, y programación. La herramienta permite integrar ISO 9001\, ISO 14001\, ISO 45001\, e ISO 27001 en un solo plan\, asegurando una gestión eficiente y coordinada de los recursos y tiempos. \nDurante la ejecución de la auditoría\, KANTAN facilita la preparación de listas de verificación\, revisión de documentación\, y registro de hallazgos en tiempo real. Los auditores pueden identificar no conformidades y documentarlas directamente en la plataforma\, lo que simplifica el proceso y asegura una respuesta rápida y adecuada. \nFinalmente\, KANTAN permite la generación de informes detallados y personalizados que resumen los resultados de la auditoría. La herramienta también facilita el seguimiento de acciones correctivas y el análisis de tendencias para la mejora continua. Al integrar todo en una sola plataforma\, KANTAN optimiza la gestión de auditorías internas multinorma\, asegurando el cumplimiento de múltiples estándares ISO de manera efectiva.[/vc_column_text][/vc_column_inner][/vc_row_inner][vc_row_inner el_class=»info-evento»][vc_column_inner]\n				 \n			[vc_column_text] \nObjetivos\n\nAdquirir habilidades prácticas en la utilización de KANTAN para planificar y ejecutar auditorías internas que cumplan con los requisitos de múltiples normas ISO (ISO 9001\, ISO 14001\, ISO 45001\, e ISO 27001)\, optimizando la gestión de auditorías en la organización.\nAprender a identificar y documentar no conformidades de manera eficiente\, utilizando las funcionalidades de KANTAN\, para mejorar la capacidad de respuesta y la implementación de acciones correctivas en un entorno multinorma.\nDesarrollar una visión integral de cómo integrar y gestionar múltiples sistemas de gestión a través de una única plataforma\, promoviendo la mejora continua y asegurando el cumplimiento normativo en todos los niveles de la organización.\n\n[/vc_column_text]\n				 \n			[vc_column_text] \nBeneficios de asistir a este evento\n\nMejora de la eficiencia operativa\, al aprender cómo automatizar y optimizar procesos clave en la auditoría interna mediante KANTAN\, lo que te permitirá ahorrar tiempo y reducir errores en la ejecución de auditorías complejas.\nActualización sobre las últimas tendencias y herramientas en la gestión de auditorías internas\, asegurando que estés al tanto de los avances tecnológicos y metodológicos que pueden mejorar la eficiencia y eficacia de tus procesos de auditoría.\nImplementación de mejores prácticas a través estrategias y técnicas probadas para optimizar el proceso de auditoría interna multinorma\, ayudándote a implementar nuevos procesos en tu organización que pueden mejorar la calidad y la conformidad en todos los sistemas de gestión.\n\n[/vc_column_text]\n				 \n			[vc_column_text] \nDirigido a\n\n\nEste evento está dirigido a profesionales de la calidad\, auditores internos\, responsables de sistemas de gestión y gerentes de cumplimiento que buscan optimizar sus habilidades en la planificación y ejecución de auditorías internas multinorma. También es ideal para consultores en normas ISO y responsables de la implementación de sistemas integrados\, así como para cualquier persona involucrada en la gestión de calidad\, seguridad y salud en el trabajo\, gestión ambiental\, y seguridad de la información. El workshop proporciona herramientas y conocimientos específicos que les permitirán mejorar sus procesos de auditoría utilizando la plataforma KANTAN. \n\n\n[/vc_column_text][/vc_column_inner][/vc_row_inner][vc_row_inner el_class=»slider-docentes info-evento» el_id=»grid-docentes»][vc_column_inner el_id=»docente»]\n				 \n			[vc_column_text] \nNuestros ponentes\n[/vc_column_text]\n        \n        \n            \n                 \n                \n                    \n            Julio Ardila\n          \nCONSULTOR EXPERTO ESG INNOVA\n \n            VER DOCENTE\n        \n                \n                \n            \n        \n    \n	[/vc_column_inner][/vc_row_inner][vc_row_inner el_class=»info-evento»][vc_column_inner]\n	\n				 \n			[vc_column_text] \nEmpresas colaboradoras\n[/vc_column_text][/vc_column_inner][/vc_row_inner][vc_row_inner css=».vc_custom_1633527720072{margin-top: 10px !important;margin-bottom: 10px !important;}»][vc_column_inner width=»1/3″][vc_single_image image=»21099498″ alignment=»center» css_animation=»fadeIn»][/vc_column_inner][vc_column_inner width=»1/3″][vc_single_image image=»21106299″ css_animation=»fadeIn»][/vc_column_inner][vc_column_inner width=»1/3″][/vc_column_inner][/vc_row_inner]\n	[/vc_column][vc_column offset=»vc_col-lg-4 vc_col-md-4″][/vc_column][/vc_row][/vc_section]
URL:https://www.escuelaeuropeaexcelencia.com/evento/workshop-planificacion-y-ejecucion-de-auditorias-internas-multinorma-en-kantan/
CATEGORIES:Calidad,Eventos Club Alumni
ATTACH;FMTTYPE=image/jpeg:https://www.escuelaeuropeaexcelencia.com/wp-content/uploads/2024/08/Planificacion-y-Ejecucion-de-Auditorias-Internas-Multinorma-en-KANTAN.jpg
END:VEVENT
END:VCALENDAR