

BEGIN:VCALENDAR
VERSION:2.0
PRODID:-//Escuela Europea de Excelencia - ECPv6.15.20//NONSGML v1.0//EN
CALSCALE:GREGORIAN
METHOD:PUBLISH
X-WR-CALNAME:Escuela Europea de Excelencia
X-ORIGINAL-URL:https://www.escuelaeuropeaexcelencia.com
X-WR-CALDESC:Eventos para Escuela Europea de Excelencia
REFRESH-INTERVAL;VALUE=DURATION:PT1H
X-Robots-Tag:noindex
X-PUBLISHED-TTL:PT1H
BEGIN:VTIMEZONE
TZID:Europe/Madrid
BEGIN:DAYLIGHT
TZOFFSETFROM:+0100
TZOFFSETTO:+0200
TZNAME:CEST
DTSTART:20230326T010000
END:DAYLIGHT
BEGIN:STANDARD
TZOFFSETFROM:+0200
TZOFFSETTO:+0100
TZNAME:CET
DTSTART:20231029T010000
END:STANDARD
BEGIN:DAYLIGHT
TZOFFSETFROM:+0100
TZOFFSETTO:+0200
TZNAME:CEST
DTSTART:20240331T010000
END:DAYLIGHT
BEGIN:STANDARD
TZOFFSETFROM:+0200
TZOFFSETTO:+0100
TZNAME:CET
DTSTART:20241027T010000
END:STANDARD
BEGIN:DAYLIGHT
TZOFFSETFROM:+0100
TZOFFSETTO:+0200
TZNAME:CEST
DTSTART:20250330T010000
END:DAYLIGHT
BEGIN:STANDARD
TZOFFSETFROM:+0200
TZOFFSETTO:+0100
TZNAME:CET
DTSTART:20251026T010000
END:STANDARD
END:VTIMEZONE
BEGIN:VEVENT
DTSTART;TZID=Europe/Madrid:20240926T180000
DTEND;TZID=Europe/Madrid:20240926T190000
DTSTAMP:20260420T065455
CREATED:20240819T121814Z
LAST-MODIFIED:20240910T140245Z
UID:21142161-1727373600-1727377200@www.escuelaeuropeaexcelencia.com
SUMMARY:Workshop: Gestión de No Conformidades y Acciones Correctivas: Calidad\, Ambiental\, SST y Seguridad de la Información en KANTAN
DESCRIPTION:[vc_section css_animation=»none» el_class=»puntos-y eventos» css=».vc_custom_1631751554371{background-color: #f3f1f1 !important;}» el_id=»main-curso-eee»][vc_row el_class=»sticky-eee sticky-cursos»][vc_column el_class=»info-evento» offset=»vc_col-lg-9 vc_col-md-8 vc_hidden-sm vc_hidden-xs»][/vc_column][vc_column el_class=»wpb_animate_when_almost_visible wpb_bottom-to-top bottom-to-top wpb_start_animation animated» offset=»vc_col-lg-3 vc_col-md-4″][vc_row_inner el_id=»sidebar-ficha-eee» el_class=»wpb_animate_when_almost_visible wpb_bottom-to-top bottom-to-top wpb_start_animation animated»][vc_column_inner el_class=»box-sidebar-ficha evento»]\n		¡QUIERO INSCRIBIRME! \n	[vc_column_text el_class=»fecha-evento»] \nFecha:\n[/vc_column_text][vc_acf field_group=»21099038″ field_from_21099038=»field_619b86bc5eb64″ field_from_99038=»field_6143b5884b940″ el_class=»fechaES»][vc_column_text el_class=»country-evento»]Horario \n\n España ⇨ 18:00-19:00h.\n Ecuador ⇨ 12:00-13:00h.\n Colombia ⇨ 12:00-13:00h.\n Perú ⇨ 11:00-12:00h.\n Chile ⇨ 13:00-14:00h.\n México ⇨ 11:00-12:00h.\n Argentina ⇨ 14:00-15:00h.\n\n[/vc_column_text][/vc_column_inner][/vc_row_inner][/vc_column][/vc_row][vc_row el_class=»main-info-curso main-eventos»][vc_column el_class=»info-evento check» offset=»vc_col-lg-8 vc_col-md-8″][vc_row_inner el_class=»info-evento»][vc_column_inner][vc_column_text]KANTAN ofrece una solución integral para la gestión de no conformidades y acciones correctivas en sistemas de gestión normativos\, como ISO 9001\, ISO 14001\, ISO 45001 e ISO 27001. La plataforma permite registrar y analizar no conformidades de manera estructurada\, capturando todos los detalles necesarios para identificar las causas raíz. Este enfoque asegura que las acciones correctivas sean efectivas\, permitiendo la colaboración en tiempo real entre equipos multidisciplinarios. \nLa gestión de acciones correctivas en KANTAN se enfoca en planificar y ejecutar medidas que aborden directamente las causas raíz identificadas. La plataforma facilita el seguimiento del progreso\, asignación de responsabilidades y cumplimiento de plazos\, lo que es crucial para mantener el cumplimiento con los estándares ISO y apoyar la mejora continua de los sistemas de gestión. \nUna de las ventajas clave de KANTAN es su capacidad para adaptarse a diferentes normas ISO\, permitiendo un enfoque unificado en la gestión de no conformidades en diversas áreas como calidad\, medio ambiente\, seguridad laboral y seguridad de la información. Esto garantiza que las acciones correctivas cumplan con los requisitos específicos de cada norma\, mejorando la resiliencia organizacional y el cumplimiento normativo.[/vc_column_text][/vc_column_inner][/vc_row_inner][vc_row_inner el_class=»info-evento»][vc_column_inner]\n				 \n			[vc_column_text] \nObjetivos\n\nAprender a registrar y analizar no conformidades de manera estructurada utilizando KANTAN\, asegurando que las causas raíz sean correctamente identificadas para implementar acciones correctivas efectivas.\nDesarrollar habilidades para gestionar acciones correctivas en KANTAN\, incluyendo la planificación\, ejecución y seguimiento de las medidas\, con el fin de mantener el cumplimiento con diversas normativas ISO y apoyar la mejora continua.\nComprender cómo adaptar la gestión de no conformidades a diferentes normas ISO\, utilizando KANTAN para unificar y optimizar el enfoque en áreas como calidad\, medio ambiente\, seguridad laboral y seguridad de la información.\n\n[/vc_column_text]\n				 \n			[vc_column_text] \nBeneficios de asistir a este evento\n\nMejora en la detección temprana de problemas: Al asistir al workshop\, los participantes aprenderán a identificar no conformidades de manera más rápida y precisa\, lo que permite abordar problemas antes de que escalen y afecten significativamente las operaciones.\nReducción de costos asociados a no conformidades: Al gestionar eficientemente las no conformidades y aplicar acciones correctivas efectivas\, las organizaciones pueden minimizar los costos relacionados con fallos de calidad\, incumplimientos ambientales\, incidentes de seguridad y brechas de información.\nFortalecimiento del cumplimiento normativo a largo plazo: Los asistentes adquirirán conocimientos y herramientas para mantener un sistema de gestión sólido y resistente a auditorías\, lo que refuerza el cumplimiento continuo con las normativas ISO y reduce el riesgo de sanciones o multas.\n\n[/vc_column_text]\n				 \n			[vc_column_text] \nDirigido a\n\n\nEste evento está dirigido a responsables de calidad\, gestores de cumplimiento normativo y coordinadores de seguridad que necesitan optimizar la gestión de no conformidades y acciones correctivas en sus organizaciones. También es ideal para analistas de sistemas de gestión\, especialistas en medio ambiente\, profesionales de seguridad y salud en el trabajo y expertos en seguridad de la información que buscan mejorar la identificación y resolución de problemas según los estándares ISO 9001\, ISO 14001\, ISO 45001 e ISO 27001. Además\, líderes de equipos y gestores de auditorías que desean fortalecer la eficacia de sus acciones correctivas y asegurar el cumplimiento normativo encontrarán en este workshop herramientas valiosas para gestionar no conformidades de manera integral y efectiva. \n\n\n[/vc_column_text][/vc_column_inner][/vc_row_inner][vc_row_inner el_class=»slider-docentes info-evento» el_id=»grid-docentes»][vc_column_inner el_id=»docente»]\n				 \n			[vc_column_text] \nNuestros ponentes\n[/vc_column_text]\n        \n        \n            \n                 \n                \n                    \n            Julio Ardila\n          \nCONSULTOR EXPERTO ESG INNOVA\n \n            VER DOCENTE\n        \n                \n                \n            \n        \n    \n	[/vc_column_inner][/vc_row_inner][vc_row_inner el_class=»info-evento»][vc_column_inner]\n	\n				 \n			[vc_column_text] \nEmpresas colaboradoras\n[/vc_column_text][/vc_column_inner][/vc_row_inner][vc_row_inner css=».vc_custom_1633527720072{margin-top: 10px !important;margin-bottom: 10px !important;}»][vc_column_inner width=»1/3″][vc_single_image image=»21099498″ alignment=»center» css_animation=»fadeIn»][/vc_column_inner][vc_column_inner width=»1/3″][vc_single_image image=»21106299″ css_animation=»fadeIn»][/vc_column_inner][vc_column_inner width=»1/3″][/vc_column_inner][/vc_row_inner]\n	[/vc_column][vc_column offset=»vc_col-lg-4 vc_col-md-4″][/vc_column][/vc_row][/vc_section]
URL:https://www.escuelaeuropeaexcelencia.com/evento/workshop-gestion-de-no-conformidades-y-acciones-correctivas-calidad-ambiental-sst-y-seguridad-de-la-informacion-en-kantan/
CATEGORIES:Calidad,Eventos Club Alumni
ATTACH;FMTTYPE=image/jpeg:https://www.escuelaeuropeaexcelencia.com/wp-content/uploads/2024/08/Gestion-de-No-Conformidades-y-Acciones-Correctivas-Calidad-Ambiental-SST-y-Seguridad-de-la-Informacion-en-KANTAN.jpg
END:VEVENT
END:VCALENDAR