

BEGIN:VCALENDAR
VERSION:2.0
PRODID:-//Escuela Europea de Excelencia - ECPv6.15.20//NONSGML v1.0//EN
CALSCALE:GREGORIAN
METHOD:PUBLISH
X-ORIGINAL-URL:https://www.escuelaeuropeaexcelencia.com
X-WR-CALDESC:Eventos para Escuela Europea de Excelencia
REFRESH-INTERVAL;VALUE=DURATION:PT1H
X-Robots-Tag:noindex
X-PUBLISHED-TTL:PT1H
BEGIN:VTIMEZONE
TZID:Europe/Madrid
BEGIN:DAYLIGHT
TZOFFSETFROM:+0100
TZOFFSETTO:+0200
TZNAME:CEST
DTSTART:20230326T010000
END:DAYLIGHT
BEGIN:STANDARD
TZOFFSETFROM:+0200
TZOFFSETTO:+0100
TZNAME:CET
DTSTART:20231029T010000
END:STANDARD
BEGIN:DAYLIGHT
TZOFFSETFROM:+0100
TZOFFSETTO:+0200
TZNAME:CEST
DTSTART:20240331T010000
END:DAYLIGHT
BEGIN:STANDARD
TZOFFSETFROM:+0200
TZOFFSETTO:+0100
TZNAME:CET
DTSTART:20241027T010000
END:STANDARD
BEGIN:DAYLIGHT
TZOFFSETFROM:+0100
TZOFFSETTO:+0200
TZNAME:CEST
DTSTART:20250330T010000
END:DAYLIGHT
BEGIN:STANDARD
TZOFFSETFROM:+0200
TZOFFSETTO:+0100
TZNAME:CET
DTSTART:20251026T010000
END:STANDARD
END:VTIMEZONE
BEGIN:VEVENT
DTSTART;TZID=Europe/Madrid:20240912T180000
DTEND;TZID=Europe/Madrid:20240912T190000
DTSTAMP:20260420T065623
CREATED:20240813T074556Z
LAST-MODIFIED:20240910T140049Z
UID:21142149-1726164000-1726167600@www.escuelaeuropeaexcelencia.com
SUMMARY:Workshop: Gestión de Riesgos y Oportunidades en KANTAN: Calidad\, Medio Ambiente\, SST y Seguridad de la Información
DESCRIPTION:[vc_section css_animation=»none» el_class=»puntos-y eventos» css=».vc_custom_1631751554371{background-color: #f3f1f1 !important;}» el_id=»main-curso-eee»][vc_row el_class=»sticky-eee sticky-cursos»][vc_column el_class=»info-evento» offset=»vc_col-lg-9 vc_col-md-8 vc_hidden-sm vc_hidden-xs»][/vc_column][vc_column el_class=»wpb_animate_when_almost_visible wpb_bottom-to-top bottom-to-top wpb_start_animation animated» offset=»vc_col-lg-3 vc_col-md-4″][vc_row_inner el_id=»sidebar-ficha-eee» el_class=»wpb_animate_when_almost_visible wpb_bottom-to-top bottom-to-top wpb_start_animation animated»][vc_column_inner el_class=»box-sidebar-ficha evento»]\n		¡QUIERO INSCRIBIRME! \n	[vc_column_text el_class=»fecha-evento»] \nFecha:\n[/vc_column_text][vc_acf field_group=»21099038″ field_from_21099038=»field_619b86bc5eb64″ field_from_99038=»field_6143b5884b940″ el_class=»fechaES»][vc_column_text el_class=»country-evento»]Horario \n\n España ⇨ 18:00-19:00h.\n Ecuador ⇨ 12:00-13:00h.\n Colombia ⇨ 12:00-13:00h.\n Perú ⇨ 11:00-12:00h.\n Chile ⇨ 13:00-14:00h.\n México ⇨ 11:00-12:00h.\n Argentina ⇨ 14:00-15:00h.\n\n[/vc_column_text][/vc_column_inner][/vc_row_inner][/vc_column][/vc_row][vc_row el_class=»main-info-curso main-eventos»][vc_column el_class=»info-evento check» offset=»vc_col-lg-8 vc_col-md-8″][vc_row_inner el_class=»info-evento»][vc_column_inner][vc_column_text]KANTAN proporciona una solución integral para la gestión de riesgos y oportunidades en las áreas de calidad\, medio ambiente\, seguridad y salud en el trabajo (SST) y seguridad de la información. La plataforma facilita la identificación y evaluación de riesgos y oportunidades en conformidad con las normas ISO 9001 (gestión de calidad)\, ISO 14001 (gestión ambiental)\, ISO 45001 (seguridad y salud en el trabajo) e ISO 27001 (seguridad de la información). \nPara ISO 9001 e ISO 14001\, KANTAN ayuda a establecer controles y acciones para mitigar riesgos y aprovechar oportunidades relacionadas con la calidad de productos y servicios y los impactos ambientales. Para ISO 45001 e ISO 27001\, la plataforma gestiona riesgos asociados con la seguridad laboral y la protección de la información\, implementando controles adecuados y realizando un seguimiento continuo. \nLa principal ventaja de KANTAN es su capacidad para integrar la gestión de riesgos y oportunidades en un sistema centralizado\, facilitando una visión holística y coordinada. Esto apoya la mejora continua y asegura el cumplimiento efectivo en todas las áreas normativas.[/vc_column_text][/vc_column_inner][/vc_row_inner][vc_row_inner el_class=»info-evento»][vc_column_inner]\n				 \n			[vc_column_text] \nObjetivos\n\nAprender a identificar y evaluar riesgos y oportunidades en diferentes áreas normativas utilizando KANTAN\, para mejorar la gestión integral de calidad\, medio ambiente\, seguridad y salud en el trabajo\, y seguridad de la información.\nDesarrollar habilidades para implementar controles y acciones efectivas en KANTAN que ayuden a mitigar los riesgos y aprovechar las oportunidades en conformidad con los estándares internacionales\, optimizando la eficiencia operativa y el cumplimiento normativo.\nMejorar la capacidad para integrar la gestión de riesgos y oportunidades en un sistema centralizado\, facilitando una visión coordinada y la mejora continua en todos los aspectos de la gestión organizacional\, lo que permite una respuesta más ágil y efectiva a los desafíos y oportunidades emergentes.\n\n[/vc_column_text]\n				 \n			[vc_column_text] \nBeneficios de asistir a este evento\n\nOptimización del uso de recursos: Al aprender a gestionar de manera efectiva los riesgos y oportunidades con KANTAN\, los participantes pueden identificar áreas donde los recursos pueden ser mejor asignados\, evitando desperdicios y maximizando la eficiencia operativa.\nFortalecimiento de la cultura de gestión proactiva: Asistir al workshop fomenta una mentalidad proactiva dentro de la organización al capacitar a los participantes para anticipar y abordar riesgos antes de que se materialicen\, mejorando la resiliencia organizacional.\nCapacitación en la elaboración de informes detallados: Los participantes adquirirán habilidades para generar informes precisos y detallados sobre riesgos y oportunidades\, lo cual es crucial para la toma de decisiones estratégicas y la comunicación efectiva con la alta dirección y otras partes interesadas.\n\n[/vc_column_text]\n				 \n			[vc_column_text] \nDirigido a\n\n\nEste evento está dirigido a responsables de gestión de riesgos\, analistas de cumplimiento normativo y directores de calidad que buscan perfeccionar sus habilidades en la identificación y gestión de riesgos y oportunidades. También es ideal para especialistas en medio ambiente\, responsables de seguridad y salud en el trabajo y profesionales de seguridad de la información que desean mejorar la integración de estos aspectos utilizando KANTAN. Además\, líderes de equipos y gestores de proyectos interesados en optimizar el uso de recursos y fortalecer una cultura de gestión proactiva encontrarán valiosas estrategias y herramientas para implementar en sus organizaciones. \n\n\n[/vc_column_text][/vc_column_inner][/vc_row_inner][vc_row_inner el_class=»slider-docentes info-evento» el_id=»grid-docentes»][vc_column_inner el_id=»docente»]\n				 \n			[vc_column_text] \nNuestros ponentes\n[/vc_column_text]\n        \n        \n            \n                 \n                \n                    \n            Julio Ardila\n          \nCONSULTOR EXPERTO ESG INNOVA\n \n            VER DOCENTE\n        \n                \n                \n            \n        \n    \n	[/vc_column_inner][/vc_row_inner][vc_row_inner el_class=»info-evento»][vc_column_inner]\n	\n				 \n			[vc_column_text] \nEmpresas colaboradoras\n[/vc_column_text][/vc_column_inner][/vc_row_inner][vc_row_inner css=».vc_custom_1633527720072{margin-top: 10px !important;margin-bottom: 10px !important;}»][vc_column_inner width=»1/3″][vc_single_image image=»21099498″ alignment=»center» css_animation=»fadeIn»][/vc_column_inner][vc_column_inner width=»1/3″][vc_single_image image=»21106299″ css_animation=»fadeIn»][/vc_column_inner][vc_column_inner width=»1/3″][/vc_column_inner][/vc_row_inner]\n	[/vc_column][vc_column offset=»vc_col-lg-4 vc_col-md-4″][/vc_column][/vc_row][/vc_section]
URL:https://www.escuelaeuropeaexcelencia.com/evento/workshop-gestion-de-riesgos-y-oportunidades-en-kantan-calidad-medio-ambiente-sst-y-seguridad-de-la-informacion/
CATEGORIES:Calidad,Eventos Club Alumni
ATTACH;FMTTYPE=image/jpeg:https://www.escuelaeuropeaexcelencia.com/wp-content/uploads/2024/08/Gestion-de-Riesgos-y-Oportunidades-en-KANTAN-Calidad-Medio-Ambiente-SST-y-Seguridad-de-la-Informacion.jpg
END:VEVENT
END:VCALENDAR