

BEGIN:VCALENDAR
VERSION:2.0
PRODID:-//Escuela Europea de Excelencia - ECPv6.15.20//NONSGML v1.0//EN
CALSCALE:GREGORIAN
METHOD:PUBLISH
X-ORIGINAL-URL:https://www.escuelaeuropeaexcelencia.com
X-WR-CALDESC:Eventos para Escuela Europea de Excelencia
REFRESH-INTERVAL;VALUE=DURATION:PT1H
X-Robots-Tag:noindex
X-PUBLISHED-TTL:PT1H
BEGIN:VTIMEZONE
TZID:Europe/Madrid
BEGIN:DAYLIGHT
TZOFFSETFROM:+0100
TZOFFSETTO:+0200
TZNAME:CEST
DTSTART:20230326T010000
END:DAYLIGHT
BEGIN:STANDARD
TZOFFSETFROM:+0200
TZOFFSETTO:+0100
TZNAME:CET
DTSTART:20231029T010000
END:STANDARD
BEGIN:DAYLIGHT
TZOFFSETFROM:+0100
TZOFFSETTO:+0200
TZNAME:CEST
DTSTART:20240331T010000
END:DAYLIGHT
BEGIN:STANDARD
TZOFFSETFROM:+0200
TZOFFSETTO:+0100
TZNAME:CET
DTSTART:20241027T010000
END:STANDARD
BEGIN:DAYLIGHT
TZOFFSETFROM:+0100
TZOFFSETTO:+0200
TZNAME:CEST
DTSTART:20250330T010000
END:DAYLIGHT
BEGIN:STANDARD
TZOFFSETFROM:+0200
TZOFFSETTO:+0100
TZNAME:CET
DTSTART:20251026T010000
END:STANDARD
END:VTIMEZONE
BEGIN:VEVENT
DTSTART;TZID=Europe/Madrid:20240829T180000
DTEND;TZID=Europe/Madrid:20240829T190000
DTSTAMP:20260420T065552
CREATED:20240813T072228Z
LAST-MODIFIED:20240829T105236Z
UID:21141986-1724954400-1724958000@www.escuelaeuropeaexcelencia.com
SUMMARY:Workshop: Gestión de Partes Interesadas y Requisitos Legales en KANTAN: Cumplimiento Multinorma
DESCRIPTION:[vc_section css_animation=»none» el_class=»puntos-y eventos» css=».vc_custom_1631751554371{background-color: #f3f1f1 !important;}» el_id=»main-curso-eee»][vc_row el_class=»sticky-eee sticky-cursos»][vc_column el_class=»info-evento» offset=»vc_col-lg-9 vc_col-md-8 vc_hidden-sm vc_hidden-xs»][/vc_column][vc_column el_class=»wpb_animate_when_almost_visible wpb_bottom-to-top bottom-to-top wpb_start_animation animated» offset=»vc_col-lg-3 vc_col-md-4″][vc_row_inner el_id=»sidebar-ficha-eee» el_class=»wpb_animate_when_almost_visible wpb_bottom-to-top bottom-to-top wpb_start_animation animated»][vc_column_inner el_class=»box-sidebar-ficha evento»]\n		¡QUIERO INSCRIBIRME! \n	[vc_column_text el_class=»fecha-evento»] \nFecha:\n[/vc_column_text][vc_acf field_group=»21099038″ field_from_21099038=»field_619b86bc5eb64″ field_from_99038=»field_6143b5884b940″ el_class=»fechaES»][vc_column_text el_class=»country-evento»]Horario \n\n España ⇨ 18:00-19:00h.\n Ecuador ⇨ 12:00-13:00h.\n Colombia ⇨ 12:00-13:00h.\n Perú ⇨ 12:00-13:00h.\n Chile ⇨ 13:00-14:00h.\n México ⇨ 11:00-12:00h.\n Argentina ⇨ 14:00-15:00h.\n\n[/vc_column_text][/vc_column_inner][/vc_row_inner][/vc_column][/vc_row][vc_row el_class=»main-info-curso main-eventos»][vc_column el_class=»info-evento check» offset=»vc_col-lg-8 vc_col-md-8″][vc_row_inner el_class=»info-evento»][vc_column_inner][vc_column_text]La gestión de partes interesadas es esencial para identificar y comprender a aquellos grupos o individuos que pueden influir en la organización. Utilizando KANTAN\, las empresas pueden mapear y categorizar a estas partes interesadas\, asegurando que sus necesidades y expectativas se gestionen de manera efectiva\, alineándose con normas como ISO 9001 e ISO 45001. \nEl cumplimiento de requisitos legales es otro aspecto crítico para mantener la conformidad con las regulaciones. KANTAN facilita la identificación\, seguimiento y gestión de estos requisitos\, centralizando la documentación necesaria para cumplir con normas como ISO 14001 e ISO 27001. Esto ayuda a las organizaciones a evitar sanciones y mantener su reputación intacta. \nEl enfoque multinorma de KANTAN permite a las organizaciones gestionar de manera integrada los requisitos legales y las partes interesadas en un solo sistema. Esto optimiza la eficiencia operativa y asegura que la empresa esté alineada con las regulaciones y expectativas del mercado\, fortaleciendo su capacidad de adaptación en un entorno dinámico.[/vc_column_text][/vc_column_inner][/vc_row_inner][vc_row_inner el_class=»info-evento»][vc_column_inner]\n				 \n			[vc_column_text] \nObjetivos\n\nAprender a identificar y gestionar partes interesadas de manera efectiva\, alineando sus necesidades y expectativas con los estándares normativos aplicables a la organización.\nDesarrollar habilidades para centralizar y gestionar requisitos legales en KANTAN\, asegurando el cumplimiento normativo y la documentación adecuada para auditorías y revisiones.\nOptimizar la gestión multinorma integrando las normas ISO relevantes en un solo sistema\, lo que mejora la eficiencia operativa y facilita la toma de decisiones informadas dentro de la organización.\n\n[/vc_column_text]\n				 \n			[vc_column_text] \nBeneficios de asistir a este evento\n\nMejora de la comunicación interna y externa: Al comprender mejor cómo gestionar partes interesadas y requisitos legales\, los participantes podrán facilitar una comunicación más clara y efectiva tanto dentro de la organización como con las partes externas\, lo que puede mejorar la cooperación y reducir malentendidos.\nAumento de la capacidad para anticipar cambios regulatorios: El workshop proporciona herramientas y técnicas para monitorear y adaptarse a cambios en los requisitos legales\, ayudando a la organización a ser proactiva en la adaptación a nuevas normativas y evitar posibles problemas de cumplimiento.\nFortalecimiento de la cultura de cumplimiento y responsabilidad: Al adquirir conocimientos sobre la gestión de partes interesadas y el cumplimiento de requisitos legales\, los participantes contribuyen a crear una cultura organizacional que valora la ética\, la transparencia y el cumplimiento\, lo que puede mejorar la moral y el compromiso del equipo.\n\n[/vc_column_text]\n				 \n			[vc_column_text] \nDirigido a\n\n\nEste evento está dirigido a directores de cumplimiento normativo\, gerentes de calidad y especialistas en gestión de riesgos que buscan optimizar la manera en que su organización maneja las partes interesadas y los requisitos legales. También es ideal para consultores en normativas ISO\, responsables de auditorías internas y profesionales en gestión de proyectos que desean mejorar su capacidad para integrar múltiples normativas utilizando KANTAN. Además\, líderes de equipos y responsables de estrategia organizacional que buscan fortalecer la comunicación y el cumplimiento normativo en sus empresas encontrarán valiosos recursos y herramientas para mejorar su práctica diaria. \n\n\n[/vc_column_text][/vc_column_inner][/vc_row_inner][vc_row_inner el_class=»slider-docentes info-evento» el_id=»grid-docentes»][vc_column_inner el_id=»docente»]\n				 \n			[vc_column_text] \nNuestros ponentes\n[/vc_column_text]\n        \n        \n            \n                 \n                \n                    \n            Julio Ardila\n          \nCONSULTOR EXPERTO ESG INNOVA\n \n            VER DOCENTE\n        \n                \n                \n            \n        \n    \n	[/vc_column_inner][/vc_row_inner][vc_row_inner el_class=»info-evento»][vc_column_inner]\n	\n				 \n			[vc_column_text] \nEmpresas colaboradoras\n[/vc_column_text][/vc_column_inner][/vc_row_inner][vc_row_inner css=».vc_custom_1633527720072{margin-top: 10px !important;margin-bottom: 10px !important;}»][vc_column_inner width=»1/3″][vc_single_image image=»21099498″ alignment=»center» css_animation=»fadeIn»][/vc_column_inner][vc_column_inner width=»1/3″][vc_single_image image=»21106299″ css_animation=»fadeIn»][/vc_column_inner][vc_column_inner width=»1/3″][/vc_column_inner][/vc_row_inner][/vc_column][vc_column offset=»vc_col-lg-4 vc_col-md-4″][/vc_column][/vc_row][/vc_section]
URL:https://www.escuelaeuropeaexcelencia.com/evento/gestion-de-partes-interesadas-y-requisitos-legales-en-kantan-cumplimiento-multinorma/
CATEGORIES:Calidad,Eventos Club Alumni
ATTACH;FMTTYPE=image/jpeg:https://www.escuelaeuropeaexcelencia.com/wp-content/uploads/2024/08/caso-practico-kantan-2.jpg
END:VEVENT
END:VCALENDAR