

BEGIN:VCALENDAR
VERSION:2.0
PRODID:-//Escuela Europea de Excelencia - ECPv6.15.20//NONSGML v1.0//EN
CALSCALE:GREGORIAN
METHOD:PUBLISH
X-WR-CALNAME:Escuela Europea de Excelencia
X-ORIGINAL-URL:https://www.escuelaeuropeaexcelencia.com
X-WR-CALDESC:Eventos para Escuela Europea de Excelencia
REFRESH-INTERVAL;VALUE=DURATION:PT1H
X-Robots-Tag:noindex
X-PUBLISHED-TTL:PT1H
BEGIN:VTIMEZONE
TZID:Europe/Madrid
BEGIN:DAYLIGHT
TZOFFSETFROM:+0100
TZOFFSETTO:+0200
TZNAME:CEST
DTSTART:20220327T010000
END:DAYLIGHT
BEGIN:STANDARD
TZOFFSETFROM:+0200
TZOFFSETTO:+0100
TZNAME:CET
DTSTART:20221030T010000
END:STANDARD
BEGIN:DAYLIGHT
TZOFFSETFROM:+0100
TZOFFSETTO:+0200
TZNAME:CEST
DTSTART:20230326T010000
END:DAYLIGHT
BEGIN:STANDARD
TZOFFSETFROM:+0200
TZOFFSETTO:+0100
TZNAME:CET
DTSTART:20231029T010000
END:STANDARD
BEGIN:DAYLIGHT
TZOFFSETFROM:+0100
TZOFFSETTO:+0200
TZNAME:CEST
DTSTART:20240331T010000
END:DAYLIGHT
BEGIN:STANDARD
TZOFFSETFROM:+0200
TZOFFSETTO:+0100
TZNAME:CET
DTSTART:20241027T010000
END:STANDARD
END:VTIMEZONE
BEGIN:VEVENT
DTSTART;VALUE=DATE:20230208
DTEND;VALUE=DATE:20230209
DTSTAMP:20260423T104850
CREATED:20221201T130552Z
LAST-MODIFIED:20230208T163555Z
UID:21121793-1675814400-1675900799@www.escuelaeuropeaexcelencia.com
SUMMARY:Webinar: Procesos y procedimientos fundamentales para un SGSST con la ISO 45001
DESCRIPTION:[vc_section css_animation=»none» el_class=»puntos-y eventos» css=».vc_custom_1631751554371{background-color: #f3f1f1 !important;}» el_id=»main-curso-eee»][vc_row el_class=»sticky-eee sticky-cursos»][vc_column el_class=»info-evento» offset=»vc_col-lg-9 vc_col-md-8 vc_hidden-sm vc_hidden-xs»][/vc_column][vc_column el_class=»wpb_animate_when_almost_visible wpb_bottom-to-top bottom-to-top wpb_start_animation animated» offset=»vc_col-lg-3 vc_col-md-4″][vc_row_inner el_id=»sidebar-ficha-eee» el_class=»wpb_animate_when_almost_visible wpb_bottom-to-top bottom-to-top wpb_start_animation animated»][vc_column_inner el_class=»box-sidebar-ficha evento»]\n		¡QUIERO INSCRIBIRME! \n	[vc_column_text el_class=»fecha-evento»] \nFecha:\n[/vc_column_text][vc_acf field_group=»21099038″ field_from_21099038=»field_619b86bc5eb64″ field_from_99038=»field_6143b5884b940″ el_class=»fechaES»][vc_column_text el_class=»country-evento»]Horario \n\n España ⇨ 20:00-22:00h.\n?? Ecuador ⇨ 14:00-16:00h.\n Colombia ⇨ 14:00-16:00h.\n Perú ⇨ 14:00-16:00h.\n Chile ⇨ 16:00-18:00h.\n México ⇨ 13:00-15:00h.\n Argentina ⇨ 16:00-18:00h.\n\n[/vc_column_text][/vc_column_inner][/vc_row_inner][/vc_column][/vc_row][vc_row el_class=»main-info-curso main-eventos»][vc_column el_class=»info-evento check» offset=»vc_col-lg-8 vc_col-md-8″][vc_row_inner el_class=»info-evento»][vc_column_inner][vc_column_text]ISO 45001 es un marco para la gestión de la seguridad y la salud en el trabajo. Es un conjunto de principios que se pueden aplicar a cualquier organización. La norma proporciona un conjunto de requisitos que incluyen: \n\nUn sistema de gestión de la seguridad y salud en el trabajo.\nUn enfoque global de la gestión de la seguridad y salud en el trabajo.\nRequisitos para un sistema de gestión eficaz.\n\nEl objetivo de ISO 45001 es ayudar a las organizaciones a mejorar su desempeño en salud y seguridad ocupacional brindándoles orientación sobre cómo desarrollar\, implementar\, mantener y evaluar un sistema de gestión efectivo.[/vc_column_text][/vc_column_inner][/vc_row_inner][vc_row_inner el_class=»info-evento»][vc_column_inner]\n				 \n			[vc_column_text] \nObjetivos\nEl objetivo de este Webinar es conocer los procesos y procedimientos fundamentales para un Sistema de Gestión de SST con la norma ISO 45001.[/vc_column_text]\n				 \n			[vc_column_text] \nBeneficios de asistir a este evento\n\nObtener una visión de los procesos que implica un Sistema de Gestión de Seguridad y Salud en el Trabajo.\nDescubrir cuáles son los procedimientos fundamentales para cumplir con la norma ISO 45001.\n\n[/vc_column_text]\n				 \n			[vc_column_text] \nDirigido a\nEl programa está dirigido a responsables de Sistemas de Gestión; técnicos de Sistemas de Gestión; auditores internos; responsables de procesos; personal técnico; profesionales relacionados con los Sistemas de Gestión; y profesionales técnicos que desean orientar su desarrollo de carrera hacia los Sistemas de Gestión.[/vc_column_text][/vc_column_inner][/vc_row_inner][vc_row_inner el_class=»slider-docentes info-evento» el_id=»grid-docentes»][vc_column_inner el_id=»docente»]\n				 \n			[vc_column_text] \nNuestros ponentes\n[/vc_column_text]\n        \n        \n            \n                 \n                \n                    \n            Belén León ??\n          \nASESORA ACADÉMICA DE LA ESCUELA EUROPEA DE EXCELENCIA\n \n                \n                \n            \n        \n    \n        \n            \n                 \n                \n                    \n            Gilberth Araujo ??\n          \nDIRECTOR ACADÉMICO | DOCENTE DIPLOMADO 27001 Y DIPLOMADO 45001\nIngeniero Electricista y especialista en sistemas de gestión de la calidad\, sistemas de gestión de la energía\, sistemas de gestión de seguridad de la información e investigación en gestión de negocios. \n            VER DOCENTE\n        \n                \n                \n            \n        \n    \n        \n            \n                 \n                \n                    \n            Verónica León ??\n          \nPROFESIONAL-SENIOR DE SISTEMAS DE GESTIÓN DE CALIDAD\n \n                \n                \n            \n        \n    \n	[/vc_column_inner][/vc_row_inner][vc_row_inner el_class=»info-evento»][vc_column_inner]\n	\n				 \n			[vc_column_text] \nEmpresas colaboradoras\n[/vc_column_text][/vc_column_inner][/vc_row_inner][vc_row_inner css=».vc_custom_1633527720072{margin-top: 10px !important;margin-bottom: 10px !important;}»][vc_column_inner width=»1/3″][vc_single_image image=»21099498″ alignment=»center» css_animation=»fadeIn»][/vc_column_inner][vc_column_inner width=»1/3″][vc_single_image image=»21099497″ alignment=»center» css_animation=»fadeIn»][/vc_column_inner][vc_column_inner width=»1/3″][/vc_column_inner][/vc_row_inner][/vc_column][vc_column offset=»vc_col-lg-4 vc_col-md-4″][/vc_column][/vc_row][/vc_section]
URL:https://www.escuelaeuropeaexcelencia.com/evento/webinar-procesos-y-procedimientos-fundamentales-para-un-sgsst-con-la-iso-45001/
CATEGORIES:Calidad,Eventos Club Alumni
ATTACH;FMTTYPE=image/jpeg:https://www.escuelaeuropeaexcelencia.com/wp-content/uploads/2022/12/WB_08-02-2023.jpg
END:VEVENT
BEGIN:VEVENT
DTSTART;VALUE=DATE:20230215
DTEND;VALUE=DATE:20230216
DTSTAMP:20260423T104850
CREATED:20221201T133015Z
LAST-MODIFIED:20230215T144905Z
UID:21121801-1676419200-1676505599@www.escuelaeuropeaexcelencia.com
SUMMARY:Webinar: Debate sobre el Global Risk Report 2023 del Foro Económico Mundial
DESCRIPTION:[vc_section css_animation=»none» el_class=»puntos-y eventos» css=».vc_custom_1631751554371{background-color: #f3f1f1 !important;}» el_id=»main-curso-eee»][vc_row el_class=»sticky-eee sticky-cursos»][vc_column el_class=»info-evento» offset=»vc_col-lg-9 vc_col-md-8 vc_hidden-sm vc_hidden-xs»][/vc_column][vc_column el_class=»wpb_animate_when_almost_visible wpb_bottom-to-top bottom-to-top wpb_start_animation animated» offset=»vc_col-lg-3 vc_col-md-4″][vc_row_inner el_id=»sidebar-ficha-eee» el_class=»wpb_animate_when_almost_visible wpb_bottom-to-top bottom-to-top wpb_start_animation animated»][vc_column_inner el_class=»box-sidebar-ficha evento»]\n		¡QUIERO INSCRIBIRME! \n	[vc_column_text el_class=»fecha-evento»] \nFecha:\n[/vc_column_text][vc_acf field_group=»21099038″ field_from_21099038=»field_619b86bc5eb64″ field_from_99038=»field_6143b5884b940″ el_class=»fechaES»][vc_column_text el_class=»country-evento»]Horario \n\n España ⇨ 20:00-22:00h.\n?? Ecuador ⇨ 14:00-16:00h.\n Colombia ⇨ 14:00-16:00h.\n Perú ⇨ 14:00-16:00h.\n Chile ⇨ 16:00-18:00h.\n México ⇨ 13:00-15:00h.\n Argentina ⇨ 16:00-18:00h.\n\n[/vc_column_text][/vc_column_inner][/vc_row_inner][/vc_column][/vc_row][vc_row el_class=»main-info-curso main-eventos»][vc_column el_class=»info-evento check» offset=»vc_col-lg-8 vc_col-md-8″][vc_row_inner el_class=»info-evento»][vc_column_inner][vc_column_text]El Global Risk Report 2023 del Foro Económico Mundial es una mirada integral basada en datos sobre los mayores desafíos que enfrenta nuestro mundo hoy. Reúne a expertos en riesgos de todas las industrias globales para evaluar el estado de los riesgos globales y cómo es probable que evolucionen durante la próxima década. \nEl informe incluye capítulos sobre cinco categorías principales: infraestructura\, conectividad\, automatización\, cambio climático y geopolítica. Cada capítulo incluye una descripción general de los riesgos de su categoría\, qué factores impulsan esos riesgos y qué se puede hacer para mitigarlos. \nAdemás de brindar una descripción general de estas amplias categorías\, el informe también ofrece un análisis detallado de varios riesgos específicos: ciberdelincuencia; desastres naturales; inseguridad alimentaria; guerra cibernética; cambio climático; enfermedad pandémica; y crisis del agua. Los autores también discuten lo que han aprendido sobre cómo podemos responder de manera efectiva en cada área donde hay amenazas significativas y donde hay oportunidades para soluciones creativas que pueden ayudarnos a superar estos desafíos y crear nuevas oportunidades de crecimiento.[/vc_column_text][/vc_column_inner][/vc_row_inner][vc_row_inner el_class=»info-evento»][vc_column_inner]\n				 \n			[vc_column_text] \nObjetivos\nEl objetivo de este Webinar es conocer\, por medio de un debate\, las conclusiones alcanzadas por el Global Risk Report 2023 del Foro Económico Mundial.[/vc_column_text]\n				 \n			[vc_column_text] \nBeneficios de asistir a este evento\n\nObtener una visión del Global Risk Report 2023 como gran recurso para cualquier gestor de riesgos.\nDescubrir cuáles son los riesgos más importantes del año\, según lo determinado por un panel de expertos de todo el mundo.\n\n[/vc_column_text]\n				 \n			[vc_column_text] \nDirigido a\nEl programa está dirigido a responsables de Sistemas de Gestión; técnicos de Sistemas de Gestión; auditores internos; responsables de procesos; personal técnico; profesionales relacionados con los Sistemas de Gestión; y profesionales técnicos que desean orientar su desarrollo de carrera hacia los Sistemas de Gestión.[/vc_column_text][/vc_column_inner][/vc_row_inner][vc_row_inner el_class=»slider-docentes info-evento» el_id=»grid-docentes»][vc_column_inner el_id=»docente»]\n				 \n			[vc_column_text] \nNuestros ponentes\n[/vc_column_text]\n        \n        \n            \n                 \n                \n                    \n            Belén León ??\n          \nASESORA ACADÉMICA DE LA ESCUELA EUROPEA DE EXCELENCIA\n \n                \n                \n            \n        \n    \n        \n            \n                 \n                \n                    \n            Gilberth Araujo ??\n          \nDIRECTOR ACADÉMICO | DOCENTE DIPLOMADO 27001 Y DIPLOMADO 45001\nIngeniero Electricista y especialista en sistemas de gestión de la calidad\, sistemas de gestión de la energía\, sistemas de gestión de seguridad de la información e investigación en gestión de negocios. \n            VER DOCENTE\n        \n                \n                \n            \n        \n    \n        \n            \n                 \n                \n                    \n            Óscar Jesús Quintero Arjona ??\n          \nDOCENTE DEL DIPLOMADO RISK MANAGER\nIngeniero Industrial\, Magister en Administración de negocios. Gerente de Sistemas de Gestión de la Calidad. \n            VER DOCENTE\n        \n                \n                \n            \n        \n    \n	[/vc_column_inner][/vc_row_inner][vc_row_inner el_class=»info-evento»][vc_column_inner]\n	\n				 \n			[vc_column_text] \nEmpresas colaboradoras\n[/vc_column_text][/vc_column_inner][/vc_row_inner][vc_row_inner css=».vc_custom_1633527720072{margin-top: 10px !important;margin-bottom: 10px !important;}»][vc_column_inner width=»1/3″][vc_single_image image=»21099498″ alignment=»center» css_animation=»fadeIn»][/vc_column_inner][vc_column_inner width=»1/3″][vc_single_image image=»21099497″ alignment=»center» css_animation=»fadeIn»][/vc_column_inner][vc_column_inner width=»1/3″][/vc_column_inner][/vc_row_inner][/vc_column][vc_column offset=»vc_col-lg-4 vc_col-md-4″][/vc_column][/vc_row][/vc_section]
URL:https://www.escuelaeuropeaexcelencia.com/evento/webinar-debate-sobre-el-global-risk-report-2023-del-foro-economico-mundial/
CATEGORIES:Calidad,Eventos Club Alumni
ATTACH;FMTTYPE=image/jpeg:https://www.escuelaeuropeaexcelencia.com/wp-content/uploads/2022/12/WB_15-02-2023.jpg
END:VEVENT
BEGIN:VEVENT
DTSTART;VALUE=DATE:20230222
DTEND;VALUE=DATE:20230223
DTSTAMP:20260423T104850
CREATED:20221201T134848Z
LAST-MODIFIED:20230222T152725Z
UID:21122051-1677024000-1677110399@www.escuelaeuropeaexcelencia.com
SUMMARY:Webinar: Medición de la madurez de los SGSI basados en la norma ISO/IEC 27001:2022
DESCRIPTION:[vc_section css_animation=»none» el_class=»puntos-y eventos» css=».vc_custom_1631751554371{background-color: #f3f1f1 !important;}» el_id=»main-curso-eee»][vc_row el_class=»sticky-eee sticky-cursos»][vc_column el_class=»info-evento» offset=»vc_col-lg-9 vc_col-md-8 vc_hidden-sm vc_hidden-xs»][/vc_column][vc_column el_class=»wpb_animate_when_almost_visible wpb_bottom-to-top bottom-to-top wpb_start_animation animated» offset=»vc_col-lg-3 vc_col-md-4″][vc_row_inner el_id=»sidebar-ficha-eee» el_class=»wpb_animate_when_almost_visible wpb_bottom-to-top bottom-to-top wpb_start_animation animated»][vc_column_inner el_class=»box-sidebar-ficha evento»]\n		¡QUIERO INSCRIBIRME! \n	[vc_column_text el_class=»fecha-evento»] \nFecha:\n[/vc_column_text][vc_acf field_group=»21099038″ field_from_21099038=»field_619b86bc5eb64″ field_from_99038=»field_6143b5884b940″ el_class=»fechaES»][vc_column_text el_class=»country-evento»]Horario \n\n España ⇨ 20:00-22:00h.\n?? Ecuador ⇨ 14:00-16:00h.\n Colombia ⇨ 14:00-16:00h.\n Perú ⇨ 14:00-16:00h.\n Chile ⇨ 16:00-18:00h.\n México ⇨ 13:00-15:00h.\n Argentina ⇨ 16:00-18:00h.\n\n[/vc_column_text][/vc_column_inner][/vc_row_inner][/vc_column][/vc_row][vc_row el_class=»main-info-curso main-eventos»][vc_column el_class=»info-evento check» offset=»vc_col-lg-8 vc_col-md-8″][vc_row_inner el_class=»info-evento»][vc_column_inner][vc_column_text]La madurez de un SGSI debe medirse según el estándar ISO/IEC 27001:2022. Este es un estándar reconocido a nivel mundial para los sistemas de gestión de seguridad de la información\, y muchas empresas lo utilizan para evaluar la madurez de su seguridad. \nEl proceso de medición se divide en tres etapas: inicio\, planificación e implementación. Cada etapa tiene su propio conjunto de requisitos que deben cumplirse antes de pasar a la siguiente etapa. \nEl sistema está en su etapa de madurez cuando no se han encontrado cambios desde la prueba y validación inicial\, lo que significa que no hay problemas con la funcionalidad o el rendimiento en este momento. ¡Esto significa que está listo para la certificación![/vc_column_text][/vc_column_inner][/vc_row_inner][vc_row_inner el_class=»info-evento»][vc_column_inner]\n				 \n			[vc_column_text] \nObjetivos\nEl objetivo de este Webinar es conocer cómo llevar a cabo la medición de la madurez de los Sistemas de Gestión de Seguridad de la Información basado en la recientemente actualizada ISO/IEC 27001.[/vc_column_text]\n				 \n			[vc_column_text] \nBeneficios de asistir a este evento\n\nObtener una visión completa acerca de cómo llevar a cabo la medición de la madurez de un SGSI.\nDescubrir cuál es el rol que desempeña la norma ISO/IEC 27001:2022 en dicho proceso.\n\n[/vc_column_text]\n				 \n			[vc_column_text] \nDirigido a\nEste evento está dirigido a responsables de seguridad de la información\, mandos intermedios o técnicos\, así como a todos aquellos profesionales que quieran adquirir los conocimientos necesarios para poder liderar la implementación y las auditorías internas de los Sistemas de Gestión de Seguridad de la Información basados en la ISO/IEC 27001:2022. [/vc_column_text][/vc_column_inner][/vc_row_inner][vc_row_inner el_class=»slider-docentes info-evento» el_id=»grid-docentes»][vc_column_inner el_id=»docente»]\n				 \n			[vc_column_text] \nNuestros ponentes\n[/vc_column_text]\n        \n        \n            \n                 \n                \n                    \n            Belén León ??\n          \nASESORA ACADÉMICA DE LA ESCUELA EUROPEA DE EXCELENCIA\n \n                \n                \n            \n        \n    \n        \n            \n                 \n                \n                    \n            Gilberth Araujo ??\n          \nDIRECTOR ACADÉMICO | DOCENTE DIPLOMADO 27001 Y DIPLOMADO 45001\nIngeniero Electricista y especialista en sistemas de gestión de la calidad\, sistemas de gestión de la energía\, sistemas de gestión de seguridad de la información e investigación en gestión de negocios. \n            VER DOCENTE\n        \n                \n                \n            \n        \n    \n        \n            \n                 \n                \n                    \n            Franselys Araujo ??\n          \nESPECIALISTA EN DISEÑO\, IMPLEMENTACIÓN Y MANTENIMIENTO DE SISTEMAS DE GESTIÓN\n \n                \n                \n            \n        \n    \n	[/vc_column_inner][/vc_row_inner][vc_row_inner el_class=»info-evento»][vc_column_inner]\n	\n				 \n			[vc_column_text] \nEmpresas colaboradoras\n[/vc_column_text][/vc_column_inner][/vc_row_inner][vc_row_inner css=».vc_custom_1633527720072{margin-top: 10px !important;margin-bottom: 10px !important;}»][vc_column_inner width=»1/3″][vc_single_image image=»21099498″ alignment=»center» css_animation=»fadeIn»][/vc_column_inner][vc_column_inner width=»1/3″][vc_single_image image=»21099497″ alignment=»center» css_animation=»fadeIn»][/vc_column_inner][vc_column_inner width=»1/3″][/vc_column_inner][/vc_row_inner][/vc_column][vc_column offset=»vc_col-lg-4 vc_col-md-4″][/vc_column][/vc_row][/vc_section]
URL:https://www.escuelaeuropeaexcelencia.com/evento/webinar-medicion-de-la-madurez-de-los-sgsi-basados-en-la-norma-iso-iec-270012022/
CATEGORIES:Eventos Club Alumni,Seguridad de la Información
ATTACH;FMTTYPE=image/webp:https://www.escuelaeuropeaexcelencia.com/wp-content/uploads/2023/01/WB_22-02-2023.webp
END:VEVENT
END:VCALENDAR